{"text_format":"1","workbook":"xlsx","n_sheets":4,"sheets":["Invulblad","Berekeningen","Invulinstructie","Verborgen berekeningen"],"not_rendered":{"charts":8,"images":0,"macros":1,"external_links":0,"defined_names":15,"comments":0,"pivot_tables":0},"unopened":[],"bounds":{"document_bytes":16777216,"sheet_cells":100000,"rows_first":2000,"rows_last":500,"rows_between":2000,"halvings":0,"cell_chars":16384,"cell_head_chars":4096},"cells_cut":0,"cells_raw":0,"read":"whole","date_system":"1900"}

{"sheet":"Invulblad","index":0,"n_rows":26,"n_cols":24,"rows_kept":26,"cut":false,"hidden":false,"merged":[[0,0,0,23],[1,20,1,22],[1,17,1,19],[1,9,1,11],[1,0,1,8],[1,12,1,16]]}
["Registratieformulier voor de werkzaamheden van de buurtsportcoach"]
["Actiekenmerken",null,null,null,null,null,null,null,null,"Doel van de actie",null,null,"Deelnemers",null,null,null,null,"Partners",null,null,"Eindoordeel",null,null,"Aanvullende documentatie"]
["ID","Wanneer vond de actie/activiteit plaats?","Ingevoerd door (naam)","Omschrijving actie/activiteit","Wijk(en) of hele gemeente","Doelgroep","Setting","Soort actie/activiteit","Frequentie actie/activiteit","Welk doel (1/3)?","Welk doel (2/3)?","Welk doel (3/3)?","Totaal aantal deelnemers","Aantal nieuwe deelnemers","Hoeveel van de deelnemers zijn de beoogde doelgroep? (eventueel geschat aantal)","Is het een terugkerende activiteit waaraan dezelfde deelnemers meedoen?","Indien terugkerende activiteit: hoe vaak heeft de activiteit plaatsgevonden?","Waren ook andere organisaties betrokken?","Zo ja, hoeveel andere organisaties waren betrokken?","Zo ja, welke (opsomming)?","Tevredenheid actie/activiteit","Wat verliep goed? Waar ben je trots op?","Wat kan beter? \n(leerpunten)","Draaiboek beschikbaar? Informatie aanwezig?"]
["Instructie","Open, datum","Open","Open","Gesloten","Gesloten","Gesloten","Gesloten","Gesloten","Gesloten","Gesloten","Gesloten","Open","Open","Open","Gesloten","Open","Gesloten","Open","Open","Gesloten","Open","Open","Open, link naar website/documenten"]
[null,null,null,null,"Hele gemeente","0 tot 4 jaar","Sport","Beweegactiviteit uitvoeren","Eenmalig","Vitalere ouderen",{"$f":"J5","v":"Vitalere ouderen"},{"$f":"K5","v":"Vitalere ouderen"},null,null,null,"Ja",null,"Ja",null,null,"Zeer tevreden"]
[null,null,null,null,"Deel gemeente","4 tot 12 jaar","Kunst & Cultuur","Beweegactiviteit organiseren","Wekelijks","Preventie eenzaamheid",{"$f":"J6","v":"Preventie eenzaamheid"},"Preventie eenzaamheid",null,null,null,"Nee",null,"Nee",null,null,"Tevreden"]
[null,null,null,null,"Regio","12 tot 18 jaar","Onderwijs","Communicatie/PR","Maandelijks","Lokaal doel 3","Lokaal doel 3","Lokaal doel 3",null,null,null,null,null,null,null,null,"Niet tevreden/niet ontevreden"]
[null,null,null,null,"Wijknaam 1:","18 tot 45 jaar","Welzijn","Bijeenkomst organiseren","Ieder kwartaal","Lokaal doel 4","Lokaal doel 4","Lokaal doel 4",null,null,null,null,null,null,null,null,"Ontevreden"]
[null,null,null,null,"Wijknaam 2:","45 tot 65 jaar","Jeugd(zorg)","Voorlichting","Ieder halfjaar","Lokaal doel 5","Lokaal doel 5","Lokaal doel 5",null,null,null,null,null,null,null,null,"Zeer ontevreden"]
[null,null,null,null,"Wijknaam 3:","65-plussers","Gezondheidszorg","Individuele begeleiding","Jaarlijks","Lokaal doel 6","Lokaal doel 6","Lokaal doel 6"]
[null,null,null,null," ","Mensen met een beperking","Gehandicaptenzorg","Overleg (intern + extern)"," ","Lokaal doel 7","Lokaal doel 7","Lokaal doel 7"]
[null,null,null,null," ","Mensen met migratieachtergrond","Buurt","Opleiden"," ","Lokaal doel 8","Lokaal doel 8","Lokaal doel 8"]
[null,null,null,null," ","Jeugd in arme wijken","Kinderopvang","Ondersteunen beleid/kader"," ","Lokaal doel 9","Lokaal doel 9","Lokaal doel 9"]
[null,null,null,null," ","Mensen met laag inkomen","Ouderen(zorg)","Contact maken/verbinden"," ","Lokaal doel 10","Lokaal doel 10","Lokaal doel 10"]
[null,null,null,null," ","Sportverenigingen","Bedrijfsleven","Gymles"," ","Lokaal doel 11","Lokaal doel 11","Lokaal doel 11"]
[null,null,null,null," ","Partners","Vluchtelingenwerk","Doorverwijzen"," ","Lokaal doel 12","Lokaal doel 12","Lokaal doel 12"]
[null,null,null,null," "," "," "," "," ","Lokaal doel 13","Lokaal doel 13","Lokaal doel 13"]
[null,null,null,null," "," "," "," "," ","Lokaal doel 14","Lokaal doel 14","Lokaal doel 14"]
[null,null,null,null," "," "," "," "," ","Lokaal doel 15","Lokaal doel 15","Lokaal doel 15"]
[null,null,null,null," "," "," "," "," ","Niet van toepassing","Niet van toepassing","Niet van toepassing"]
[]
["1 (voorbeeld)","2018-09-22","Asha Gommers","Overleg werkgroep M&E","Hele gemeente","Partners","Sport","Bijeenkomst organiseren","Ieder halfjaar","Niet van toepassing","Niet van toepassing","Niet van toepassing","Niet van toepassing","Niet van toepassing","Niet van toepassing","Nee","Niet van toepassing","Ja",3,"GGD, gemeente, sportservice","Niet tevreden/niet ontevreden","Afstemming over evaluatieplan","Niet van toepassing","Gespreksverslag opgesteld"]
["2 (voorbeeld)","2018-10-01","Asha Gommers","Beweeggroep Fit op Leeftijd","Deel gemeente","65-plussers","Buurt","Beweegactiviteit uitvoeren","Wekelijks","Vitalere ouderen","Preventie eenzaamheid","Niet van toepassing",16,3,15,"Ja",10,"Ja",1,"Buurthuis","Zeer tevreden","Aantal deelnemers blijft toenemen, huidige deelnemers blijven","Deelnemers nog niet gemotiveerd om door te stromen naar ander structureel aanbod","Nog niet, website wordt opgezet"]
[3]
[4]
[5]

{"sheet":"Berekeningen","index":1,"n_rows":42,"n_cols":41,"rows_kept":42,"cut":false,"hidden":false,"merged":[[20,28,20,29],[2,36,2,37],[2,31,2,32],[2,33,2,34],[0,36,0,39],[0,31,0,35],[1,36,1,37],[1,33,1,34],[1,31,1,32],[0,21,0,29],[2,29,2,30],[1,29,1,30],[2,25,2,26],[1,27,1,28],[2,27,2,28],[1,25,1,26],[3,0,18,0],[1,11,1,12],[1,15,1,16],[1,19,1,20],[1,23,1,24],[1,21,1,22],[2,23,2,24],[2,21,2,22],[2,11,2,12],[2,5,2,6],[1,5,1,6],[1,9,1,10],[2,17,2,18],[2,15,2,16],[2,13,2,14],[1,17,1,18],[2,7,2,8],[1,13,1,14],[2,9,2,10],[2,19,2,20],[0,1,0,14],[1,7,1,8],[0,15,0,20]]}
["Categorie",{"$f":"Invulblad!A2","v":"Actiekenmerken"},null,null,null,null,null,null,null,null,null,null,null,null,null,{"$f":"Invulblad!J2","v":"Doel van de actie"},null,null,null,null,null,{"$f":"Invulblad!M2","v":"Deelnemers"},null,null,null,null,null,null,null,null,null,{"$f":"Invulblad!R2","v":"Partners"},null,null,null,null,{"$f":"Invulblad!U2","v":"Eindoordeel"},null,null,null,{"$f":"Invulblad!X2","v":"Aanvullende documentatie"}]
["Titel",{"$f":"Invulblad!A3","v":"ID"},{"$f":"Invulblad!B3","v":"Wanneer vond de actie/activiteit plaats?"},{"$f":"Invulblad!C3","v":"Ingevoerd door (naam)"},{"$f":"Invulblad!D3","v":"Omschrijving actie/activiteit"},{"$f":"Invulblad!E3","v":"Wijk(en) of hele gemeente"},null,{"$f":"Invulblad!F3","v":"Doelgroep"},null,{"$f":"Invulblad!G3","v":"Setting"},null,{"$f":"Invulblad!H3","v":"Soort actie/activiteit"},null,{"$f":"Invulblad!I3","v":"Frequentie actie/activiteit"},null,{"$f":"Invulblad!J3","v":"Welk doel (1/3)?"},null,{"$f":"Invulblad!K3","v":"Welk doel (2/3)?"},null,{"$f":"Invulblad!L3","v":"Welk doel (3/3)?"},null,{"$f":"Invulblad!M3","v":"Totaal aantal deelnemers"},null,{"$f":"Invulblad!N3","v":"Aantal nieuwe deelnemers"},null,{"$f":"Invulblad!O3","v":"Hoeveel van de deelnemers zijn de beoogde doelgroep? (eventueel geschat aantal)"},null,{"$f":"Invulblad!P3","v":"Is het een terugkerende activiteit waaraan dezelfde deelnemers meedoen?"},null,"Indien terugkerende activiteit: hoe vaak heeft de activiteit plaatsgevonden?",null,{"$f":"Invulblad!R3","v":"Waren ook andere organisaties betrokken?"},null,{"$f":"Invulblad!S3","v":"Zo ja, hoeveel andere organisaties waren betrokken?"},null,{"$f":"Invulblad!T3","v":"Zo ja, welke (opsomming)?"},{"$f":"Invulblad!U3","v":"Tevredenheid actie/activiteit"},null,{"$f":"Invulblad!V3","v":"Wat verliep goed? Waar ben je trots op?"},{"$f":"Invulblad!W3","v":"Wat kan beter? \n(leerpunten)"},{"$f":"Invulblad!X3","v":"Draaiboek beschikbaar? Informatie aanwezig?"}]
["Aantal ingevuld",{"$f":"COUNTA(Invulblad!A22:A1048576)","v":5},{"$f":"COUNTA(Invulblad!B22:B1048576)","v":2},{"$f":"COUNTA(Invulblad!C22:C1048576)","v":2},{"$f":"COUNTA(Invulblad!D22:D1048576)","v":2},{"$f":"COUNTA(Invulblad!E22:E1048576)","v":2},null,{"$f":"COUNTA(Invulblad!F22:F1048576)","v":2},null,{"$f":"COUNTA(Invulblad!G22:G1048576)","v":2},null,{"$f":"COUNTA(Invulblad!H22:H1048576)","v":2},null,{"$f":"COUNTA(Invulblad!I22:I1048576)","v":2},null,{"$f":"COUNTA(Invulblad!J22:J1048576)","v":2},null,{"$f":"COUNTA(Invulblad!K22:K1048576)","v":2},null,{"$f":"COUNTA(Invulblad!L22:L1048576)","v":2},null,{"$f":"COUNTA(Invulblad!M22:M1048576)","v":2},null,{"$f":"COUNTA(Invulblad!N22:N1048576)","v":2},null,{"$f":"COUNTA(Invulblad!O22:O1048576)","v":2},null,{"$f":"COUNTA(Invulblad!P22:P1048576)","v":2},null,{"$f":"COUNTA(Invulblad!Q22:Q1048576)","v":2},null,{"$f":"COUNTA(Invulblad!R22:R1048576)","v":2},null,{"$f":"COUNTA(Invulblad!S22:S1048576)","v":2},null,{"$f":"COUNTA(Invulblad!T22:T1048576)","v":2},{"$f":"COUNTA(Invulblad!U22:U1048576)","v":2},null,{"$f":"COUNTA(Invulblad!V22:V1048576)","v":2},{"$f":"COUNTA(Invulblad!W22:W1048576)","v":2},{"$f":"COUNTA(Invulblad!X22:X1048576)","v":2}]
["Antwoorden + aantal",null,null,null,null,{"$f":"Invulblad!E5","v":"Hele gemeente"},{"$f":"COUNTIF(Invulblad!$E$22:$E$1048576,Berekeningen!F4)","v":1},{"$f":"Invulblad!F5","v":"0 tot 4 jaar"},{"$f":"COUNTIF(Invulblad!$F$22:$F$1048576,Berekeningen!H4)","v":0},{"$f":"Invulblad!G5","v":"Sport"},{"$f":"COUNTIF(Invulblad!$G$22:$G$1048576,Berekeningen!J4)","v":1},{"$f":"Invulblad!H5","v":"Beweegactiviteit uitvoeren"},{"$f":"COUNTIF(Invulblad!$H$22:$H$1048576,Berekeningen!L4)","v":1},{"$f":"Invulblad!I5","v":"Eenmalig"},{"$f":"COUNTIF(Invulblad!$I$22:$I$1048576,Berekeningen!N4)","v":0},{"$f":"Invulblad!J5","v":"Vitalere ouderen"},{"$f":"COUNTIF(Invulblad!$J$22:$J$1048576,Berekeningen!P4)","v":1},{"$f":"Invulblad!K5","v":"Vitalere ouderen"},{"$f":"COUNTIF(Invulblad!$K$22:$K$1048576,Berekeningen!R4)","v":0},{"$f":"Invulblad!L5","v":"Vitalere ouderen"},{"$f":"COUNTIF(Invulblad!$L$22:$L$1048576,Berekeningen!T4)","v":0},"Minimum",{"$f":"MIN(Invulblad!M22:M1048576,Berekeningen!V4)","v":16},"Minimum",{"$f":"MIN(Invulblad!N22:N1048576,Berekeningen!X4)","v":3},"Minimum",{"$f":"MIN(Invulblad!O22:O1048576,Berekeningen!Z4)","v":15},{"$f":"Invulblad!P5","v":"Ja"},{"$f":"COUNTIF(Invulblad!P22:P1048576,Berekeningen!AB4)","v":1},"Minimum",{"$f":"MIN(Invulblad!Q22:Q1048576,Berekeningen!AD4)","v":10},{"$f":"Invulblad!R5","v":"Ja"},{"$f":"COUNTIF(Invulblad!R22:R1048576,Berekeningen!AF4)","v":2},"Minimum",{"$f":"MIN(Invulblad!S22:S1048576,Berekeningen!AH4)","v":1},null,{"$f":"Invulblad!U5","v":"Zeer tevreden"},{"$f":"COUNTIF(Invulblad!U22:U1048576,Berekeningen!AK4)","v":1}]
[null,null,null,null,null,{"$f":"Invulblad!E6","v":"Deel gemeente"},{"$f":"COUNTIF(Invulblad!$E$22:$E$1048576,Berekeningen!F5)","v":1},{"$f":"Invulblad!F6","v":"4 tot 12 jaar"},{"$f":"COUNTIF(Invulblad!$F$22:$F$1048576,Berekeningen!H5)","v":0},{"$f":"Invulblad!G6","v":"Kunst & Cultuur"},{"$f":"COUNTIF(Invulblad!$G$22:$G$1048576,Berekeningen!J5)","v":0},{"$f":"Invulblad!H6","v":"Beweegactiviteit organiseren"},{"$f":"COUNTIF(Invulblad!$H$22:$H$1048576,Berekeningen!L5)","v":0},{"$f":"Invulblad!I6","v":"Wekelijks"},{"$f":"COUNTIF(Invulblad!$I$22:$I$1048576,Berekeningen!N5)","v":1},{"$f":"Invulblad!J6","v":"Preventie eenzaamheid"},{"$f":"COUNTIF(Invulblad!$J$22:$J$1048576,Berekeningen!P5)","v":0},{"$f":"Invulblad!K6","v":"Preventie eenzaamheid"},{"$f":"COUNTIF(Invulblad!$K$22:$K$1048576,Berekeningen!R5)","v":1},{"$f":"Invulblad!L6","v":"Preventie eenzaamheid"},{"$f":"COUNTIF(Invulblad!$L$22:$L$1048576,Berekeningen!T5)","v":0},"Maximum",{"$f":"MAX(Invulblad!M22:M1048576,Berekeningen!V5)","v":16},"Maximum",{"$f":"MAX(Invulblad!N22:N1048576,Berekeningen!X5)","v":3},"Maximum",{"$f":"MAX(Invulblad!O22:O1048576,Berekeningen!Z5)","v":15},{"$f":"Invulblad!P6","v":"Nee"},{"$f":"COUNTIF(Invulblad!P22:P1048576,Berekeningen!AB5)","v":1},"Maximum",{"$f":"MAX(Invulblad!Q22:Q1048576,Berekeningen!AD5)","v":10},{"$f":"Invulblad!R6","v":"Nee"},{"$f":"COUNTIF(Invulblad!R22:R1048576,Berekeningen!AF5)","v":0},"Maximum",{"$f":"MAX(Invulblad!S22:S1048576,Berekeningen!AH5)","v":3},null,{"$f":"Invulblad!U6","v":"Tevreden"},{"$f":"COUNTIF(Invulblad!U22:U1048576,Berekeningen!AK5)","v":0}]
[null,null,null,null,null,{"$f":"Invulblad!E7","v":"Regio"},{"$f":"COUNTIF(Invulblad!$E$22:$E$1048576,Berekeningen!F6)","v":0},{"$f":"Invulblad!F7","v":"12 tot 18 jaar"},{"$f":"COUNTIF(Invulblad!$F$22:$F$1048576,Berekeningen!H6)","v":0},{"$f":"Invulblad!G7","v":"Onderwijs"},{"$f":"COUNTIF(Invulblad!$G$22:$G$1048576,Berekeningen!J6)","v":0},{"$f":"Invulblad!H7","v":"Communicatie/PR"},{"$f":"COUNTIF(Invulblad!$H$22:$H$1048576,Berekeningen!L6)","v":0},{"$f":"Invulblad!I7","v":"Maandelijks"},{"$f":"COUNTIF(Invulblad!$I$22:$I$1048576,Berekeningen!N6)","v":0},{"$f":"Invulblad!J7","v":"Lokaal doel 3"},{"$f":"COUNTIF(Invulblad!$J$22:$J$1048576,Berekeningen!P6)","v":0},{"$f":"Invulblad!K7","v":"Lokaal doel 3"},{"$f":"COUNTIF(Invulblad!$K$22:$K$1048576,Berekeningen!R6)","v":0},{"$f":"Invulblad!L7","v":"Lokaal doel 3"},{"$f":"COUNTIF(Invulblad!$L$22:$L$1048576,Berekeningen!T6)","v":0},"Gemiddelde",{"$f":"AVERAGE(Invulblad!M22:M1048576,Berekeningen!V6)","v":16},"Gemiddelde",{"$f":"AVERAGE(Invulblad!N22:N1048576,Berekeningen!X6)","v":3},"Gemiddelde",{"$f":"AVERAGE(Invulblad!O22:O1048576,Berekeningen!Z6)","v":15},null,null,"Gemiddelde",{"$f":"AVERAGE(Invulblad!Q22:Q1048576,Berekeningen!AD6)","v":10},null,null,"Gemiddelde",{"$f":"AVERAGE(Invulblad!S22:S1048576,Berekeningen!AH6)","v":2},null,{"$f":"Invulblad!U7","v":"Niet tevreden/niet ontevreden"},{"$f":"COUNTIF(Invulblad!U22:U1048576,Berekeningen!AK6)","v":1}]
[null,null,null,null,null,{"$f":"Invulblad!E8","v":"Wijknaam 1:"},{"$f":"COUNTIF(Invulblad!$E$22:$E$1048576,Berekeningen!F7)","v":0},{"$f":"Invulblad!F8","v":"18 tot 45 jaar"},{"$f":"COUNTIF(Invulblad!$F$22:$F$1048576,Berekeningen!H7)","v":0},{"$f":"Invulblad!G8","v":"Welzijn"},{"$f":"COUNTIF(Invulblad!$G$22:$G$1048576,Berekeningen!J7)","v":0},{"$f":"Invulblad!H8","v":"Bijeenkomst organiseren"},{"$f":"COUNTIF(Invulblad!$H$22:$H$1048576,Berekeningen!L7)","v":1},{"$f":"Invulblad!I8","v":"Ieder kwartaal"},{"$f":"COUNTIF(Invulblad!$I$22:$I$1048576,Berekeningen!N7)","v":0},{"$f":"Invulblad!J8","v":"Lokaal doel 4"},{"$f":"COUNTIF(Invulblad!$J$22:$J$1048576,Berekeningen!P7)","v":0},{"$f":"Invulblad!K8","v":"Lokaal doel 4"},{"$f":"COUNTIF(Invulblad!$K$22:$K$1048576,Berekeningen!R7)","v":0},{"$f":"Invulblad!L8","v":"Lokaal doel 4"},{"$f":"COUNTIF(Invulblad!$L$22:$L$1048576,Berekeningen!T7)","v":0},"Totaal aantal",{"$f":"SUM(Invulblad!M22:M1048576)","v":16},"Totaal aantal",{"$f":"SUM(Invulblad!N22:N1048576)","v":3},"Totaal aantal",{"$f":"SUM(Invulblad!O22:O1048576)","v":15},null,null,"Totaal aantal",{"$f":"SUM(Invulblad!Q22:Q1048576)","v":10},null,null,"Totaal aantal",{"$f":"SUM(Invulblad!S22:S1048576)","v":4},null,{"$f":"Invulblad!U8","v":"Ontevreden"},{"$f":"COUNTIF(Invulblad!U22:U1048576,Berekeningen!AK7)","v":0}]
[null,null,null,null,null,{"$f":"Invulblad!E9","v":"Wijknaam 2:"},{"$f":"COUNTIF(Invulblad!$E$22:$E$1048576,Berekeningen!F8)","v":0},{"$f":"Invulblad!F9","v":"45 tot 65 jaar"},{"$f":"COUNTIF(Invulblad!$F$22:$F$1048576,Berekeningen!H8)","v":0},{"$f":"Invulblad!G9","v":"Jeugd(zorg)"},{"$f":"COUNTIF(Invulblad!$G$22:$G$1048576,Berekeningen!J8)","v":0},{"$f":"Invulblad!H9","v":"Voorlichting"},{"$f":"COUNTIF(Invulblad!$H$22:$H$1048576,Berekeningen!L8)","v":0},{"$f":"Invulblad!I9","v":"Ieder halfjaar"},{"$f":"COUNTIF(Invulblad!$I$22:$I$1048576,Berekeningen!N8)","v":1},{"$f":"Invulblad!J9","v":"Lokaal doel 5"},{"$f":"COUNTIF(Invulblad!$J$22:$J$1048576,Berekeningen!P8)","v":0},{"$f":"Invulblad!K9","v":"Lokaal doel 5"},{"$f":"COUNTIF(Invulblad!$K$22:$K$1048576,Berekeningen!R8)","v":0},{"$f":"Invulblad!L9","v":"Lokaal doel 5"},{"$f":"COUNTIF(Invulblad!$L$22:$L$1048576,Berekeningen!T8)","v":0},null,null,null,null,null,null,null,null,null,null,null,null,null,null,null,{"$f":"Invulblad!U9","v":"Zeer ontevreden"},{"$f":"COUNTIF(Invulblad!U22:U1048576,Berekeningen!AK8)","v":0}]
[null,null,null,null,null,{"$f":"Invulblad!E10","v":"Wijknaam 3:"},{"$f":"COUNTIF(Invulblad!$E$22:$E$1048576,Berekeningen!F9)","v":0},{"$f":"Invulblad!F10","v":"65-plussers"},{"$f":"COUNTIF(Invulblad!$F$22:$F$1048576,Berekeningen!H9)","v":1},{"$f":"Invulblad!G10","v":"Gezondheidszorg"},{"$f":"COUNTIF(Invulblad!$G$22:$G$1048576,Berekeningen!J9)","v":0},{"$f":"Invulblad!H10","v":"Individuele begeleiding"},{"$f":"COUNTIF(Invulblad!$H$22:$H$1048576,Berekeningen!L9)","v":0},{"$f":"Invulblad!I10","v":"Jaarlijks"},{"$f":"COUNTIF(Invulblad!$I$22:$I$1048576,Berekeningen!N9)","v":0},{"$f":"Invulblad!J10","v":"Lokaal doel 6"},{"$f":"COUNTIF(Invulblad!$J$22:$J$1048576,Berekeningen!P9)","v":0},{"$f":"Invulblad!K10","v":"Lokaal doel 6"},{"$f":"COUNTIF(Invulblad!$K$22:$K$1048576,Berekeningen!R9)","v":0},{"$f":"Invulblad!L10","v":"Lokaal doel 6"},{"$f":"COUNTIF(Invulblad!$L$22:$L$1048576,Berekeningen!T9)","v":0}]
[null,null,null,null,null,{"$f":"Invulblad!E11","v":" "},{"$f":"COUNTIF(Invulblad!$E$22:$E$1048576,Berekeningen!F10)","v":0},{"$f":"Invulblad!F11","v":"Mensen met een beperking"},{"$f":"COUNTIF(Invulblad!$F$22:$F$1048576,Berekeningen!H10)","v":0},{"$f":"Invulblad!G11","v":"Gehandicaptenzorg"},{"$f":"COUNTIF(Invulblad!$G$22:$G$1048576,Berekeningen!J10)","v":0},{"$f":"Invulblad!H11","v":"Overleg (intern + extern)"},{"$f":"COUNTIF(Invulblad!$H$22:$H$1048576,Berekeningen!L10)","v":0},{"$f":"Invulblad!I11","v":" "},{"$f":"COUNTIF(Invulblad!$I$22:$I$1048576,Berekeningen!N10)","v":0},{"$f":"Invulblad!J11","v":"Lokaal doel 7"},{"$f":"COUNTIF(Invulblad!$J$22:$J$1048576,Berekeningen!P10)","v":0},{"$f":"Invulblad!K11","v":"Lokaal doel 7"},{"$f":"COUNTIF(Invulblad!$K$22:$K$1048576,Berekeningen!R10)","v":0},{"$f":"Invulblad!L11","v":"Lokaal doel 7"},{"$f":"COUNTIF(Invulblad!$L$22:$L$1048576,Berekeningen!T10)","v":0}]
[null,null,null,null,null,{"$f":"Invulblad!E12","v":" "},{"$f":"COUNTIF(Invulblad!$E$22:$E$1048576,Berekeningen!F11)","v":0},{"$f":"Invulblad!F12","v":"Mensen met migratieachtergrond"},{"$f":"COUNTIF(Invulblad!$F$22:$F$1048576,Berekeningen!H11)","v":0},{"$f":"Invulblad!G12","v":"Buurt"},{"$f":"COUNTIF(Invulblad!$G$22:$G$1048576,Berekeningen!J11)","v":1},{"$f":"Invulblad!H12","v":"Opleiden"},{"$f":"COUNTIF(Invulblad!$H$22:$H$1048576,Berekeningen!L11)","v":0},{"$f":"Invulblad!I12","v":" "},{"$f":"COUNTIF(Invulblad!$I$22:$I$1048576,Berekeningen!N11)","v":0},{"$f":"Invulblad!J12","v":"Lokaal doel 8"},{"$f":"COUNTIF(Invulblad!$J$22:$J$1048576,Berekeningen!P11)","v":0},{"$f":"Invulblad!K12","v":"Lokaal doel 8"},{"$f":"COUNTIF(Invulblad!$K$22:$K$1048576,Berekeningen!R11)","v":0},{"$f":"Invulblad!L12","v":"Lokaal doel 8"},{"$f":"COUNTIF(Invulblad!$L$22:$L$1048576,Berekeningen!T11)","v":0}]
[null,null,null,null,null,{"$f":"Invulblad!E13","v":" "},{"$f":"COUNTIF(Invulblad!$E$22:$E$1048576,Berekeningen!F12)","v":0},{"$f":"Invulblad!F13","v":"Jeugd in arme wijken"},{"$f":"COUNTIF(Invulblad!$F$22:$F$1048576,Berekeningen!H12)","v":0},{"$f":"Invulblad!G13","v":"Kinderopvang"},{"$f":"COUNTIF(Invulblad!$G$22:$G$1048576,Berekeningen!J12)","v":0},{"$f":"Invulblad!H13","v":"Ondersteunen beleid/kader"},{"$f":"COUNTIF(Invulblad!$H$22:$H$1048576,Berekeningen!L12)","v":0},{"$f":"Invulblad!I13","v":" "},{"$f":"COUNTIF(Invulblad!$I$22:$I$1048576,Berekeningen!N12)","v":0},{"$f":"Invulblad!J13","v":"Lokaal doel 9"},{"$f":"COUNTIF(Invulblad!$J$22:$J$1048576,Berekeningen!P12)","v":0},{"$f":"Invulblad!K13","v":"Lokaal doel 9"},{"$f":"COUNTIF(Invulblad!$K$22:$K$1048576,Berekeningen!R12)","v":0},{"$f":"Invulblad!L13","v":"Lokaal doel 9"},{"$f":"COUNTIF(Invulblad!$L$22:$L$1048576,Berekeningen!T12)","v":0}]
[null,null,null,null,null,{"$f":"Invulblad!E14","v":" "},{"$f":"COUNTIF(Invulblad!$E$22:$E$1048576,Berekeningen!F13)","v":0},{"$f":"Invulblad!F14","v":"Mensen met laag inkomen"},{"$f":"COUNTIF(Invulblad!$F$22:$F$1048576,Berekeningen!H13)","v":0},{"$f":"Invulblad!G14","v":"Ouderen(zorg)"},{"$f":"COUNTIF(Invulblad!$G$22:$G$1048576,Berekeningen!J13)","v":0},{"$f":"Invulblad!H14","v":"Contact maken/verbinden"},{"$f":"COUNTIF(Invulblad!$H$22:$H$1048576,Berekeningen!L13)","v":0},{"$f":"Invulblad!I14","v":" "},{"$f":"COUNTIF(Invulblad!$I$22:$I$1048576,Berekeningen!N13)","v":0},{"$f":"Invulblad!J14","v":"Lokaal doel 10"},{"$f":"COUNTIF(Invulblad!$J$22:$J$1048576,Berekeningen!P13)","v":0},{"$f":"Invulblad!K14","v":"Lokaal doel 10"},{"$f":"COUNTIF(Invulblad!$K$22:$K$1048576,Berekeningen!R13)","v":0},{"$f":"Invulblad!L14","v":"Lokaal doel 10"},{"$f":"COUNTIF(Invulblad!$L$22:$L$1048576,Berekeningen!T13)","v":0}]
[null,null,null,null,null,{"$f":"Invulblad!E15","v":" "},{"$f":"COUNTIF(Invulblad!$E$22:$E$1048576,Berekeningen!F14)","v":0},{"$f":"Invulblad!F15","v":"Sportverenigingen"},{"$f":"COUNTIF(Invulblad!$F$22:$F$1048576,Berekeningen!H14)","v":0},{"$f":"Invulblad!G15","v":"Bedrijfsleven"},{"$f":"COUNTIF(Invulblad!$G$22:$G$1048576,Berekeningen!J14)","v":0},{"$f":"Invulblad!H15","v":"Gymles"},{"$f":"COUNTIF(Invulblad!$H$22:$H$1048576,Berekeningen!L14)","v":0},{"$f":"Invulblad!I15","v":" "},{"$f":"COUNTIF(Invulblad!$I$22:$I$1048576,Berekeningen!N14)","v":0},{"$f":"Invulblad!J15","v":"Lokaal doel 11"},{"$f":"COUNTIF(Invulblad!$J$22:$J$1048576,Berekeningen!P14)","v":0},{"$f":"Invulblad!K15","v":"Lokaal doel 11"},{"$f":"COUNTIF(Invulblad!$K$22:$K$1048576,Berekeningen!R14)","v":0},{"$f":"Invulblad!L15","v":"Lokaal doel 11"},{"$f":"COUNTIF(Invulblad!$L$22:$L$1048576,Berekeningen!T14)","v":0}]
[null,null,null,null,null,{"$f":"Invulblad!E16","v":" "},{"$f":"COUNTIF(Invulblad!$E$22:$E$1048576,Berekeningen!F15)","v":0},{"$f":"Invulblad!F16","v":"Partners"},{"$f":"COUNTIF(Invulblad!$F$22:$F$1048576,Berekeningen!H15)","v":1},{"$f":"Invulblad!G16","v":"Vluchtelingenwerk"},{"$f":"COUNTIF(Invulblad!$G$22:$G$1048576,Berekeningen!J15)","v":0},{"$f":"Invulblad!H16","v":"Doorverwijzen"},{"$f":"COUNTIF(Invulblad!$H$22:$H$1048576,Berekeningen!L15)","v":0},{"$f":"Invulblad!I16","v":" "},{"$f":"COUNTIF(Invulblad!$I$22:$I$1048576,Berekeningen!N15)","v":0},{"$f":"Invulblad!J16","v":"Lokaal doel 12"},{"$f":"COUNTIF(Invulblad!$J$22:$J$1048576,Berekeningen!P15)","v":0},{"$f":"Invulblad!K16","v":"Lokaal doel 12"},{"$f":"COUNTIF(Invulblad!$K$22:$K$1048576,Berekeningen!R15)","v":0},{"$f":"Invulblad!L16","v":"Lokaal doel 12"},{"$f":"COUNTIF(Invulblad!$L$22:$L$1048576,Berekeningen!T15)","v":0}]
[null,null,null,null,null,{"$f":"Invulblad!E17","v":" "},{"$f":"COUNTIF(Invulblad!$E$22:$E$1048576,Berekeningen!F16)","v":0},{"$f":"Invulblad!F17","v":" "},{"$f":"COUNTIF(Invulblad!$F$22:$F$1048576,Berekeningen!H16)","v":0},{"$f":"Invulblad!G17","v":" "},{"$f":"COUNTIF(Invulblad!$G$22:$G$1048576,Berekeningen!J16)","v":0},{"$f":"Invulblad!H17","v":" "},{"$f":"COUNTIF(Invulblad!$H$22:$H$1048576,Berekeningen!L16)","v":0},{"$f":"Invulblad!I17","v":" "},{"$f":"COUNTIF(Invulblad!$I$22:$I$1048576,Berekeningen!N16)","v":0},{"$f":"Invulblad!J17","v":"Lokaal doel 13"},{"$f":"COUNTIF(Invulblad!$J$22:$J$1048576,Berekeningen!P16)","v":0},{"$f":"Invulblad!K17","v":"Lokaal doel 13"},{"$f":"COUNTIF(Invulblad!$K$22:$K$1048576,Berekeningen!R16)","v":0},{"$f":"Invulblad!L17","v":"Lokaal doel 13"},{"$f":"COUNTIF(Invulblad!$L$22:$L$1048576,Berekeningen!T16)","v":0}]
[null,null,null,null,null,{"$f":"Invulblad!E18","v":" "},{"$f":"COUNTIF(Invulblad!$E$22:$E$1048576,Berekeningen!F17)","v":0},{"$f":"Invulblad!F18","v":" "},{"$f":"COUNTIF(Invulblad!$F$22:$F$1048576,Berekeningen!H17)","v":0},{"$f":"Invulblad!G18","v":" "},{"$f":"COUNTIF(Invulblad!$G$22:$G$1048576,Berekeningen!J17)","v":0},{"$f":"Invulblad!H18","v":" "},{"$f":"COUNTIF(Invulblad!$H$22:$H$1048576,Berekeningen!L17)","v":0},{"$f":"Invulblad!I18","v":" "},{"$f":"COUNTIF(Invulblad!$I$22:$I$1048576,Berekeningen!N17)","v":0},{"$f":"Invulblad!J18","v":"Lokaal doel 14"},{"$f":"COUNTIF(Invulblad!$J$22:$J$1048576,Berekeningen!P17)","v":0},{"$f":"Invulblad!K18","v":"Lokaal doel 14"},{"$f":"COUNTIF(Invulblad!$K$22:$K$1048576,Berekeningen!R17)","v":0},{"$f":"Invulblad!L18","v":"Lokaal doel 14"},{"$f":"COUNTIF(Invulblad!$L$22:$L$1048576,Berekeningen!T17)","v":0}]
[null,null,null,null,null,{"$f":"Invulblad!E19","v":" "},{"$f":"COUNTIF(Invulblad!$E$22:$E$1048576,Berekeningen!F18)","v":0},{"$f":"Invulblad!F19","v":" "},{"$f":"COUNTIF(Invulblad!$F$22:$F$1048576,Berekeningen!H18)","v":0},{"$f":"Invulblad!G19","v":" "},{"$f":"COUNTIF(Invulblad!$G$22:$G$1048576,Berekeningen!J18)","v":0},{"$f":"Invulblad!H19","v":" "},{"$f":"COUNTIF(Invulblad!$H$22:$H$1048576,Berekeningen!L18)","v":0},{"$f":"Invulblad!I19","v":" "},{"$f":"COUNTIF(Invulblad!$I$22:$I$1048576,Berekeningen!N18)","v":0},{"$f":"Invulblad!J19","v":"Lokaal doel 15"},{"$f":"COUNTIF(Invulblad!$J$22:$J$1048576,Berekeningen!P18)","v":0},{"$f":"Invulblad!K19","v":"Lokaal doel 15"},{"$f":"COUNTIF(Invulblad!$K$22:$K$1048576,Berekeningen!R18)","v":0},{"$f":"Invulblad!L19","v":"Lokaal doel 15"},{"$f":"COUNTIF(Invulblad!$L$22:$L$1048576,Berekeningen!T18)","v":0}]
[null,null,null,null,null,{"$f":"Invulblad!E20","v":" "},{"$f":"COUNTIF(Invulblad!$E$22:$E$1048576,Berekeningen!F19)","v":0},{"$f":"Invulblad!F20","v":" "},{"$f":"COUNTIF(Invulblad!$F$22:$F$1048576,Berekeningen!H19)","v":0},{"$f":"Invulblad!G20","v":" "},{"$f":"COUNTIF(Invulblad!$G$22:$G$1048576,Berekeningen!J19)","v":0},{"$f":"Invulblad!H20","v":" "},{"$f":"COUNTIF(Invulblad!$H$22:$H$1048576,Berekeningen!L19)","v":0},{"$f":"Invulblad!I20","v":" "},{"$f":"COUNTIF(Invulblad!$I$22:$I$1048576,Berekeningen!N19)","v":0},{"$f":"Invulblad!J20","v":"Niet van toepassing"},{"$f":"COUNTIF(Invulblad!$J$22:$J$1048576,Berekeningen!P19)","v":1},{"$f":"Invulblad!K20","v":"Niet van toepassing"},{"$f":"COUNTIF(Invulblad!$K$22:$K$1048576,Berekeningen!R19)","v":1},{"$f":"Invulblad!L20","v":"Niet van toepassing"},{"$f":"COUNTIF(Invulblad!$L$22:$L$1048576,Berekeningen!T19)","v":2}]
[]
[null,null,null,null,null,null,null,null,null,null,null,null,null,null,null,{"$f":"Q4+S4+U4","v":1},null,null,null,null,null,"Totaal aantal deelnames",null,{"$f":"SUM('Verborgen berekeningen'!G:G)+AC21","v":160},"Totaal aantal deelnames met een terugkerende activiteit",null,null,null,{"$f":"SUM('Verborgen berekeningen'!A:A)","v":160}]
[null,null,null,null,null,null,null,null,null,null,null,null,null,null,null,{"$f":"Q5+S5+U5","v":1}]
[null,null,null,null,null,null,null,null,null,null,null,null,null,null,null,0]
[null,null,null,null,null,null,null,null,null,null,null,null,null,null,null,0,null,null,null,null,null,"Totaal aantal deelnemers",{"$f":"W7","v":16}]
[null,null,null,null,null,null,null,null,null,null,null,null,null,null,null,0,null,null,null,null,null,"Totaal aantal nieuwe deelnemers",{"$f":"Y7","v":3}]
[null,null,null,null,null,null,null,null,null,null,null,null,null,null,null,0,null,null,null,null,null,"Totaal aantal beoogde doelgroep",{"$f":"AA7","v":15}]
[null,null,null,null,null,null,null,null,null,null,null,null,null,null,null,0]
[null,null,null,null,null,null,null,null,null,null,null,null,null,null,null,0,null,null,null,null,null,"Totaal aantal deelnames",{"$f":"X21","v":160}]
[null,null,null,null,null,null,null,null,null,null,null,null,null,null,null,0,null,null,null,null,null,"Totaal aantal deelnames terugkerende activiteit",{"$f":"AC21","v":160}]
[null,null,null,null,null,null,null,null,null,null,null,null,null,null,null,0]
[null,null,null,null,null,null,null,null,null,null,null,null,null,null,null,0]
[null,null,null,null,null,null,null,null,null,null,null,null,null,null,null,0]
[null,null,null,null,null,null,null,null,null,null,null,null,null,null,null,0]
[null,null,null,null,null,null,null,null,null,null,null,null,null,null,null,0]
[null,null,null,null,null,null,null,null,null,null,null,null,null,null,null,0]
[null,null,null,null,null,null,null,null,null,null,null,null,null,null,null,4]
[]
[]
[]
[null,null,null,null,null,null,null,null,null,null,null,null,null,null,null,null,null,null,null,null,null,null,"To do:"]
[null,null,null,null,null,null,null,null,null,null,null,null,null,null,null,null,null,null,null,null,null,null,"totaal aantal deelnames"]
[null,null,null,null,null,null,null,null,null,null,null,null,null,null,null,null,null,null,null,null,null,null,"macro"]

{"sheet":"Invulinstructie","index":2,"n_rows":26,"n_cols":1,"rows_kept":26,"cut":false,"hidden":false,"merged":[]}
["Invulinstructie"]
["Doel van het registratieformulier"]
["Het registratieformulier voor de inzet van buurtsportcoaches is een instrument dat ondersteunt bij het inzichtelijk maken van het lokale proces. Buurtsportcoaches (en andere lokale professionals) kunnen al hun lokale acties in dit registratieformulier monitoren. Door acties systematisch bij te houden en te integreren in de manier van werken, biedt dit instrument ondersteuning bij het evalueren van de werkzaamheden van de buurtsportcoaches in een gemeente of regio. Meer weten over hoe je precies monitort of evalueert rondom de inzet van buurtsportcoaches? Lees ook het stappenplan van het Mulier Instituut op: www.mulierinstituut.nl/publicaties/24011/monitorings-en-evaluatieagenda-voor-de-buurtsportcoach/. "]
[]
["Opbouw registratieformulier "]
["Het registratieformulier voor buurtsportcoaches is afgeleid van de JOGG-monitor (Jongeren Op Gezond Gewicht). Dit formulier is opgebouwd uit drie tabbladen. In tabblad 1 (Invulblad) kun je jouw acties invullen. In tabblad 2 (Berekeningen) worden de aantallen per antwoordmogelijkheid automatisch weergegeven. In tabblad 3 (Invulinstructie, waar je nu in werkt) lees je hoe het registratieformulier werkt en wat de mogelijkheden zijn. Geen enkele buurtsportcoach heeft exact dezelfde doelen en voert dezelfde activiteiten uit, waardoor dit registratieformulier aangepast moet worden aan lokale doelen en/of activiteiten. Niet alles hoeft geregistreerd te worden, dat kost veel tijd. Stel daarom prioriteiten en richt je  op de belangrijkste zaken die je graag wilt weten. "]
[]
["Aanpassen antwoordmogelijkheden "]
["Bij de vragen in tabblad 1 staan al antwoordmogelijkheden ingevuld. Om het registratieformulier zo goed mogelijk aan de lokale situatie aan te passen, kun je de cellen in tabblad 1 aanpassen naar de lokale situatie. Zo kun je bijvoorbeeld bij de vraagtitel “Wijk(en) of hele gemeente” – kolom E – in regel 5 tot en met 20 jouw eigen wijken, buurten of kernen invullen. Als je vervolgens een actie invult en je bent aangekomen bij kolom E, dan kun je met het pijltje aan de rechterkant jouw wijken, buurten of kernen selecteren die je in de cellen hebt ingevuld. Op deze manier kun je alle cellen op basis van jouw lokale situatie invullen. Het registratieformulier gaat uit van één hoofddoelgroep waarvoor de activiteiten worden gedaan, dit houdt het formulier overzichtelijk. Mochten meerdere doelgroepen worden beoogd, dan kunnen deze worden toegevoegd. Let op dat te veel doelgroepen, het document minder efficiënt maakt."]
[]
["Toelichting regels in tabblad 1"]
["Regel 1: documenttitel"]
["Regel 2: vraagcategorieën"]
["Regel 3: titels vragen"]
["Regel 4: vraagsoort"]
["Regel 5 t/m 20: antwoordmogelijkheden (d.m.v. een keuzelijst in te vullen)"]
["Regel 22+: invulregels "]
[]
["Uitkomsten extraheren"]
["Dit Excelbestand biedt verschillende mogelijkheden om uitkomsten te laten zien met de inzet van buurtsportcoaches.                                                                                            Tabblad 1: In het invulblad kun je filteren op de antwoordcategorieën, zodat specifieke uitkomsten zichtbaar worden. Door bijvoorbeeld bij setting (kolom G) te filteren op 'onderwijs' krijg je een overzicht van alle acties die zijn uitgevoerd in deze setting. "]
["Tabblad 2: In dit tabblad wordt per vraag weergegeven hoe vaak een antwoord is ingevuld. Op deze manier wordt met met het figuur inzicht gegeven in de acties waarop het meest of juist het minst gericht worden. Behoeft bijvoorbeeld de doelgroep ouders meer aandacht? Of krijg inzicht met dit registratieformulier in wat voor soort acties (beweegactiviteiten, overleggen, etc.) het meest in jouw gemeente worden uitgevoerdn."]
[]
["Nieuwe regel invoegen en verwijderen"]
["Wanneer je een regel ingevuld hebt en/of een nieuwe regel wilt toevoegen, kun je op crtrl+r drukken om deze toe te voegen. Als je alle (ingevulde) regels vanaf regel 22 wilt verwijderen, kun je in regel 22 van kolom a reset typen. Wanneer je dan op ctrl+r drukt, worden eerder ingevulde regels verwijderd en begint deze weer opnieuw met nummer 1. Let op!: Bovengenoemde werkt alleen wanneer macro’s ingeschakeld zijn. Dit kun je aanpassen via de Microsoft Office-knop -> Opties voor Excel -> Vertrouwenscentrum -> Instellingen voor het Vertrouwenscentrum -> Instellingen voor macro’s."]
[]
["Bron: Jongeren Op Gezond Gewicht (2018). Bewerking: Mulier Instituut."]

{"sheet":"Verborgen berekeningen","index":3,"n_rows":2001,"n_cols":7,"rows_kept":2001,"cut":false,"hidden":true,"merged":[]}
["Totaal aantal deelnames met een terugkerende activiteit",null,null,null,null,null,"Totaal aantal deelnames zonder terugkerende activiteit"]
[{"$f":"IF(Invulblad!P22=\"Ja\",Invulblad!M22*Invulblad!Q22,0)","v":0},null,null,null,null,null,{"$f":"IF(Invulblad!P22=\"Nee\",Invulblad!M22,0)","v":"Niet van toepassing"}]
[{"$f":"IF(Invulblad!P23=\"Ja\",Invulblad!M23*Invulblad!Q23,0)","v":160},null,null,null,null,null,{"$f":"IF(Invulblad!P23=\"Nee\",Invulblad!M23,0)","v":0}]
[{"$f":"IF(Invulblad!P24=\"Ja\",Invulblad!M24*Invulblad!Q24,0)","v":0},null,null,null,null,null,{"$f":"IF(Invulblad!P24=\"Nee\",Invulblad!M24,0)","v":0}]
[{"$f":"IF(Invulblad!P25=\"Ja\",Invulblad!M25*Invulblad!Q25,0)","v":0},null,null,null,null,null,{"$f":"IF(Invulblad!P25=\"Nee\",Invulblad!M25,0)","v":0}]
[{"$f":"IF(Invulblad!P26=\"Ja\",Invulblad!M26*Invulblad!Q26,0)","v":0},null,null,null,null,null,{"$f":"IF(Invulblad!P26=\"Nee\",Invulblad!M26,0)","v":0}]
[{"$f":"IF(Invulblad!P27=\"Ja\",Invulblad!M27*Invulblad!Q27,0)","v":0},null,null,null,null,null,{"$f":"IF(Invulblad!P27=\"Nee\",Invulblad!M27,0)","v":0}]
[{"$f":"IF(Invulblad!P28=\"Ja\",Invulblad!M28*Invulblad!Q28,0)","v":0},null,null,null,null,null,{"$f":"IF(Invulblad!P28=\"Nee\",Invulblad!M28,0)","v":0}]
[{"$f":"IF(Invulblad!P29=\"Ja\",Invulblad!M29*Invulblad!Q29,0)","v":0},null,null,null,null,null,{"$f":"IF(Invulblad!P29=\"Nee\",Invulblad!M29,0)","v":0}]
[{"$f":"IF(Invulblad!P30=\"Ja\",Invulblad!M30*Invulblad!Q30,0)","v":0},null,null,null,null,null,{"$f":"IF(Invulblad!P30=\"Nee\",Invulblad!M30,0)","v":0}]
[{"$f":"IF(Invulblad!P31=\"Ja\",Invulblad!M31*Invulblad!Q31,0)","v":0},null,null,null,null,null,{"$f":"IF(Invulblad!P31=\"Nee\",Invulblad!M31,0)","v":0}]
[{"$f":"IF(Invulblad!P32=\"Ja\",Invulblad!M32*Invulblad!Q32,0)","v":0},null,null,null,null,null,{"$f":"IF(Invulblad!P32=\"Nee\",Invulblad!M32,0)","v":0}]
[{"$f":"IF(Invulblad!P33=\"Ja\",Invulblad!M33*Invulblad!Q33,0)","v":0},null,null,null,null,null,{"$f":"IF(Invulblad!P33=\"Nee\",Invulblad!M33,0)","v":0}]
[{"$f":"IF(Invulblad!P34=\"Ja\",Invulblad!M34*Invulblad!Q34,0)","v":0},null,null,null,null,null,{"$f":"IF(Invulblad!P34=\"Nee\",Invulblad!M34,0)","v":0}]
[{"$f":"IF(Invulblad!P35=\"Ja\",Invulblad!M35*Invulblad!Q35,0)","v":0},null,null,null,null,null,{"$f":"IF(Invulblad!P35=\"Nee\",Invulblad!M35,0)","v":0}]
[{"$f":"IF(Invulblad!P36=\"Ja\",Invulblad!M36*Invulblad!Q36,0)","v":0},null,null,null,null,null,{"$f":"IF(Invulblad!P36=\"Nee\",Invulblad!M36,0)","v":0}]
[{"$f":"IF(Invulblad!P37=\"Ja\",Invulblad!M37*Invulblad!Q37,0)","v":0},null,null,null,null,null,{"$f":"IF(Invulblad!P37=\"Nee\",Invulblad!M37,0)","v":0}]
[{"$f":"IF(Invulblad!P38=\"Ja\",Invulblad!M38*Invulblad!Q38,0)","v":0},null,null,null,null,null,{"$f":"IF(Invulblad!P38=\"Nee\",Invulblad!M38,0)","v":0}]
[{"$f":"IF(Invulblad!P39=\"Ja\",Invulblad!M39*Invulblad!Q39,0)","v":0},null,null,null,null,null,{"$f":"IF(Invulblad!P39=\"Nee\",Invulblad!M39,0)","v":0}]
[{"$f":"IF(Invulblad!P40=\"Ja\",Invulblad!M40*Invulblad!Q40,0)","v":0},null,null,null,null,null,{"$f":"IF(Invulblad!P40=\"Nee\",Invulblad!M40,0)","v":0}]
[{"$f":"IF(Invulblad!P41=\"Ja\",Invulblad!M41*Invulblad!Q41,0)","v":0},null,null,null,null,null,{"$f":"IF(Invulblad!P41=\"Nee\",Invulblad!M41,0)","v":0}]
[{"$f":"IF(Invulblad!P42=\"Ja\",Invulblad!M42*Invulblad!Q42,0)","v":0},null,null,null,null,null,{"$f":"IF(Invulblad!P42=\"Nee\",Invulblad!M42,0)","v":0}]
[{"$f":"IF(Invulblad!P43=\"Ja\",Invulblad!M43*Invulblad!Q43,0)","v":0},null,null,null,null,null,{"$f":"IF(Invulblad!P43=\"Nee\",Invulblad!M43,0)","v":0}]
[{"$f":"IF(Invulblad!P44=\"Ja\",Invulblad!M44*Invulblad!Q44,0)","v":0},null,null,null,null,null,{"$f":"IF(Invulblad!P44=\"Nee\",Invulblad!M44,0)","v":0}]
[{"$f":"IF(Invulblad!P45=\"Ja\",Invulblad!M45*Invulblad!Q45,0)","v":0},null,null,null,null,null,{"$f":"IF(Invulblad!P45=\"Nee\",Invulblad!M45,0)","v":0}]
[{"$f":"IF(Invulblad!P46=\"Ja\",Invulblad!M46*Invulblad!Q46,0)","v":0},null,null,null,null,null,{"$f":"IF(Invulblad!P46=\"Nee\",Invulblad!M46,0)","v":0}]
[{"$f":"IF(Invulblad!P47=\"Ja\",Invulblad!M47*Invulblad!Q47,0)","v":0},null,null,null,null,null,{"$f":"IF(Invulblad!P47=\"Nee\",Invulblad!M47,0)","v":0}]
[{"$f":"IF(Invulblad!P48=\"Ja\",Invulblad!M48*Invulblad!Q48,0)","v":0},null,null,null,null,null,{"$f":"IF(Invulblad!P48=\"Nee\",Invulblad!M48,0)","v":0}]
[{"$f":"IF(Invulblad!P49=\"Ja\",Invulblad!M49*Invulblad!Q49,0)","v":0},null,null,null,null,null,{"$f":"IF(Invulblad!P49=\"Nee\",Invulblad!M49,0)","v":0}]
[{"$f":"IF(Invulblad!P50=\"Ja\",Invulblad!M50*Invulblad!Q50,0)","v":0},null,null,null,null,null,{"$f":"IF(Invulblad!P50=\"Nee\",Invulblad!M50,0)","v":0}]
[{"$f":"IF(Invulblad!P51=\"Ja\",Invulblad!M51*Invulblad!Q51,0)","v":0},null,null,null,null,null,{"$f":"IF(Invulblad!P51=\"Nee\",Invulblad!M51,0)","v":0}]
[{"$f":"IF(Invulblad!P52=\"Ja\",Invulblad!M52*Invulblad!Q52,0)","v":0},null,null,null,null,null,{"$f":"IF(Invulblad!P52=\"Nee\",Invulblad!M52,0)","v":0}]
[{"$f":"IF(Invulblad!P53=\"Ja\",Invulblad!M53*Invulblad!Q53,0)","v":0},null,null,null,null,null,{"$f":"IF(Invulblad!P53=\"Nee\",Invulblad!M53,0)","v":0}]
[{"$f":"IF(Invulblad!P54=\"Ja\",Invulblad!M54*Invulblad!Q54,0)","v":0},null,null,null,null,null,{"$f":"IF(Invulblad!P54=\"Nee\",Invulblad!M54,0)","v":0}]
[{"$f":"IF(Invulblad!P55=\"Ja\",Invulblad!M55*Invulblad!Q55,0)","v":0},null,null,null,null,null,{"$f":"IF(Invulblad!P55=\"Nee\",Invulblad!M55,0)","v":0}]
[{"$f":"IF(Invulblad!P56=\"Ja\",Invulblad!M56*Invulblad!Q56,0)","v":0},null,null,null,null,null,{"$f":"IF(Invulblad!P56=\"Nee\",Invulblad!M56,0)","v":0}]
[{"$f":"IF(Invulblad!P57=\"Ja\",Invulblad!M57*Invulblad!Q57,0)","v":0},null,null,null,null,null,{"$f":"IF(Invulblad!P57=\"Nee\",Invulblad!M57,0)","v":0}]
[{"$f":"IF(Invulblad!P58=\"Ja\",Invulblad!M58*Invulblad!Q58,0)","v":0},null,null,null,null,null,{"$f":"IF(Invulblad!P58=\"Nee\",Invulblad!M58,0)","v":0}]
[{"$f":"IF(Invulblad!P59=\"Ja\",Invulblad!M59*Invulblad!Q59,0)","v":0},null,null,null,null,null,{"$f":"IF(Invulblad!P59=\"Nee\",Invulblad!M59,0)","v":0}]
[{"$f":"IF(Invulblad!P60=\"Ja\",Invulblad!M60*Invulblad!Q60,0)","v":0},null,null,null,null,null,{"$f":"IF(Invulblad!P60=\"Nee\",Invulblad!M60,0)","v":0}]
[{"$f":"IF(Invulblad!P61=\"Ja\",Invulblad!M61*Invulblad!Q61,0)","v":0},null,null,null,null,null,{"$f":"IF(Invulblad!P61=\"Nee\",Invulblad!M61,0)","v":0}]
[{"$f":"IF(Invulblad!P62=\"Ja\",Invulblad!M62*Invulblad!Q62,0)","v":0},null,null,null,null,null,{"$f":"IF(Invulblad!P62=\"Nee\",Invulblad!M62,0)","v":0}]
[{"$f":"IF(Invulblad!P63=\"Ja\",Invulblad!M63*Invulblad!Q63,0)","v":0},null,null,null,null,null,{"$f":"IF(Invulblad!P63=\"Nee\",Invulblad!M63,0)","v":0}]
[{"$f":"IF(Invulblad!P64=\"Ja\",Invulblad!M64*Invulblad!Q64,0)","v":0},null,null,null,null,null,{"$f":"IF(Invulblad!P64=\"Nee\",Invulblad!M64,0)","v":0}]
[{"$f":"IF(Invulblad!P65=\"Ja\",Invulblad!M65*Invulblad!Q65,0)","v":0},null,null,null,null,null,{"$f":"IF(Invulblad!P65=\"Nee\",Invulblad!M65,0)","v":0}]
[{"$f":"IF(Invulblad!P66=\"Ja\",Invulblad!M66*Invulblad!Q66,0)","v":0},null,null,null,null,null,{"$f":"IF(Invulblad!P66=\"Nee\",Invulblad!M66,0)","v":0}]
[{"$f":"IF(Invulblad!P67=\"Ja\",Invulblad!M67*Invulblad!Q67,0)","v":0},null,null,null,null,null,{"$f":"IF(Invulblad!P67=\"Nee\",Invulblad!M67,0)","v":0}]
[{"$f":"IF(Invulblad!P68=\"Ja\",Invulblad!M68*Invulblad!Q68,0)","v":0},null,null,null,null,null,{"$f":"IF(Invulblad!P68=\"Nee\",Invulblad!M68,0)","v":0}]
[{"$f":"IF(Invulblad!P69=\"Ja\",Invulblad!M69*Invulblad!Q69,0)","v":0},null,null,null,null,null,{"$f":"IF(Invulblad!P69=\"Nee\",Invulblad!M69,0)","v":0}]
[{"$f":"IF(Invulblad!P70=\"Ja\",Invulblad!M70*Invulblad!Q70,0)","v":0},null,null,null,null,null,{"$f":"IF(Invulblad!P70=\"Nee\",Invulblad!M70,0)","v":0}]
[{"$f":"IF(Invulblad!P71=\"Ja\",Invulblad!M71*Invulblad!Q71,0)","v":0},null,null,null,null,null,{"$f":"IF(Invulblad!P71=\"Nee\",Invulblad!M71,0)","v":0}]
[{"$f":"IF(Invulblad!P72=\"Ja\",Invulblad!M72*Invulblad!Q72,0)","v":0},null,null,null,null,null,{"$f":"IF(Invulblad!P72=\"Nee\",Invulblad!M72,0)","v":0}]
[{"$f":"IF(Invulblad!P73=\"Ja\",Invulblad!M73*Invulblad!Q73,0)","v":0},null,null,null,null,null,{"$f":"IF(Invulblad!P73=\"Nee\",Invulblad!M73,0)","v":0}]
[{"$f":"IF(Invulblad!P74=\"Ja\",Invulblad!M74*Invulblad!Q74,0)","v":0},null,null,null,null,null,{"$f":"IF(Invulblad!P74=\"Nee\",Invulblad!M74,0)","v":0}]
[{"$f":"IF(Invulblad!P75=\"Ja\",Invulblad!M75*Invulblad!Q75,0)","v":0},null,null,null,null,null,{"$f":"IF(Invulblad!P75=\"Nee\",Invulblad!M75,0)","v":0}]
[{"$f":"IF(Invulblad!P76=\"Ja\",Invulblad!M76*Invulblad!Q76,0)","v":0},null,null,null,null,null,{"$f":"IF(Invulblad!P76=\"Nee\",Invulblad!M76,0)","v":0}]
[{"$f":"IF(Invulblad!P77=\"Ja\",Invulblad!M77*Invulblad!Q77,0)","v":0},null,null,null,null,null,{"$f":"IF(Invulblad!P77=\"Nee\",Invulblad!M77,0)","v":0}]
[{"$f":"IF(Invulblad!P78=\"Ja\",Invulblad!M78*Invulblad!Q78,0)","v":0},null,null,null,null,null,{"$f":"IF(Invulblad!P78=\"Nee\",Invulblad!M78,0)","v":0}]
[{"$f":"IF(Invulblad!P79=\"Ja\",Invulblad!M79*Invulblad!Q79,0)","v":0},null,null,null,null,null,{"$f":"IF(Invulblad!P79=\"Nee\",Invulblad!M79,0)","v":0}]
[{"$f":"IF(Invulblad!P80=\"Ja\",Invulblad!M80*Invulblad!Q80,0)","v":0},null,null,null,null,null,{"$f":"IF(Invulblad!P80=\"Nee\",Invulblad!M80,0)","v":0}]
[{"$f":"IF(Invulblad!P81=\"Ja\",Invulblad!M81*Invulblad!Q81,0)","v":0},null,null,null,null,null,{"$f":"IF(Invulblad!P81=\"Nee\",Invulblad!M81,0)","v":0}]
[{"$f":"IF(Invulblad!P82=\"Ja\",Invulblad!M82*Invulblad!Q82,0)","v":0},null,null,null,null,null,{"$f":"IF(Invulblad!P82=\"Nee\",Invulblad!M82,0)","v":0}]
[{"$f":"IF(Invulblad!P83=\"Ja\",Invulblad!M83*Invulblad!Q83,0)","v":0},null,null,null,null,null,{"$f":"IF(Invulblad!P83=\"Nee\",Invulblad!M83,0)","v":0}]
[{"$f":"IF(Invulblad!P84=\"Ja\",Invulblad!M84*Invulblad!Q84,0)","v":0},null,null,null,null,null,{"$f":"IF(Invulblad!P84=\"Nee\",Invulblad!M84,0)","v":0}]
[{"$f":"IF(Invulblad!P85=\"Ja\",Invulblad!M85*Invulblad!Q85,0)","v":0},null,null,null,null,null,{"$f":"IF(Invulblad!P85=\"Nee\",Invulblad!M85,0)","v":0}]
[{"$f":"IF(Invulblad!P86=\"Ja\",Invulblad!M86*Invulblad!Q86,0)","v":0},null,null,null,null,null,{"$f":"IF(Invulblad!P86=\"Nee\",Invulblad!M86,0)","v":0}]
[{"$f":"IF(Invulblad!P87=\"Ja\",Invulblad!M87*Invulblad!Q87,0)","v":0},null,null,null,null,null,{"$f":"IF(Invulblad!P87=\"Nee\",Invulblad!M87,0)","v":0}]
[{"$f":"IF(Invulblad!P88=\"Ja\",Invulblad!M88*Invulblad!Q88,0)","v":0},null,null,null,null,null,{"$f":"IF(Invulblad!P88=\"Nee\",Invulblad!M88,0)","v":0}]
[{"$f":"IF(Invulblad!P89=\"Ja\",Invulblad!M89*Invulblad!Q89,0)","v":0},null,null,null,null,null,{"$f":"IF(Invulblad!P89=\"Nee\",Invulblad!M89,0)","v":0}]
[{"$f":"IF(Invulblad!P90=\"Ja\",Invulblad!M90*Invulblad!Q90,0)","v":0},null,null,null,null,null,{"$f":"IF(Invulblad!P90=\"Nee\",Invulblad!M90,0)","v":0}]
[{"$f":"IF(Invulblad!P91=\"Ja\",Invulblad!M91*Invulblad!Q91,0)","v":0},null,null,null,null,null,{"$f":"IF(Invulblad!P91=\"Nee\",Invulblad!M91,0)","v":0}]
[{"$f":"IF(Invulblad!P92=\"Ja\",Invulblad!M92*Invulblad!Q92,0)","v":0},null,null,null,null,null,{"$f":"IF(Invulblad!P92=\"Nee\",Invulblad!M92,0)","v":0}]
[{"$f":"IF(Invulblad!P93=\"Ja\",Invulblad!M93*Invulblad!Q93,0)","v":0},null,null,null,null,null,{"$f":"IF(Invulblad!P93=\"Nee\",Invulblad!M93,0)","v":0}]
[{"$f":"IF(Invulblad!P94=\"Ja\",Invulblad!M94*Invulblad!Q94,0)","v":0},null,null,null,null,null,{"$f":"IF(Invulblad!P94=\"Nee\",Invulblad!M94,0)","v":0}]
[{"$f":"IF(Invulblad!P95=\"Ja\",Invulblad!M95*Invulblad!Q95,0)","v":0},null,null,null,null,null,{"$f":"IF(Invulblad!P95=\"Nee\",Invulblad!M95,0)","v":0}]
[{"$f":"IF(Invulblad!P96=\"Ja\",Invulblad!M96*Invulblad!Q96,0)","v":0},null,null,null,null,null,{"$f":"IF(Invulblad!P96=\"Nee\",Invulblad!M96,0)","v":0}]
[{"$f":"IF(Invulblad!P97=\"Ja\",Invulblad!M97*Invulblad!Q97,0)","v":0},null,null,null,null,null,{"$f":"IF(Invulblad!P97=\"Nee\",Invulblad!M97,0)","v":0}]
[{"$f":"IF(Invulblad!P98=\"Ja\",Invulblad!M98*Invulblad!Q98,0)","v":0},null,null,null,null,null,{"$f":"IF(Invulblad!P98=\"Nee\",Invulblad!M98,0)","v":0}]
[{"$f":"IF(Invulblad!P99=\"Ja\",Invulblad!M99*Invulblad!Q99,0)","v":0},null,null,null,null,null,{"$f":"IF(Invulblad!P99=\"Nee\",Invulblad!M99,0)","v":0}]
[{"$f":"IF(Invulblad!P100=\"Ja\",Invulblad!M100*Invulblad!Q100,0)","v":0},null,null,null,null,null,{"$f":"IF(Invulblad!P100=\"Nee\",Invulblad!M100,0)","v":0}]
[{"$f":"IF(Invulblad!P101=\"Ja\",Invulblad!M101*Invulblad!Q101,0)","v":0},null,null,null,null,null,{"$f":"IF(Invulblad!P101=\"Nee\",Invulblad!M101,0)","v":0}]
[{"$f":"IF(Invulblad!P102=\"Ja\",Invulblad!M102*Invulblad!Q102,0)","v":0},null,null,null,null,null,{"$f":"IF(Invulblad!P102=\"Nee\",Invulblad!M102,0)","v":0}]
[{"$f":"IF(Invulblad!P103=\"Ja\",Invulblad!M103*Invulblad!Q103,0)","v":0},null,null,null,null,null,{"$f":"IF(Invulblad!P103=\"Nee\",Invulblad!M103,0)","v":0}]
[{"$f":"IF(Invulblad!P104=\"Ja\",Invulblad!M104*Invulblad!Q104,0)","v":0},null,null,null,null,null,{"$f":"IF(Invulblad!P104=\"Nee\",Invulblad!M104,0)","v":0}]
[{"$f":"IF(Invulblad!P105=\"Ja\",Invulblad!M105*Invulblad!Q105,0)","v":0},null,null,null,null,null,{"$f":"IF(Invulblad!P105=\"Nee\",Invulblad!M105,0)","v":0}]
[{"$f":"IF(Invulblad!P106=\"Ja\",Invulblad!M106*Invulblad!Q106,0)","v":0},null,null,null,null,null,{"$f":"IF(Invulblad!P106=\"Nee\",Invulblad!M106,0)","v":0}]
[{"$f":"IF(Invulblad!P107=\"Ja\",Invulblad!M107*Invulblad!Q107,0)","v":0},null,null,null,null,null,{"$f":"IF(Invulblad!P107=\"Nee\",Invulblad!M107,0)","v":0}]
[{"$f":"IF(Invulblad!P108=\"Ja\",Invulblad!M108*Invulblad!Q108,0)","v":0},null,null,null,null,null,{"$f":"IF(Invulblad!P108=\"Nee\",Invulblad!M108,0)","v":0}]
[{"$f":"IF(Invulblad!P109=\"Ja\",Invulblad!M109*Invulblad!Q109,0)","v":0},null,null,null,null,null,{"$f":"IF(Invulblad!P109=\"Nee\",Invulblad!M109,0)","v":0}]
[{"$f":"IF(Invulblad!P110=\"Ja\",Invulblad!M110*Invulblad!Q110,0)","v":0},null,null,null,null,null,{"$f":"IF(Invulblad!P110=\"Nee\",Invulblad!M110,0)","v":0}]
[{"$f":"IF(Invulblad!P111=\"Ja\",Invulblad!M111*Invulblad!Q111,0)","v":0},null,null,null,null,null,{"$f":"IF(Invulblad!P111=\"Nee\",Invulblad!M111,0)","v":0}]
[{"$f":"IF(Invulblad!P112=\"Ja\",Invulblad!M112*Invulblad!Q112,0)","v":0},null,null,null,null,null,{"$f":"IF(Invulblad!P112=\"Nee\",Invulblad!M112,0)","v":0}]
[{"$f":"IF(Invulblad!P113=\"Ja\",Invulblad!M113*Invulblad!Q113,0)","v":0},null,null,null,null,null,{"$f":"IF(Invulblad!P113=\"Nee\",Invulblad!M113,0)","v":0}]
[{"$f":"IF(Invulblad!P114=\"Ja\",Invulblad!M114*Invulblad!Q114,0)","v":0},null,null,null,null,null,{"$f":"IF(Invulblad!P114=\"Nee\",Invulblad!M114,0)","v":0}]
[{"$f":"IF(Invulblad!P115=\"Ja\",Invulblad!M115*Invulblad!Q115,0)","v":0},null,null,null,null,null,{"$f":"IF(Invulblad!P115=\"Nee\",Invulblad!M115,0)","v":0}]
[{"$f":"IF(Invulblad!P116=\"Ja\",Invulblad!M116*Invulblad!Q116,0)","v":0},null,null,null,null,null,{"$f":"IF(Invulblad!P116=\"Nee\",Invulblad!M116,0)","v":0}]
[{"$f":"IF(Invulblad!P117=\"Ja\",Invulblad!M117*Invulblad!Q117,0)","v":0},null,null,null,null,null,{"$f":"IF(Invulblad!P117=\"Nee\",Invulblad!M117,0)","v":0}]
[{"$f":"IF(Invulblad!P118=\"Ja\",Invulblad!M118*Invulblad!Q118,0)","v":0},null,null,null,null,null,{"$f":"IF(Invulblad!P118=\"Nee\",Invulblad!M118,0)","v":0}]
[{"$f":"IF(Invulblad!P119=\"Ja\",Invulblad!M119*Invulblad!Q119,0)","v":0},null,null,null,null,null,{"$f":"IF(Invulblad!P119=\"Nee\",Invulblad!M119,0)","v":0}]
[{"$f":"IF(Invulblad!P120=\"Ja\",Invulblad!M120*Invulblad!Q120,0)","v":0},null,null,null,null,null,{"$f":"IF(Invulblad!P120=\"Nee\",Invulblad!M120,0)","v":0}]
[{"$f":"IF(Invulblad!P121=\"Ja\",Invulblad!M121*Invulblad!Q121,0)","v":0},null,null,null,null,null,{"$f":"IF(Invulblad!P121=\"Nee\",Invulblad!M121,0)","v":0}]
[{"$f":"IF(Invulblad!P122=\"Ja\",Invulblad!M122*Invulblad!Q122,0)","v":0},null,null,null,null,null,{"$f":"IF(Invulblad!P122=\"Nee\",Invulblad!M122,0)","v":0}]
[{"$f":"IF(Invulblad!P123=\"Ja\",Invulblad!M123*Invulblad!Q123,0)","v":0},null,null,null,null,null,{"$f":"IF(Invulblad!P123=\"Nee\",Invulblad!M123,0)","v":0}]
[{"$f":"IF(Invulblad!P124=\"Ja\",Invulblad!M124*Invulblad!Q124,0)","v":0},null,null,null,null,null,{"$f":"IF(Invulblad!P124=\"Nee\",Invulblad!M124,0)","v":0}]
[{"$f":"IF(Invulblad!P125=\"Ja\",Invulblad!M125*Invulblad!Q125,0)","v":0},null,null,null,null,null,{"$f":"IF(Invulblad!P125=\"Nee\",Invulblad!M125,0)","v":0}]
[{"$f":"IF(Invulblad!P126=\"Ja\",Invulblad!M126*Invulblad!Q126,0)","v":0},null,null,null,null,null,{"$f":"IF(Invulblad!P126=\"Nee\",Invulblad!M126,0)","v":0}]
[{"$f":"IF(Invulblad!P127=\"Ja\",Invulblad!M127*Invulblad!Q127,0)","v":0},null,null,null,null,null,{"$f":"IF(Invulblad!P127=\"Nee\",Invulblad!M127,0)","v":0}]
[{"$f":"IF(Invulblad!P128=\"Ja\",Invulblad!M128*Invulblad!Q128,0)","v":0},null,null,null,null,null,{"$f":"IF(Invulblad!P128=\"Nee\",Invulblad!M128,0)","v":0}]
[{"$f":"IF(Invulblad!P129=\"Ja\",Invulblad!M129*Invulblad!Q129,0)","v":0},null,null,null,null,null,{"$f":"IF(Invulblad!P129=\"Nee\",Invulblad!M129,0)","v":0}]
[{"$f":"IF(Invulblad!P130=\"Ja\",Invulblad!M130*Invulblad!Q130,0)","v":0},null,null,null,null,null,{"$f":"IF(Invulblad!P130=\"Nee\",Invulblad!M130,0)","v":0}]
[{"$f":"IF(Invulblad!P131=\"Ja\",Invulblad!M131*Invulblad!Q131,0)","v":0},null,null,null,null,null,{"$f":"IF(Invulblad!P131=\"Nee\",Invulblad!M131,0)","v":0}]
[{"$f":"IF(Invulblad!P132=\"Ja\",Invulblad!M132*Invulblad!Q132,0)","v":0},null,null,null,null,null,{"$f":"IF(Invulblad!P132=\"Nee\",Invulblad!M132,0)","v":0}]
[{"$f":"IF(Invulblad!P133=\"Ja\",Invulblad!M133*Invulblad!Q133,0)","v":0},null,null,null,null,null,{"$f":"IF(Invulblad!P133=\"Nee\",Invulblad!M133,0)","v":0}]
[{"$f":"IF(Invulblad!P134=\"Ja\",Invulblad!M134*Invulblad!Q134,0)","v":0},null,null,null,null,null,{"$f":"IF(Invulblad!P134=\"Nee\",Invulblad!M134,0)","v":0}]
[{"$f":"IF(Invulblad!P135=\"Ja\",Invulblad!M135*Invulblad!Q135,0)","v":0},null,null,null,null,null,{"$f":"IF(Invulblad!P135=\"Nee\",Invulblad!M135,0)","v":0}]
[{"$f":"IF(Invulblad!P136=\"Ja\",Invulblad!M136*Invulblad!Q136,0)","v":0},null,null,null,null,null,{"$f":"IF(Invulblad!P136=\"Nee\",Invulblad!M136,0)","v":0}]
[{"$f":"IF(Invulblad!P137=\"Ja\",Invulblad!M137*Invulblad!Q137,0)","v":0},null,null,null,null,null,{"$f":"IF(Invulblad!P137=\"Nee\",Invulblad!M137,0)","v":0}]
[{"$f":"IF(Invulblad!P138=\"Ja\",Invulblad!M138*Invulblad!Q138,0)","v":0},null,null,null,null,null,{"$f":"IF(Invulblad!P138=\"Nee\",Invulblad!M138,0)","v":0}]
[{"$f":"IF(Invulblad!P139=\"Ja\",Invulblad!M139*Invulblad!Q139,0)","v":0},null,null,null,null,null,{"$f":"IF(Invulblad!P139=\"Nee\",Invulblad!M139,0)","v":0}]
[{"$f":"IF(Invulblad!P140=\"Ja\",Invulblad!M140*Invulblad!Q140,0)","v":0},null,null,null,null,null,{"$f":"IF(Invulblad!P140=\"Nee\",Invulblad!M140,0)","v":0}]
[{"$f":"IF(Invulblad!P141=\"Ja\",Invulblad!M141*Invulblad!Q141,0)","v":0},null,null,null,null,null,{"$f":"IF(Invulblad!P141=\"Nee\",Invulblad!M141,0)","v":0}]
[{"$f":"IF(Invulblad!P142=\"Ja\",Invulblad!M142*Invulblad!Q142,0)","v":0},null,null,null,null,null,{"$f":"IF(Invulblad!P142=\"Nee\",Invulblad!M142,0)","v":0}]
[{"$f":"IF(Invulblad!P143=\"Ja\",Invulblad!M143*Invulblad!Q143,0)","v":0},null,null,null,null,null,{"$f":"IF(Invulblad!P143=\"Nee\",Invulblad!M143,0)","v":0}]
[{"$f":"IF(Invulblad!P144=\"Ja\",Invulblad!M144*Invulblad!Q144,0)","v":0},null,null,null,null,null,{"$f":"IF(Invulblad!P144=\"Nee\",Invulblad!M144,0)","v":0}]
[{"$f":"IF(Invulblad!P145=\"Ja\",Invulblad!M145*Invulblad!Q145,0)","v":0},null,null,null,null,null,{"$f":"IF(Invulblad!P145=\"Nee\",Invulblad!M145,0)","v":0}]
[{"$f":"IF(Invulblad!P146=\"Ja\",Invulblad!M146*Invulblad!Q146,0)","v":0},null,null,null,null,null,{"$f":"IF(Invulblad!P146=\"Nee\",Invulblad!M146,0)","v":0}]
[{"$f":"IF(Invulblad!P147=\"Ja\",Invulblad!M147*Invulblad!Q147,0)","v":0},null,null,null,null,null,{"$f":"IF(Invulblad!P147=\"Nee\",Invulblad!M147,0)","v":0}]
[{"$f":"IF(Invulblad!P148=\"Ja\",Invulblad!M148*Invulblad!Q148,0)","v":0},null,null,null,null,null,{"$f":"IF(Invulblad!P148=\"Nee\",Invulblad!M148,0)","v":0}]
[{"$f":"IF(Invulblad!P149=\"Ja\",Invulblad!M149*Invulblad!Q149,0)","v":0},null,null,null,null,null,{"$f":"IF(Invulblad!P149=\"Nee\",Invulblad!M149,0)","v":0}]
[{"$f":"IF(Invulblad!P150=\"Ja\",Invulblad!M150*Invulblad!Q150,0)","v":0},null,null,null,null,null,{"$f":"IF(Invulblad!P150=\"Nee\",Invulblad!M150,0)","v":0}]
[{"$f":"IF(Invulblad!P151=\"Ja\",Invulblad!M151*Invulblad!Q151,0)","v":0},null,null,null,null,null,{"$f":"IF(Invulblad!P151=\"Nee\",Invulblad!M151,0)","v":0}]
[{"$f":"IF(Invulblad!P152=\"Ja\",Invulblad!M152*Invulblad!Q152,0)","v":0},null,null,null,null,null,{"$f":"IF(Invulblad!P152=\"Nee\",Invulblad!M152,0)","v":0}]
[{"$f":"IF(Invulblad!P153=\"Ja\",Invulblad!M153*Invulblad!Q153,0)","v":0},null,null,null,null,null,{"$f":"IF(Invulblad!P153=\"Nee\",Invulblad!M153,0)","v":0}]
[{"$f":"IF(Invulblad!P154=\"Ja\",Invulblad!M154*Invulblad!Q154,0)","v":0},null,null,null,null,null,{"$f":"IF(Invulblad!P154=\"Nee\",Invulblad!M154,0)","v":0}]
[{"$f":"IF(Invulblad!P155=\"Ja\",Invulblad!M155*Invulblad!Q155,0)","v":0},null,null,null,null,null,{"$f":"IF(Invulblad!P155=\"Nee\",Invulblad!M155,0)","v":0}]
[{"$f":"IF(Invulblad!P156=\"Ja\",Invulblad!M156*Invulblad!Q156,0)","v":0},null,null,null,null,null,{"$f":"IF(Invulblad!P156=\"Nee\",Invulblad!M156,0)","v":0}]
[{"$f":"IF(Invulblad!P157=\"Ja\",Invulblad!M157*Invulblad!Q157,0)","v":0},null,null,null,null,null,{"$f":"IF(Invulblad!P157=\"Nee\",Invulblad!M157,0)","v":0}]
[{"$f":"IF(Invulblad!P158=\"Ja\",Invulblad!M158*Invulblad!Q158,0)","v":0},null,null,null,null,null,{"$f":"IF(Invulblad!P158=\"Nee\",Invulblad!M158,0)","v":0}]
[{"$f":"IF(Invulblad!P159=\"Ja\",Invulblad!M159*Invulblad!Q159,0)","v":0},null,null,null,null,null,{"$f":"IF(Invulblad!P159=\"Nee\",Invulblad!M159,0)","v":0}]
[{"$f":"IF(Invulblad!P160=\"Ja\",Invulblad!M160*Invulblad!Q160,0)","v":0},null,null,null,null,null,{"$f":"IF(Invulblad!P160=\"Nee\",Invulblad!M160,0)","v":0}]
[{"$f":"IF(Invulblad!P161=\"Ja\",Invulblad!M161*Invulblad!Q161,0)","v":0},null,null,null,null,null,{"$f":"IF(Invulblad!P161=\"Nee\",Invulblad!M161,0)","v":0}]
[{"$f":"IF(Invulblad!P162=\"Ja\",Invulblad!M162*Invulblad!Q162,0)","v":0},null,null,null,null,null,{"$f":"IF(Invulblad!P162=\"Nee\",Invulblad!M162,0)","v":0}]
[{"$f":"IF(Invulblad!P163=\"Ja\",Invulblad!M163*Invulblad!Q163,0)","v":0},null,null,null,null,null,{"$f":"IF(Invulblad!P163=\"Nee\",Invulblad!M163,0)","v":0}]
[{"$f":"IF(Invulblad!P164=\"Ja\",Invulblad!M164*Invulblad!Q164,0)","v":0},null,null,null,null,null,{"$f":"IF(Invulblad!P164=\"Nee\",Invulblad!M164,0)","v":0}]
[{"$f":"IF(Invulblad!P165=\"Ja\",Invulblad!M165*Invulblad!Q165,0)","v":0},null,null,null,null,null,{"$f":"IF(Invulblad!P165=\"Nee\",Invulblad!M165,0)","v":0}]
[{"$f":"IF(Invulblad!P166=\"Ja\",Invulblad!M166*Invulblad!Q166,0)","v":0},null,null,null,null,null,{"$f":"IF(Invulblad!P166=\"Nee\",Invulblad!M166,0)","v":0}]
[{"$f":"IF(Invulblad!P167=\"Ja\",Invulblad!M167*Invulblad!Q167,0)","v":0},null,null,null,null,null,{"$f":"IF(Invulblad!P167=\"Nee\",Invulblad!M167,0)","v":0}]
[{"$f":"IF(Invulblad!P168=\"Ja\",Invulblad!M168*Invulblad!Q168,0)","v":0},null,null,null,null,null,{"$f":"IF(Invulblad!P168=\"Nee\",Invulblad!M168,0)","v":0}]
[{"$f":"IF(Invulblad!P169=\"Ja\",Invulblad!M169*Invulblad!Q169,0)","v":0},null,null,null,null,null,{"$f":"IF(Invulblad!P169=\"Nee\",Invulblad!M169,0)","v":0}]
[{"$f":"IF(Invulblad!P170=\"Ja\",Invulblad!M170*Invulblad!Q170,0)","v":0},null,null,null,null,null,{"$f":"IF(Invulblad!P170=\"Nee\",Invulblad!M170,0)","v":0}]
[{"$f":"IF(Invulblad!P171=\"Ja\",Invulblad!M171*Invulblad!Q171,0)","v":0},null,null,null,null,null,{"$f":"IF(Invulblad!P171=\"Nee\",Invulblad!M171,0)","v":0}]
[{"$f":"IF(Invulblad!P172=\"Ja\",Invulblad!M172*Invulblad!Q172,0)","v":0},null,null,null,null,null,{"$f":"IF(Invulblad!P172=\"Nee\",Invulblad!M172,0)","v":0}]
[{"$f":"IF(Invulblad!P173=\"Ja\",Invulblad!M173*Invulblad!Q173,0)","v":0},null,null,null,null,null,{"$f":"IF(Invulblad!P173=\"Nee\",Invulblad!M173,0)","v":0}]
[{"$f":"IF(Invulblad!P174=\"Ja\",Invulblad!M174*Invulblad!Q174,0)","v":0},null,null,null,null,null,{"$f":"IF(Invulblad!P174=\"Nee\",Invulblad!M174,0)","v":0}]
[{"$f":"IF(Invulblad!P175=\"Ja\",Invulblad!M175*Invulblad!Q175,0)","v":0},null,null,null,null,null,{"$f":"IF(Invulblad!P175=\"Nee\",Invulblad!M175,0)","v":0}]
[{"$f":"IF(Invulblad!P176=\"Ja\",Invulblad!M176*Invulblad!Q176,0)","v":0},null,null,null,null,null,{"$f":"IF(Invulblad!P176=\"Nee\",Invulblad!M176,0)","v":0}]
[{"$f":"IF(Invulblad!P177=\"Ja\",Invulblad!M177*Invulblad!Q177,0)","v":0},null,null,null,null,null,{"$f":"IF(Invulblad!P177=\"Nee\",Invulblad!M177,0)","v":0}]
[{"$f":"IF(Invulblad!P178=\"Ja\",Invulblad!M178*Invulblad!Q178,0)","v":0},null,null,null,null,null,{"$f":"IF(Invulblad!P178=\"Nee\",Invulblad!M178,0)","v":0}]
[{"$f":"IF(Invulblad!P179=\"Ja\",Invulblad!M179*Invulblad!Q179,0)","v":0},null,null,null,null,null,{"$f":"IF(Invulblad!P179=\"Nee\",Invulblad!M179,0)","v":0}]
[{"$f":"IF(Invulblad!P180=\"Ja\",Invulblad!M180*Invulblad!Q180,0)","v":0},null,null,null,null,null,{"$f":"IF(Invulblad!P180=\"Nee\",Invulblad!M180,0)","v":0}]
[{"$f":"IF(Invulblad!P181=\"Ja\",Invulblad!M181*Invulblad!Q181,0)","v":0},null,null,null,null,null,{"$f":"IF(Invulblad!P181=\"Nee\",Invulblad!M181,0)","v":0}]
[{"$f":"IF(Invulblad!P182=\"Ja\",Invulblad!M182*Invulblad!Q182,0)","v":0},null,null,null,null,null,{"$f":"IF(Invulblad!P182=\"Nee\",Invulblad!M182,0)","v":0}]
[{"$f":"IF(Invulblad!P183=\"Ja\",Invulblad!M183*Invulblad!Q183,0)","v":0},null,null,null,null,null,{"$f":"IF(Invulblad!P183=\"Nee\",Invulblad!M183,0)","v":0}]
[{"$f":"IF(Invulblad!P184=\"Ja\",Invulblad!M184*Invulblad!Q184,0)","v":0},null,null,null,null,null,{"$f":"IF(Invulblad!P184=\"Nee\",Invulblad!M184,0)","v":0}]
[{"$f":"IF(Invulblad!P185=\"Ja\",Invulblad!M185*Invulblad!Q185,0)","v":0},null,null,null,null,null,{"$f":"IF(Invulblad!P185=\"Nee\",Invulblad!M185,0)","v":0}]
[{"$f":"IF(Invulblad!P186=\"Ja\",Invulblad!M186*Invulblad!Q186,0)","v":0},null,null,null,null,null,{"$f":"IF(Invulblad!P186=\"Nee\",Invulblad!M186,0)","v":0}]
[{"$f":"IF(Invulblad!P187=\"Ja\",Invulblad!M187*Invulblad!Q187,0)","v":0},null,null,null,null,null,{"$f":"IF(Invulblad!P187=\"Nee\",Invulblad!M187,0)","v":0}]
[{"$f":"IF(Invulblad!P188=\"Ja\",Invulblad!M188*Invulblad!Q188,0)","v":0},null,null,null,null,null,{"$f":"IF(Invulblad!P188=\"Nee\",Invulblad!M188,0)","v":0}]
[{"$f":"IF(Invulblad!P189=\"Ja\",Invulblad!M189*Invulblad!Q189,0)","v":0},null,null,null,null,null,{"$f":"IF(Invulblad!P189=\"Nee\",Invulblad!M189,0)","v":0}]
[{"$f":"IF(Invulblad!P190=\"Ja\",Invulblad!M190*Invulblad!Q190,0)","v":0},null,null,null,null,null,{"$f":"IF(Invulblad!P190=\"Nee\",Invulblad!M190,0)","v":0}]
[{"$f":"IF(Invulblad!P191=\"Ja\",Invulblad!M191*Invulblad!Q191,0)","v":0},null,null,null,null,null,{"$f":"IF(Invulblad!P191=\"Nee\",Invulblad!M191,0)","v":0}]
[{"$f":"IF(Invulblad!P192=\"Ja\",Invulblad!M192*Invulblad!Q192,0)","v":0},null,null,null,null,null,{"$f":"IF(Invulblad!P192=\"Nee\",Invulblad!M192,0)","v":0}]
[{"$f":"IF(Invulblad!P193=\"Ja\",Invulblad!M193*Invulblad!Q193,0)","v":0},null,null,null,null,null,{"$f":"IF(Invulblad!P193=\"Nee\",Invulblad!M193,0)","v":0}]
[{"$f":"IF(Invulblad!P194=\"Ja\",Invulblad!M194*Invulblad!Q194,0)","v":0},null,null,null,null,null,{"$f":"IF(Invulblad!P194=\"Nee\",Invulblad!M194,0)","v":0}]
[{"$f":"IF(Invulblad!P195=\"Ja\",Invulblad!M195*Invulblad!Q195,0)","v":0},null,null,null,null,null,{"$f":"IF(Invulblad!P195=\"Nee\",Invulblad!M195,0)","v":0}]
[{"$f":"IF(Invulblad!P196=\"Ja\",Invulblad!M196*Invulblad!Q196,0)","v":0},null,null,null,null,null,{"$f":"IF(Invulblad!P196=\"Nee\",Invulblad!M196,0)","v":0}]
[{"$f":"IF(Invulblad!P197=\"Ja\",Invulblad!M197*Invulblad!Q197,0)","v":0},null,null,null,null,null,{"$f":"IF(Invulblad!P197=\"Nee\",Invulblad!M197,0)","v":0}]
[{"$f":"IF(Invulblad!P198=\"Ja\",Invulblad!M198*Invulblad!Q198,0)","v":0},null,null,null,null,null,{"$f":"IF(Invulblad!P198=\"Nee\",Invulblad!M198,0)","v":0}]
[{"$f":"IF(Invulblad!P199=\"Ja\",Invulblad!M199*Invulblad!Q199,0)","v":0},null,null,null,null,null,{"$f":"IF(Invulblad!P199=\"Nee\",Invulblad!M199,0)","v":0}]
[{"$f":"IF(Invulblad!P200=\"Ja\",Invulblad!M200*Invulblad!Q200,0)","v":0},null,null,null,null,null,{"$f":"IF(Invulblad!P200=\"Nee\",Invulblad!M200,0)","v":0}]
[{"$f":"IF(Invulblad!P201=\"Ja\",Invulblad!M201*Invulblad!Q201,0)","v":0},null,null,null,null,null,{"$f":"IF(Invulblad!P201=\"Nee\",Invulblad!M201,0)","v":0}]
[{"$f":"IF(Invulblad!P202=\"Ja\",Invulblad!M202*Invulblad!Q202,0)","v":0},null,null,null,null,null,{"$f":"IF(Invulblad!P202=\"Nee\",Invulblad!M202,0)","v":0}]
[{"$f":"IF(Invulblad!P203=\"Ja\",Invulblad!M203*Invulblad!Q203,0)","v":0},null,null,null,null,null,{"$f":"IF(Invulblad!P203=\"Nee\",Invulblad!M203,0)","v":0}]
[{"$f":"IF(Invulblad!P204=\"Ja\",Invulblad!M204*Invulblad!Q204,0)","v":0},null,null,null,null,null,{"$f":"IF(Invulblad!P204=\"Nee\",Invulblad!M204,0)","v":0}]
[{"$f":"IF(Invulblad!P205=\"Ja\",Invulblad!M205*Invulblad!Q205,0)","v":0},null,null,null,null,null,{"$f":"IF(Invulblad!P205=\"Nee\",Invulblad!M205,0)","v":0}]
[{"$f":"IF(Invulblad!P206=\"Ja\",Invulblad!M206*Invulblad!Q206,0)","v":0},null,null,null,null,null,{"$f":"IF(Invulblad!P206=\"Nee\",Invulblad!M206,0)","v":0}]
[{"$f":"IF(Invulblad!P207=\"Ja\",Invulblad!M207*Invulblad!Q207,0)","v":0},null,null,null,null,null,{"$f":"IF(Invulblad!P207=\"Nee\",Invulblad!M207,0)","v":0}]
[{"$f":"IF(Invulblad!P208=\"Ja\",Invulblad!M208*Invulblad!Q208,0)","v":0},null,null,null,null,null,{"$f":"IF(Invulblad!P208=\"Nee\",Invulblad!M208,0)","v":0}]
[{"$f":"IF(Invulblad!P209=\"Ja\",Invulblad!M209*Invulblad!Q209,0)","v":0},null,null,null,null,null,{"$f":"IF(Invulblad!P209=\"Nee\",Invulblad!M209,0)","v":0}]
[{"$f":"IF(Invulblad!P210=\"Ja\",Invulblad!M210*Invulblad!Q210,0)","v":0},null,null,null,null,null,{"$f":"IF(Invulblad!P210=\"Nee\",Invulblad!M210,0)","v":0}]
[{"$f":"IF(Invulblad!P211=\"Ja\",Invulblad!M211*Invulblad!Q211,0)","v":0},null,null,null,null,null,{"$f":"IF(Invulblad!P211=\"Nee\",Invulblad!M211,0)","v":0}]
[{"$f":"IF(Invulblad!P212=\"Ja\",Invulblad!M212*Invulblad!Q212,0)","v":0},null,null,null,null,null,{"$f":"IF(Invulblad!P212=\"Nee\",Invulblad!M212,0)","v":0}]
[{"$f":"IF(Invulblad!P213=\"Ja\",Invulblad!M213*Invulblad!Q213,0)","v":0},null,null,null,null,null,{"$f":"IF(Invulblad!P213=\"Nee\",Invulblad!M213,0)","v":0}]
[{"$f":"IF(Invulblad!P214=\"Ja\",Invulblad!M214*Invulblad!Q214,0)","v":0},null,null,null,null,null,{"$f":"IF(Invulblad!P214=\"Nee\",Invulblad!M214,0)","v":0}]
[{"$f":"IF(Invulblad!P215=\"Ja\",Invulblad!M215*Invulblad!Q215,0)","v":0},null,null,null,null,null,{"$f":"IF(Invulblad!P215=\"Nee\",Invulblad!M215,0)","v":0}]
[{"$f":"IF(Invulblad!P216=\"Ja\",Invulblad!M216*Invulblad!Q216,0)","v":0},null,null,null,null,null,{"$f":"IF(Invulblad!P216=\"Nee\",Invulblad!M216,0)","v":0}]
[{"$f":"IF(Invulblad!P217=\"Ja\",Invulblad!M217*Invulblad!Q217,0)","v":0},null,null,null,null,null,{"$f":"IF(Invulblad!P217=\"Nee\",Invulblad!M217,0)","v":0}]
[{"$f":"IF(Invulblad!P218=\"Ja\",Invulblad!M218*Invulblad!Q218,0)","v":0},null,null,null,null,null,{"$f":"IF(Invulblad!P218=\"Nee\",Invulblad!M218,0)","v":0}]
[{"$f":"IF(Invulblad!P219=\"Ja\",Invulblad!M219*Invulblad!Q219,0)","v":0},null,null,null,null,null,{"$f":"IF(Invulblad!P219=\"Nee\",Invulblad!M219,0)","v":0}]
[{"$f":"IF(Invulblad!P220=\"Ja\",Invulblad!M220*Invulblad!Q220,0)","v":0},null,null,null,null,null,{"$f":"IF(Invulblad!P220=\"Nee\",Invulblad!M220,0)","v":0}]
[{"$f":"IF(Invulblad!P221=\"Ja\",Invulblad!M221*Invulblad!Q221,0)","v":0},null,null,null,null,null,{"$f":"IF(Invulblad!P221=\"Nee\",Invulblad!M221,0)","v":0}]
[{"$f":"IF(Invulblad!P222=\"Ja\",Invulblad!M222*Invulblad!Q222,0)","v":0},null,null,null,null,null,{"$f":"IF(Invulblad!P222=\"Nee\",Invulblad!M222,0)","v":0}]
[{"$f":"IF(Invulblad!P223=\"Ja\",Invulblad!M223*Invulblad!Q223,0)","v":0},null,null,null,null,null,{"$f":"IF(Invulblad!P223=\"Nee\",Invulblad!M223,0)","v":0}]
[{"$f":"IF(Invulblad!P224=\"Ja\",Invulblad!M224*Invulblad!Q224,0)","v":0},null,null,null,null,null,{"$f":"IF(Invulblad!P224=\"Nee\",Invulblad!M224,0)","v":0}]
[{"$f":"IF(Invulblad!P225=\"Ja\",Invulblad!M225*Invulblad!Q225,0)","v":0},null,null,null,null,null,{"$f":"IF(Invulblad!P225=\"Nee\",Invulblad!M225,0)","v":0}]
[{"$f":"IF(Invulblad!P226=\"Ja\",Invulblad!M226*Invulblad!Q226,0)","v":0},null,null,null,null,null,{"$f":"IF(Invulblad!P226=\"Nee\",Invulblad!M226,0)","v":0}]
[{"$f":"IF(Invulblad!P227=\"Ja\",Invulblad!M227*Invulblad!Q227,0)","v":0},null,null,null,null,null,{"$f":"IF(Invulblad!P227=\"Nee\",Invulblad!M227,0)","v":0}]
[{"$f":"IF(Invulblad!P228=\"Ja\",Invulblad!M228*Invulblad!Q228,0)","v":0},null,null,null,null,null,{"$f":"IF(Invulblad!P228=\"Nee\",Invulblad!M228,0)","v":0}]
[{"$f":"IF(Invulblad!P229=\"Ja\",Invulblad!M229*Invulblad!Q229,0)","v":0},null,null,null,null,null,{"$f":"IF(Invulblad!P229=\"Nee\",Invulblad!M229,0)","v":0}]
[{"$f":"IF(Invulblad!P230=\"Ja\",Invulblad!M230*Invulblad!Q230,0)","v":0},null,null,null,null,null,{"$f":"IF(Invulblad!P230=\"Nee\",Invulblad!M230,0)","v":0}]
[{"$f":"IF(Invulblad!P231=\"Ja\",Invulblad!M231*Invulblad!Q231,0)","v":0},null,null,null,null,null,{"$f":"IF(Invulblad!P231=\"Nee\",Invulblad!M231,0)","v":0}]
[{"$f":"IF(Invulblad!P232=\"Ja\",Invulblad!M232*Invulblad!Q232,0)","v":0},null,null,null,null,null,{"$f":"IF(Invulblad!P232=\"Nee\",Invulblad!M232,0)","v":0}]
[{"$f":"IF(Invulblad!P233=\"Ja\",Invulblad!M233*Invulblad!Q233,0)","v":0},null,null,null,null,null,{"$f":"IF(Invulblad!P233=\"Nee\",Invulblad!M233,0)","v":0}]
[{"$f":"IF(Invulblad!P234=\"Ja\",Invulblad!M234*Invulblad!Q234,0)","v":0},null,null,null,null,null,{"$f":"IF(Invulblad!P234=\"Nee\",Invulblad!M234,0)","v":0}]
[{"$f":"IF(Invulblad!P235=\"Ja\",Invulblad!M235*Invulblad!Q235,0)","v":0},null,null,null,null,null,{"$f":"IF(Invulblad!P235=\"Nee\",Invulblad!M235,0)","v":0}]
[{"$f":"IF(Invulblad!P236=\"Ja\",Invulblad!M236*Invulblad!Q236,0)","v":0},null,null,null,null,null,{"$f":"IF(Invulblad!P236=\"Nee\",Invulblad!M236,0)","v":0}]
[{"$f":"IF(Invulblad!P237=\"Ja\",Invulblad!M237*Invulblad!Q237,0)","v":0},null,null,null,null,null,{"$f":"IF(Invulblad!P237=\"Nee\",Invulblad!M237,0)","v":0}]
[{"$f":"IF(Invulblad!P238=\"Ja\",Invulblad!M238*Invulblad!Q238,0)","v":0},null,null,null,null,null,{"$f":"IF(Invulblad!P238=\"Nee\",Invulblad!M238,0)","v":0}]
[{"$f":"IF(Invulblad!P239=\"Ja\",Invulblad!M239*Invulblad!Q239,0)","v":0},null,null,null,null,null,{"$f":"IF(Invulblad!P239=\"Nee\",Invulblad!M239,0)","v":0}]
[{"$f":"IF(Invulblad!P240=\"Ja\",Invulblad!M240*Invulblad!Q240,0)","v":0},null,null,null,null,null,{"$f":"IF(Invulblad!P240=\"Nee\",Invulblad!M240,0)","v":0}]
[{"$f":"IF(Invulblad!P241=\"Ja\",Invulblad!M241*Invulblad!Q241,0)","v":0},null,null,null,null,null,{"$f":"IF(Invulblad!P241=\"Nee\",Invulblad!M241,0)","v":0}]
[{"$f":"IF(Invulblad!P242=\"Ja\",Invulblad!M242*Invulblad!Q242,0)","v":0},null,null,null,null,null,{"$f":"IF(Invulblad!P242=\"Nee\",Invulblad!M242,0)","v":0}]
[{"$f":"IF(Invulblad!P243=\"Ja\",Invulblad!M243*Invulblad!Q243,0)","v":0},null,null,null,null,null,{"$f":"IF(Invulblad!P243=\"Nee\",Invulblad!M243,0)","v":0}]
[{"$f":"IF(Invulblad!P244=\"Ja\",Invulblad!M244*Invulblad!Q244,0)","v":0},null,null,null,null,null,{"$f":"IF(Invulblad!P244=\"Nee\",Invulblad!M244,0)","v":0}]
[{"$f":"IF(Invulblad!P245=\"Ja\",Invulblad!M245*Invulblad!Q245,0)","v":0},null,null,null,null,null,{"$f":"IF(Invulblad!P245=\"Nee\",Invulblad!M245,0)","v":0}]
[{"$f":"IF(Invulblad!P246=\"Ja\",Invulblad!M246*Invulblad!Q246,0)","v":0},null,null,null,null,null,{"$f":"IF(Invulblad!P246=\"Nee\",Invulblad!M246,0)","v":0}]
[{"$f":"IF(Invulblad!P247=\"Ja\",Invulblad!M247*Invulblad!Q247,0)","v":0},null,null,null,null,null,{"$f":"IF(Invulblad!P247=\"Nee\",Invulblad!M247,0)","v":0}]
[{"$f":"IF(Invulblad!P248=\"Ja\",Invulblad!M248*Invulblad!Q248,0)","v":0},null,null,null,null,null,{"$f":"IF(Invulblad!P248=\"Nee\",Invulblad!M248,0)","v":0}]
[{"$f":"IF(Invulblad!P249=\"Ja\",Invulblad!M249*Invulblad!Q249,0)","v":0},null,null,null,null,null,{"$f":"IF(Invulblad!P249=\"Nee\",Invulblad!M249,0)","v":0}]
[{"$f":"IF(Invulblad!P250=\"Ja\",Invulblad!M250*Invulblad!Q250,0)","v":0},null,null,null,null,null,{"$f":"IF(Invulblad!P250=\"Nee\",Invulblad!M250,0)","v":0}]
[{"$f":"IF(Invulblad!P251=\"Ja\",Invulblad!M251*Invulblad!Q251,0)","v":0},null,null,null,null,null,{"$f":"IF(Invulblad!P251=\"Nee\",Invulblad!M251,0)","v":0}]
[{"$f":"IF(Invulblad!P252=\"Ja\",Invulblad!M252*Invulblad!Q252,0)","v":0},null,null,null,null,null,{"$f":"IF(Invulblad!P252=\"Nee\",Invulblad!M252,0)","v":0}]
[{"$f":"IF(Invulblad!P253=\"Ja\",Invulblad!M253*Invulblad!Q253,0)","v":0},null,null,null,null,null,{"$f":"IF(Invulblad!P253=\"Nee\",Invulblad!M253,0)","v":0}]
[{"$f":"IF(Invulblad!P254=\"Ja\",Invulblad!M254*Invulblad!Q254,0)","v":0},null,null,null,null,null,{"$f":"IF(Invulblad!P254=\"Nee\",Invulblad!M254,0)","v":0}]
[{"$f":"IF(Invulblad!P255=\"Ja\",Invulblad!M255*Invulblad!Q255,0)","v":0},null,null,null,null,null,{"$f":"IF(Invulblad!P255=\"Nee\",Invulblad!M255,0)","v":0}]
[{"$f":"IF(Invulblad!P256=\"Ja\",Invulblad!M256*Invulblad!Q256,0)","v":0},null,null,null,null,null,{"$f":"IF(Invulblad!P256=\"Nee\",Invulblad!M256,0)","v":0}]
[{"$f":"IF(Invulblad!P257=\"Ja\",Invulblad!M257*Invulblad!Q257,0)","v":0},null,null,null,null,null,{"$f":"IF(Invulblad!P257=\"Nee\",Invulblad!M257,0)","v":0}]
[{"$f":"IF(Invulblad!P258=\"Ja\",Invulblad!M258*Invulblad!Q258,0)","v":0},null,null,null,null,null,{"$f":"IF(Invulblad!P258=\"Nee\",Invulblad!M258,0)","v":0}]
[{"$f":"IF(Invulblad!P259=\"Ja\",Invulblad!M259*Invulblad!Q259,0)","v":0},null,null,null,null,null,{"$f":"IF(Invulblad!P259=\"Nee\",Invulblad!M259,0)","v":0}]
[{"$f":"IF(Invulblad!P260=\"Ja\",Invulblad!M260*Invulblad!Q260,0)","v":0},null,null,null,null,null,{"$f":"IF(Invulblad!P260=\"Nee\",Invulblad!M260,0)","v":0}]
[{"$f":"IF(Invulblad!P261=\"Ja\",Invulblad!M261*Invulblad!Q261,0)","v":0},null,null,null,null,null,{"$f":"IF(Invulblad!P261=\"Nee\",Invulblad!M261,0)","v":0}]
[{"$f":"IF(Invulblad!P262=\"Ja\",Invulblad!M262*Invulblad!Q262,0)","v":0},null,null,null,null,null,{"$f":"IF(Invulblad!P262=\"Nee\",Invulblad!M262,0)","v":0}]
[{"$f":"IF(Invulblad!P263=\"Ja\",Invulblad!M263*Invulblad!Q263,0)","v":0},null,null,null,null,null,{"$f":"IF(Invulblad!P263=\"Nee\",Invulblad!M263,0)","v":0}]
[{"$f":"IF(Invulblad!P264=\"Ja\",Invulblad!M264*Invulblad!Q264,0)","v":0},null,null,null,null,null,{"$f":"IF(Invulblad!P264=\"Nee\",Invulblad!M264,0)","v":0}]
[{"$f":"IF(Invulblad!P265=\"Ja\",Invulblad!M265*Invulblad!Q265,0)","v":0},null,null,null,null,null,{"$f":"IF(Invulblad!P265=\"Nee\",Invulblad!M265,0)","v":0}]
[{"$f":"IF(Invulblad!P266=\"Ja\",Invulblad!M266*Invulblad!Q266,0)","v":0},null,null,null,null,null,{"$f":"IF(Invulblad!P266=\"Nee\",Invulblad!M266,0)","v":0}]
[{"$f":"IF(Invulblad!P267=\"Ja\",Invulblad!M267*Invulblad!Q267,0)","v":0},null,null,null,null,null,{"$f":"IF(Invulblad!P267=\"Nee\",Invulblad!M267,0)","v":0}]
[{"$f":"IF(Invulblad!P268=\"Ja\",Invulblad!M268*Invulblad!Q268,0)","v":0},null,null,null,null,null,{"$f":"IF(Invulblad!P268=\"Nee\",Invulblad!M268,0)","v":0}]
[{"$f":"IF(Invulblad!P269=\"Ja\",Invulblad!M269*Invulblad!Q269,0)","v":0},null,null,null,null,null,{"$f":"IF(Invulblad!P269=\"Nee\",Invulblad!M269,0)","v":0}]
[{"$f":"IF(Invulblad!P270=\"Ja\",Invulblad!M270*Invulblad!Q270,0)","v":0},null,null,null,null,null,{"$f":"IF(Invulblad!P270=\"Nee\",Invulblad!M270,0)","v":0}]
[{"$f":"IF(Invulblad!P271=\"Ja\",Invulblad!M271*Invulblad!Q271,0)","v":0},null,null,null,null,null,{"$f":"IF(Invulblad!P271=\"Nee\",Invulblad!M271,0)","v":0}]
[{"$f":"IF(Invulblad!P272=\"Ja\",Invulblad!M272*Invulblad!Q272,0)","v":0},null,null,null,null,null,{"$f":"IF(Invulblad!P272=\"Nee\",Invulblad!M272,0)","v":0}]
[{"$f":"IF(Invulblad!P273=\"Ja\",Invulblad!M273*Invulblad!Q273,0)","v":0},null,null,null,null,null,{"$f":"IF(Invulblad!P273=\"Nee\",Invulblad!M273,0)","v":0}]
[{"$f":"IF(Invulblad!P274=\"Ja\",Invulblad!M274*Invulblad!Q274,0)","v":0},null,null,null,null,null,{"$f":"IF(Invulblad!P274=\"Nee\",Invulblad!M274,0)","v":0}]
[{"$f":"IF(Invulblad!P275=\"Ja\",Invulblad!M275*Invulblad!Q275,0)","v":0},null,null,null,null,null,{"$f":"IF(Invulblad!P275=\"Nee\",Invulblad!M275,0)","v":0}]
[{"$f":"IF(Invulblad!P276=\"Ja\",Invulblad!M276*Invulblad!Q276,0)","v":0},null,null,null,null,null,{"$f":"IF(Invulblad!P276=\"Nee\",Invulblad!M276,0)","v":0}]
[{"$f":"IF(Invulblad!P277=\"Ja\",Invulblad!M277*Invulblad!Q277,0)","v":0},null,null,null,null,null,{"$f":"IF(Invulblad!P277=\"Nee\",Invulblad!M277,0)","v":0}]
[{"$f":"IF(Invulblad!P278=\"Ja\",Invulblad!M278*Invulblad!Q278,0)","v":0},null,null,null,null,null,{"$f":"IF(Invulblad!P278=\"Nee\",Invulblad!M278,0)","v":0}]
[{"$f":"IF(Invulblad!P279=\"Ja\",Invulblad!M279*Invulblad!Q279,0)","v":0},null,null,null,null,null,{"$f":"IF(Invulblad!P279=\"Nee\",Invulblad!M279,0)","v":0}]
[{"$f":"IF(Invulblad!P280=\"Ja\",Invulblad!M280*Invulblad!Q280,0)","v":0},null,null,null,null,null,{"$f":"IF(Invulblad!P280=\"Nee\",Invulblad!M280,0)","v":0}]
[{"$f":"IF(Invulblad!P281=\"Ja\",Invulblad!M281*Invulblad!Q281,0)","v":0},null,null,null,null,null,{"$f":"IF(Invulblad!P281=\"Nee\",Invulblad!M281,0)","v":0}]
[{"$f":"IF(Invulblad!P282=\"Ja\",Invulblad!M282*Invulblad!Q282,0)","v":0},null,null,null,null,null,{"$f":"IF(Invulblad!P282=\"Nee\",Invulblad!M282,0)","v":0}]
[{"$f":"IF(Invulblad!P283=\"Ja\",Invulblad!M283*Invulblad!Q283,0)","v":0},null,null,null,null,null,{"$f":"IF(Invulblad!P283=\"Nee\",Invulblad!M283,0)","v":0}]
[{"$f":"IF(Invulblad!P284=\"Ja\",Invulblad!M284*Invulblad!Q284,0)","v":0},null,null,null,null,null,{"$f":"IF(Invulblad!P284=\"Nee\",Invulblad!M284,0)","v":0}]
[{"$f":"IF(Invulblad!P285=\"Ja\",Invulblad!M285*Invulblad!Q285,0)","v":0},null,null,null,null,null,{"$f":"IF(Invulblad!P285=\"Nee\",Invulblad!M285,0)","v":0}]
[{"$f":"IF(Invulblad!P286=\"Ja\",Invulblad!M286*Invulblad!Q286,0)","v":0},null,null,null,null,null,{"$f":"IF(Invulblad!P286=\"Nee\",Invulblad!M286,0)","v":0}]
[{"$f":"IF(Invulblad!P287=\"Ja\",Invulblad!M287*Invulblad!Q287,0)","v":0},null,null,null,null,null,{"$f":"IF(Invulblad!P287=\"Nee\",Invulblad!M287,0)","v":0}]
[{"$f":"IF(Invulblad!P288=\"Ja\",Invulblad!M288*Invulblad!Q288,0)","v":0},null,null,null,null,null,{"$f":"IF(Invulblad!P288=\"Nee\",Invulblad!M288,0)","v":0}]
[{"$f":"IF(Invulblad!P289=\"Ja\",Invulblad!M289*Invulblad!Q289,0)","v":0},null,null,null,null,null,{"$f":"IF(Invulblad!P289=\"Nee\",Invulblad!M289,0)","v":0}]
[{"$f":"IF(Invulblad!P290=\"Ja\",Invulblad!M290*Invulblad!Q290,0)","v":0},null,null,null,null,null,{"$f":"IF(Invulblad!P290=\"Nee\",Invulblad!M290,0)","v":0}]
[{"$f":"IF(Invulblad!P291=\"Ja\",Invulblad!M291*Invulblad!Q291,0)","v":0},null,null,null,null,null,{"$f":"IF(Invulblad!P291=\"Nee\",Invulblad!M291,0)","v":0}]
[{"$f":"IF(Invulblad!P292=\"Ja\",Invulblad!M292*Invulblad!Q292,0)","v":0},null,null,null,null,null,{"$f":"IF(Invulblad!P292=\"Nee\",Invulblad!M292,0)","v":0}]
[{"$f":"IF(Invulblad!P293=\"Ja\",Invulblad!M293*Invulblad!Q293,0)","v":0},null,null,null,null,null,{"$f":"IF(Invulblad!P293=\"Nee\",Invulblad!M293,0)","v":0}]
[{"$f":"IF(Invulblad!P294=\"Ja\",Invulblad!M294*Invulblad!Q294,0)","v":0},null,null,null,null,null,{"$f":"IF(Invulblad!P294=\"Nee\",Invulblad!M294,0)","v":0}]
[{"$f":"IF(Invulblad!P295=\"Ja\",Invulblad!M295*Invulblad!Q295,0)","v":0},null,null,null,null,null,{"$f":"IF(Invulblad!P295=\"Nee\",Invulblad!M295,0)","v":0}]
[{"$f":"IF(Invulblad!P296=\"Ja\",Invulblad!M296*Invulblad!Q296,0)","v":0},null,null,null,null,null,{"$f":"IF(Invulblad!P296=\"Nee\",Invulblad!M296,0)","v":0}]
[{"$f":"IF(Invulblad!P297=\"Ja\",Invulblad!M297*Invulblad!Q297,0)","v":0},null,null,null,null,null,{"$f":"IF(Invulblad!P297=\"Nee\",Invulblad!M297,0)","v":0}]
[{"$f":"IF(Invulblad!P298=\"Ja\",Invulblad!M298*Invulblad!Q298,0)","v":0},null,null,null,null,null,{"$f":"IF(Invulblad!P298=\"Nee\",Invulblad!M298,0)","v":0}]
[{"$f":"IF(Invulblad!P299=\"Ja\",Invulblad!M299*Invulblad!Q299,0)","v":0},null,null,null,null,null,{"$f":"IF(Invulblad!P299=\"Nee\",Invulblad!M299,0)","v":0}]
[{"$f":"IF(Invulblad!P300=\"Ja\",Invulblad!M300*Invulblad!Q300,0)","v":0},null,null,null,null,null,{"$f":"IF(Invulblad!P300=\"Nee\",Invulblad!M300,0)","v":0}]
[{"$f":"IF(Invulblad!P301=\"Ja\",Invulblad!M301*Invulblad!Q301,0)","v":0},null,null,null,null,null,{"$f":"IF(Invulblad!P301=\"Nee\",Invulblad!M301,0)","v":0}]
[{"$f":"IF(Invulblad!P302=\"Ja\",Invulblad!M302*Invulblad!Q302,0)","v":0},null,null,null,null,null,{"$f":"IF(Invulblad!P302=\"Nee\",Invulblad!M302,0)","v":0}]
[{"$f":"IF(Invulblad!P303=\"Ja\",Invulblad!M303*Invulblad!Q303,0)","v":0},null,null,null,null,null,{"$f":"IF(Invulblad!P303=\"Nee\",Invulblad!M303,0)","v":0}]
[{"$f":"IF(Invulblad!P304=\"Ja\",Invulblad!M304*Invulblad!Q304,0)","v":0},null,null,null,null,null,{"$f":"IF(Invulblad!P304=\"Nee\",Invulblad!M304,0)","v":0}]
[{"$f":"IF(Invulblad!P305=\"Ja\",Invulblad!M305*Invulblad!Q305,0)","v":0},null,null,null,null,null,{"$f":"IF(Invulblad!P305=\"Nee\",Invulblad!M305,0)","v":0}]
[{"$f":"IF(Invulblad!P306=\"Ja\",Invulblad!M306*Invulblad!Q306,0)","v":0},null,null,null,null,null,{"$f":"IF(Invulblad!P306=\"Nee\",Invulblad!M306,0)","v":0}]
[{"$f":"IF(Invulblad!P307=\"Ja\",Invulblad!M307*Invulblad!Q307,0)","v":0},null,null,null,null,null,{"$f":"IF(Invulblad!P307=\"Nee\",Invulblad!M307,0)","v":0}]
[{"$f":"IF(Invulblad!P308=\"Ja\",Invulblad!M308*Invulblad!Q308,0)","v":0},null,null,null,null,null,{"$f":"IF(Invulblad!P308=\"Nee\",Invulblad!M308,0)","v":0}]
[{"$f":"IF(Invulblad!P309=\"Ja\",Invulblad!M309*Invulblad!Q309,0)","v":0},null,null,null,null,null,{"$f":"IF(Invulblad!P309=\"Nee\",Invulblad!M309,0)","v":0}]
[{"$f":"IF(Invulblad!P310=\"Ja\",Invulblad!M310*Invulblad!Q310,0)","v":0},null,null,null,null,null,{"$f":"IF(Invulblad!P310=\"Nee\",Invulblad!M310,0)","v":0}]
[{"$f":"IF(Invulblad!P311=\"Ja\",Invulblad!M311*Invulblad!Q311,0)","v":0},null,null,null,null,null,{"$f":"IF(Invulblad!P311=\"Nee\",Invulblad!M311,0)","v":0}]
[{"$f":"IF(Invulblad!P312=\"Ja\",Invulblad!M312*Invulblad!Q312,0)","v":0},null,null,null,null,null,{"$f":"IF(Invulblad!P312=\"Nee\",Invulblad!M312,0)","v":0}]
[{"$f":"IF(Invulblad!P313=\"Ja\",Invulblad!M313*Invulblad!Q313,0)","v":0},null,null,null,null,null,{"$f":"IF(Invulblad!P313=\"Nee\",Invulblad!M313,0)","v":0}]
[{"$f":"IF(Invulblad!P314=\"Ja\",Invulblad!M314*Invulblad!Q314,0)","v":0},null,null,null,null,null,{"$f":"IF(Invulblad!P314=\"Nee\",Invulblad!M314,0)","v":0}]
[{"$f":"IF(Invulblad!P315=\"Ja\",Invulblad!M315*Invulblad!Q315,0)","v":0},null,null,null,null,null,{"$f":"IF(Invulblad!P315=\"Nee\",Invulblad!M315,0)","v":0}]
[{"$f":"IF(Invulblad!P316=\"Ja\",Invulblad!M316*Invulblad!Q316,0)","v":0},null,null,null,null,null,{"$f":"IF(Invulblad!P316=\"Nee\",Invulblad!M316,0)","v":0}]
[{"$f":"IF(Invulblad!P317=\"Ja\",Invulblad!M317*Invulblad!Q317,0)","v":0},null,null,null,null,null,{"$f":"IF(Invulblad!P317=\"Nee\",Invulblad!M317,0)","v":0}]
[{"$f":"IF(Invulblad!P318=\"Ja\",Invulblad!M318*Invulblad!Q318,0)","v":0},null,null,null,null,null,{"$f":"IF(Invulblad!P318=\"Nee\",Invulblad!M318,0)","v":0}]
[{"$f":"IF(Invulblad!P319=\"Ja\",Invulblad!M319*Invulblad!Q319,0)","v":0},null,null,null,null,null,{"$f":"IF(Invulblad!P319=\"Nee\",Invulblad!M319,0)","v":0}]
[{"$f":"IF(Invulblad!P320=\"Ja\",Invulblad!M320*Invulblad!Q320,0)","v":0},null,null,null,null,null,{"$f":"IF(Invulblad!P320=\"Nee\",Invulblad!M320,0)","v":0}]
[{"$f":"IF(Invulblad!P321=\"Ja\",Invulblad!M321*Invulblad!Q321,0)","v":0},null,null,null,null,null,{"$f":"IF(Invulblad!P321=\"Nee\",Invulblad!M321,0)","v":0}]
[{"$f":"IF(Invulblad!P322=\"Ja\",Invulblad!M322*Invulblad!Q322,0)","v":0},null,null,null,null,null,{"$f":"IF(Invulblad!P322=\"Nee\",Invulblad!M322,0)","v":0}]
[{"$f":"IF(Invulblad!P323=\"Ja\",Invulblad!M323*Invulblad!Q323,0)","v":0},null,null,null,null,null,{"$f":"IF(Invulblad!P323=\"Nee\",Invulblad!M323,0)","v":0}]
[{"$f":"IF(Invulblad!P324=\"Ja\",Invulblad!M324*Invulblad!Q324,0)","v":0},null,null,null,null,null,{"$f":"IF(Invulblad!P324=\"Nee\",Invulblad!M324,0)","v":0}]
[{"$f":"IF(Invulblad!P325=\"Ja\",Invulblad!M325*Invulblad!Q325,0)","v":0},null,null,null,null,null,{"$f":"IF(Invulblad!P325=\"Nee\",Invulblad!M325,0)","v":0}]
[{"$f":"IF(Invulblad!P326=\"Ja\",Invulblad!M326*Invulblad!Q326,0)","v":0},null,null,null,null,null,{"$f":"IF(Invulblad!P326=\"Nee\",Invulblad!M326,0)","v":0}]
[{"$f":"IF(Invulblad!P327=\"Ja\",Invulblad!M327*Invulblad!Q327,0)","v":0},null,null,null,null,null,{"$f":"IF(Invulblad!P327=\"Nee\",Invulblad!M327,0)","v":0}]
[{"$f":"IF(Invulblad!P328=\"Ja\",Invulblad!M328*Invulblad!Q328,0)","v":0},null,null,null,null,null,{"$f":"IF(Invulblad!P328=\"Nee\",Invulblad!M328,0)","v":0}]
[{"$f":"IF(Invulblad!P329=\"Ja\",Invulblad!M329*Invulblad!Q329,0)","v":0},null,null,null,null,null,{"$f":"IF(Invulblad!P329=\"Nee\",Invulblad!M329,0)","v":0}]
[{"$f":"IF(Invulblad!P330=\"Ja\",Invulblad!M330*Invulblad!Q330,0)","v":0},null,null,null,null,null,{"$f":"IF(Invulblad!P330=\"Nee\",Invulblad!M330,0)","v":0}]
[{"$f":"IF(Invulblad!P331=\"Ja\",Invulblad!M331*Invulblad!Q331,0)","v":0},null,null,null,null,null,{"$f":"IF(Invulblad!P331=\"Nee\",Invulblad!M331,0)","v":0}]
[{"$f":"IF(Invulblad!P332=\"Ja\",Invulblad!M332*Invulblad!Q332,0)","v":0},null,null,null,null,null,{"$f":"IF(Invulblad!P332=\"Nee\",Invulblad!M332,0)","v":0}]
[{"$f":"IF(Invulblad!P333=\"Ja\",Invulblad!M333*Invulblad!Q333,0)","v":0},null,null,null,null,null,{"$f":"IF(Invulblad!P333=\"Nee\",Invulblad!M333,0)","v":0}]
[{"$f":"IF(Invulblad!P334=\"Ja\",Invulblad!M334*Invulblad!Q334,0)","v":0},null,null,null,null,null,{"$f":"IF(Invulblad!P334=\"Nee\",Invulblad!M334,0)","v":0}]
[{"$f":"IF(Invulblad!P335=\"Ja\",Invulblad!M335*Invulblad!Q335,0)","v":0},null,null,null,null,null,{"$f":"IF(Invulblad!P335=\"Nee\",Invulblad!M335,0)","v":0}]
[{"$f":"IF(Invulblad!P336=\"Ja\",Invulblad!M336*Invulblad!Q336,0)","v":0},null,null,null,null,null,{"$f":"IF(Invulblad!P336=\"Nee\",Invulblad!M336,0)","v":0}]
[{"$f":"IF(Invulblad!P337=\"Ja\",Invulblad!M337*Invulblad!Q337,0)","v":0},null,null,null,null,null,{"$f":"IF(Invulblad!P337=\"Nee\",Invulblad!M337,0)","v":0}]
[{"$f":"IF(Invulblad!P338=\"Ja\",Invulblad!M338*Invulblad!Q338,0)","v":0},null,null,null,null,null,{"$f":"IF(Invulblad!P338=\"Nee\",Invulblad!M338,0)","v":0}]
[{"$f":"IF(Invulblad!P339=\"Ja\",Invulblad!M339*Invulblad!Q339,0)","v":0},null,null,null,null,null,{"$f":"IF(Invulblad!P339=\"Nee\",Invulblad!M339,0)","v":0}]
[{"$f":"IF(Invulblad!P340=\"Ja\",Invulblad!M340*Invulblad!Q340,0)","v":0},null,null,null,null,null,{"$f":"IF(Invulblad!P340=\"Nee\",Invulblad!M340,0)","v":0}]
[{"$f":"IF(Invulblad!P341=\"Ja\",Invulblad!M341*Invulblad!Q341,0)","v":0},null,null,null,null,null,{"$f":"IF(Invulblad!P341=\"Nee\",Invulblad!M341,0)","v":0}]
[{"$f":"IF(Invulblad!P342=\"Ja\",Invulblad!M342*Invulblad!Q342,0)","v":0},null,null,null,null,null,{"$f":"IF(Invulblad!P342=\"Nee\",Invulblad!M342,0)","v":0}]
[{"$f":"IF(Invulblad!P343=\"Ja\",Invulblad!M343*Invulblad!Q343,0)","v":0},null,null,null,null,null,{"$f":"IF(Invulblad!P343=\"Nee\",Invulblad!M343,0)","v":0}]
[{"$f":"IF(Invulblad!P344=\"Ja\",Invulblad!M344*Invulblad!Q344,0)","v":0},null,null,null,null,null,{"$f":"IF(Invulblad!P344=\"Nee\",Invulblad!M344,0)","v":0}]
[{"$f":"IF(Invulblad!P345=\"Ja\",Invulblad!M345*Invulblad!Q345,0)","v":0},null,null,null,null,null,{"$f":"IF(Invulblad!P345=\"Nee\",Invulblad!M345,0)","v":0}]
[{"$f":"IF(Invulblad!P346=\"Ja\",Invulblad!M346*Invulblad!Q346,0)","v":0},null,null,null,null,null,{"$f":"IF(Invulblad!P346=\"Nee\",Invulblad!M346,0)","v":0}]
[{"$f":"IF(Invulblad!P347=\"Ja\",Invulblad!M347*Invulblad!Q347,0)","v":0},null,null,null,null,null,{"$f":"IF(Invulblad!P347=\"Nee\",Invulblad!M347,0)","v":0}]
[{"$f":"IF(Invulblad!P348=\"Ja\",Invulblad!M348*Invulblad!Q348,0)","v":0},null,null,null,null,null,{"$f":"IF(Invulblad!P348=\"Nee\",Invulblad!M348,0)","v":0}]
[{"$f":"IF(Invulblad!P349=\"Ja\",Invulblad!M349*Invulblad!Q349,0)","v":0},null,null,null,null,null,{"$f":"IF(Invulblad!P349=\"Nee\",Invulblad!M349,0)","v":0}]
[{"$f":"IF(Invulblad!P350=\"Ja\",Invulblad!M350*Invulblad!Q350,0)","v":0},null,null,null,null,null,{"$f":"IF(Invulblad!P350=\"Nee\",Invulblad!M350,0)","v":0}]
[{"$f":"IF(Invulblad!P351=\"Ja\",Invulblad!M351*Invulblad!Q351,0)","v":0},null,null,null,null,null,{"$f":"IF(Invulblad!P351=\"Nee\",Invulblad!M351,0)","v":0}]
[{"$f":"IF(Invulblad!P352=\"Ja\",Invulblad!M352*Invulblad!Q352,0)","v":0},null,null,null,null,null,{"$f":"IF(Invulblad!P352=\"Nee\",Invulblad!M352,0)","v":0}]
[{"$f":"IF(Invulblad!P353=\"Ja\",Invulblad!M353*Invulblad!Q353,0)","v":0},null,null,null,null,null,{"$f":"IF(Invulblad!P353=\"Nee\",Invulblad!M353,0)","v":0}]
[{"$f":"IF(Invulblad!P354=\"Ja\",Invulblad!M354*Invulblad!Q354,0)","v":0},null,null,null,null,null,{"$f":"IF(Invulblad!P354=\"Nee\",Invulblad!M354,0)","v":0}]
[{"$f":"IF(Invulblad!P355=\"Ja\",Invulblad!M355*Invulblad!Q355,0)","v":0},null,null,null,null,null,{"$f":"IF(Invulblad!P355=\"Nee\",Invulblad!M355,0)","v":0}]
[{"$f":"IF(Invulblad!P356=\"Ja\",Invulblad!M356*Invulblad!Q356,0)","v":0},null,null,null,null,null,{"$f":"IF(Invulblad!P356=\"Nee\",Invulblad!M356,0)","v":0}]
[{"$f":"IF(Invulblad!P357=\"Ja\",Invulblad!M357*Invulblad!Q357,0)","v":0},null,null,null,null,null,{"$f":"IF(Invulblad!P357=\"Nee\",Invulblad!M357,0)","v":0}]
[{"$f":"IF(Invulblad!P358=\"Ja\",Invulblad!M358*Invulblad!Q358,0)","v":0},null,null,null,null,null,{"$f":"IF(Invulblad!P358=\"Nee\",Invulblad!M358,0)","v":0}]
[{"$f":"IF(Invulblad!P359=\"Ja\",Invulblad!M359*Invulblad!Q359,0)","v":0},null,null,null,null,null,{"$f":"IF(Invulblad!P359=\"Nee\",Invulblad!M359,0)","v":0}]
[{"$f":"IF(Invulblad!P360=\"Ja\",Invulblad!M360*Invulblad!Q360,0)","v":0},null,null,null,null,null,{"$f":"IF(Invulblad!P360=\"Nee\",Invulblad!M360,0)","v":0}]
[{"$f":"IF(Invulblad!P361=\"Ja\",Invulblad!M361*Invulblad!Q361,0)","v":0},null,null,null,null,null,{"$f":"IF(Invulblad!P361=\"Nee\",Invulblad!M361,0)","v":0}]
[{"$f":"IF(Invulblad!P362=\"Ja\",Invulblad!M362*Invulblad!Q362,0)","v":0},null,null,null,null,null,{"$f":"IF(Invulblad!P362=\"Nee\",Invulblad!M362,0)","v":0}]
[{"$f":"IF(Invulblad!P363=\"Ja\",Invulblad!M363*Invulblad!Q363,0)","v":0},null,null,null,null,null,{"$f":"IF(Invulblad!P363=\"Nee\",Invulblad!M363,0)","v":0}]
[{"$f":"IF(Invulblad!P364=\"Ja\",Invulblad!M364*Invulblad!Q364,0)","v":0},null,null,null,null,null,{"$f":"IF(Invulblad!P364=\"Nee\",Invulblad!M364,0)","v":0}]
[{"$f":"IF(Invulblad!P365=\"Ja\",Invulblad!M365*Invulblad!Q365,0)","v":0},null,null,null,null,null,{"$f":"IF(Invulblad!P365=\"Nee\",Invulblad!M365,0)","v":0}]
[{"$f":"IF(Invulblad!P366=\"Ja\",Invulblad!M366*Invulblad!Q366,0)","v":0},null,null,null,null,null,{"$f":"IF(Invulblad!P366=\"Nee\",Invulblad!M366,0)","v":0}]
[{"$f":"IF(Invulblad!P367=\"Ja\",Invulblad!M367*Invulblad!Q367,0)","v":0},null,null,null,null,null,{"$f":"IF(Invulblad!P367=\"Nee\",Invulblad!M367,0)","v":0}]
[{"$f":"IF(Invulblad!P368=\"Ja\",Invulblad!M368*Invulblad!Q368,0)","v":0},null,null,null,null,null,{"$f":"IF(Invulblad!P368=\"Nee\",Invulblad!M368,0)","v":0}]
[{"$f":"IF(Invulblad!P369=\"Ja\",Invulblad!M369*Invulblad!Q369,0)","v":0},null,null,null,null,null,{"$f":"IF(Invulblad!P369=\"Nee\",Invulblad!M369,0)","v":0}]
[{"$f":"IF(Invulblad!P370=\"Ja\",Invulblad!M370*Invulblad!Q370,0)","v":0},null,null,null,null,null,{"$f":"IF(Invulblad!P370=\"Nee\",Invulblad!M370,0)","v":0}]
[{"$f":"IF(Invulblad!P371=\"Ja\",Invulblad!M371*Invulblad!Q371,0)","v":0},null,null,null,null,null,{"$f":"IF(Invulblad!P371=\"Nee\",Invulblad!M371,0)","v":0}]
[{"$f":"IF(Invulblad!P372=\"Ja\",Invulblad!M372*Invulblad!Q372,0)","v":0},null,null,null,null,null,{"$f":"IF(Invulblad!P372=\"Nee\",Invulblad!M372,0)","v":0}]
[{"$f":"IF(Invulblad!P373=\"Ja\",Invulblad!M373*Invulblad!Q373,0)","v":0},null,null,null,null,null,{"$f":"IF(Invulblad!P373=\"Nee\",Invulblad!M373,0)","v":0}]
[{"$f":"IF(Invulblad!P374=\"Ja\",Invulblad!M374*Invulblad!Q374,0)","v":0},null,null,null,null,null,{"$f":"IF(Invulblad!P374=\"Nee\",Invulblad!M374,0)","v":0}]
[{"$f":"IF(Invulblad!P375=\"Ja\",Invulblad!M375*Invulblad!Q375,0)","v":0},null,null,null,null,null,{"$f":"IF(Invulblad!P375=\"Nee\",Invulblad!M375,0)","v":0}]
[{"$f":"IF(Invulblad!P376=\"Ja\",Invulblad!M376*Invulblad!Q376,0)","v":0},null,null,null,null,null,{"$f":"IF(Invulblad!P376=\"Nee\",Invulblad!M376,0)","v":0}]
[{"$f":"IF(Invulblad!P377=\"Ja\",Invulblad!M377*Invulblad!Q377,0)","v":0},null,null,null,null,null,{"$f":"IF(Invulblad!P377=\"Nee\",Invulblad!M377,0)","v":0}]
[{"$f":"IF(Invulblad!P378=\"Ja\",Invulblad!M378*Invulblad!Q378,0)","v":0},null,null,null,null,null,{"$f":"IF(Invulblad!P378=\"Nee\",Invulblad!M378,0)","v":0}]
[{"$f":"IF(Invulblad!P379=\"Ja\",Invulblad!M379*Invulblad!Q379,0)","v":0},null,null,null,null,null,{"$f":"IF(Invulblad!P379=\"Nee\",Invulblad!M379,0)","v":0}]
[{"$f":"IF(Invulblad!P380=\"Ja\",Invulblad!M380*Invulblad!Q380,0)","v":0},null,null,null,null,null,{"$f":"IF(Invulblad!P380=\"Nee\",Invulblad!M380,0)","v":0}]
[{"$f":"IF(Invulblad!P381=\"Ja\",Invulblad!M381*Invulblad!Q381,0)","v":0},null,null,null,null,null,{"$f":"IF(Invulblad!P381=\"Nee\",Invulblad!M381,0)","v":0}]
[{"$f":"IF(Invulblad!P382=\"Ja\",Invulblad!M382*Invulblad!Q382,0)","v":0},null,null,null,null,null,{"$f":"IF(Invulblad!P382=\"Nee\",Invulblad!M382,0)","v":0}]
[{"$f":"IF(Invulblad!P383=\"Ja\",Invulblad!M383*Invulblad!Q383,0)","v":0},null,null,null,null,null,{"$f":"IF(Invulblad!P383=\"Nee\",Invulblad!M383,0)","v":0}]
[{"$f":"IF(Invulblad!P384=\"Ja\",Invulblad!M384*Invulblad!Q384,0)","v":0},null,null,null,null,null,{"$f":"IF(Invulblad!P384=\"Nee\",Invulblad!M384,0)","v":0}]
[{"$f":"IF(Invulblad!P385=\"Ja\",Invulblad!M385*Invulblad!Q385,0)","v":0},null,null,null,null,null,{"$f":"IF(Invulblad!P385=\"Nee\",Invulblad!M385,0)","v":0}]
[{"$f":"IF(Invulblad!P386=\"Ja\",Invulblad!M386*Invulblad!Q386,0)","v":0},null,null,null,null,null,{"$f":"IF(Invulblad!P386=\"Nee\",Invulblad!M386,0)","v":0}]
[{"$f":"IF(Invulblad!P387=\"Ja\",Invulblad!M387*Invulblad!Q387,0)","v":0},null,null,null,null,null,{"$f":"IF(Invulblad!P387=\"Nee\",Invulblad!M387,0)","v":0}]
[{"$f":"IF(Invulblad!P388=\"Ja\",Invulblad!M388*Invulblad!Q388,0)","v":0},null,null,null,null,null,{"$f":"IF(Invulblad!P388=\"Nee\",Invulblad!M388,0)","v":0}]
[{"$f":"IF(Invulblad!P389=\"Ja\",Invulblad!M389*Invulblad!Q389,0)","v":0},null,null,null,null,null,{"$f":"IF(Invulblad!P389=\"Nee\",Invulblad!M389,0)","v":0}]
[{"$f":"IF(Invulblad!P390=\"Ja\",Invulblad!M390*Invulblad!Q390,0)","v":0},null,null,null,null,null,{"$f":"IF(Invulblad!P390=\"Nee\",Invulblad!M390,0)","v":0}]
[{"$f":"IF(Invulblad!P391=\"Ja\",Invulblad!M391*Invulblad!Q391,0)","v":0},null,null,null,null,null,{"$f":"IF(Invulblad!P391=\"Nee\",Invulblad!M391,0)","v":0}]
[{"$f":"IF(Invulblad!P392=\"Ja\",Invulblad!M392*Invulblad!Q392,0)","v":0},null,null,null,null,null,{"$f":"IF(Invulblad!P392=\"Nee\",Invulblad!M392,0)","v":0}]
[{"$f":"IF(Invulblad!P393=\"Ja\",Invulblad!M393*Invulblad!Q393,0)","v":0},null,null,null,null,null,{"$f":"IF(Invulblad!P393=\"Nee\",Invulblad!M393,0)","v":0}]
[{"$f":"IF(Invulblad!P394=\"Ja\",Invulblad!M394*Invulblad!Q394,0)","v":0},null,null,null,null,null,{"$f":"IF(Invulblad!P394=\"Nee\",Invulblad!M394,0)","v":0}]
[{"$f":"IF(Invulblad!P395=\"Ja\",Invulblad!M395*Invulblad!Q395,0)","v":0},null,null,null,null,null,{"$f":"IF(Invulblad!P395=\"Nee\",Invulblad!M395,0)","v":0}]
[{"$f":"IF(Invulblad!P396=\"Ja\",Invulblad!M396*Invulblad!Q396,0)","v":0},null,null,null,null,null,{"$f":"IF(Invulblad!P396=\"Nee\",Invulblad!M396,0)","v":0}]
[{"$f":"IF(Invulblad!P397=\"Ja\",Invulblad!M397*Invulblad!Q397,0)","v":0},null,null,null,null,null,{"$f":"IF(Invulblad!P397=\"Nee\",Invulblad!M397,0)","v":0}]
[{"$f":"IF(Invulblad!P398=\"Ja\",Invulblad!M398*Invulblad!Q398,0)","v":0},null,null,null,null,null,{"$f":"IF(Invulblad!P398=\"Nee\",Invulblad!M398,0)","v":0}]
[{"$f":"IF(Invulblad!P399=\"Ja\",Invulblad!M399*Invulblad!Q399,0)","v":0},null,null,null,null,null,{"$f":"IF(Invulblad!P399=\"Nee\",Invulblad!M399,0)","v":0}]
[{"$f":"IF(Invulblad!P400=\"Ja\",Invulblad!M400*Invulblad!Q400,0)","v":0},null,null,null,null,null,{"$f":"IF(Invulblad!P400=\"Nee\",Invulblad!M400,0)","v":0}]
[{"$f":"IF(Invulblad!P401=\"Ja\",Invulblad!M401*Invulblad!Q401,0)","v":0},null,null,null,null,null,{"$f":"IF(Invulblad!P401=\"Nee\",Invulblad!M401,0)","v":0}]
[{"$f":"IF(Invulblad!P402=\"Ja\",Invulblad!M402*Invulblad!Q402,0)","v":0},null,null,null,null,null,{"$f":"IF(Invulblad!P402=\"Nee\",Invulblad!M402,0)","v":0}]
[{"$f":"IF(Invulblad!P403=\"Ja\",Invulblad!M403*Invulblad!Q403,0)","v":0},null,null,null,null,null,{"$f":"IF(Invulblad!P403=\"Nee\",Invulblad!M403,0)","v":0}]
[{"$f":"IF(Invulblad!P404=\"Ja\",Invulblad!M404*Invulblad!Q404,0)","v":0},null,null,null,null,null,{"$f":"IF(Invulblad!P404=\"Nee\",Invulblad!M404,0)","v":0}]
[{"$f":"IF(Invulblad!P405=\"Ja\",Invulblad!M405*Invulblad!Q405,0)","v":0},null,null,null,null,null,{"$f":"IF(Invulblad!P405=\"Nee\",Invulblad!M405,0)","v":0}]
[{"$f":"IF(Invulblad!P406=\"Ja\",Invulblad!M406*Invulblad!Q406,0)","v":0},null,null,null,null,null,{"$f":"IF(Invulblad!P406=\"Nee\",Invulblad!M406,0)","v":0}]
[{"$f":"IF(Invulblad!P407=\"Ja\",Invulblad!M407*Invulblad!Q407,0)","v":0},null,null,null,null,null,{"$f":"IF(Invulblad!P407=\"Nee\",Invulblad!M407,0)","v":0}]
[{"$f":"IF(Invulblad!P408=\"Ja\",Invulblad!M408*Invulblad!Q408,0)","v":0},null,null,null,null,null,{"$f":"IF(Invulblad!P408=\"Nee\",Invulblad!M408,0)","v":0}]
[{"$f":"IF(Invulblad!P409=\"Ja\",Invulblad!M409*Invulblad!Q409,0)","v":0},null,null,null,null,null,{"$f":"IF(Invulblad!P409=\"Nee\",Invulblad!M409,0)","v":0}]
[{"$f":"IF(Invulblad!P410=\"Ja\",Invulblad!M410*Invulblad!Q410,0)","v":0},null,null,null,null,null,{"$f":"IF(Invulblad!P410=\"Nee\",Invulblad!M410,0)","v":0}]
[{"$f":"IF(Invulblad!P411=\"Ja\",Invulblad!M411*Invulblad!Q411,0)","v":0},null,null,null,null,null,{"$f":"IF(Invulblad!P411=\"Nee\",Invulblad!M411,0)","v":0}]
[{"$f":"IF(Invulblad!P412=\"Ja\",Invulblad!M412*Invulblad!Q412,0)","v":0},null,null,null,null,null,{"$f":"IF(Invulblad!P412=\"Nee\",Invulblad!M412,0)","v":0}]
[{"$f":"IF(Invulblad!P413=\"Ja\",Invulblad!M413*Invulblad!Q413,0)","v":0},null,null,null,null,null,{"$f":"IF(Invulblad!P413=\"Nee\",Invulblad!M413,0)","v":0}]
[{"$f":"IF(Invulblad!P414=\"Ja\",Invulblad!M414*Invulblad!Q414,0)","v":0},null,null,null,null,null,{"$f":"IF(Invulblad!P414=\"Nee\",Invulblad!M414,0)","v":0}]
[{"$f":"IF(Invulblad!P415=\"Ja\",Invulblad!M415*Invulblad!Q415,0)","v":0},null,null,null,null,null,{"$f":"IF(Invulblad!P415=\"Nee\",Invulblad!M415,0)","v":0}]
[{"$f":"IF(Invulblad!P416=\"Ja\",Invulblad!M416*Invulblad!Q416,0)","v":0},null,null,null,null,null,{"$f":"IF(Invulblad!P416=\"Nee\",Invulblad!M416,0)","v":0}]
[{"$f":"IF(Invulblad!P417=\"Ja\",Invulblad!M417*Invulblad!Q417,0)","v":0},null,null,null,null,null,{"$f":"IF(Invulblad!P417=\"Nee\",Invulblad!M417,0)","v":0}]
[{"$f":"IF(Invulblad!P418=\"Ja\",Invulblad!M418*Invulblad!Q418,0)","v":0},null,null,null,null,null,{"$f":"IF(Invulblad!P418=\"Nee\",Invulblad!M418,0)","v":0}]
[{"$f":"IF(Invulblad!P419=\"Ja\",Invulblad!M419*Invulblad!Q419,0)","v":0},null,null,null,null,null,{"$f":"IF(Invulblad!P419=\"Nee\",Invulblad!M419,0)","v":0}]
[{"$f":"IF(Invulblad!P420=\"Ja\",Invulblad!M420*Invulblad!Q420,0)","v":0},null,null,null,null,null,{"$f":"IF(Invulblad!P420=\"Nee\",Invulblad!M420,0)","v":0}]
[{"$f":"IF(Invulblad!P421=\"Ja\",Invulblad!M421*Invulblad!Q421,0)","v":0},null,null,null,null,null,{"$f":"IF(Invulblad!P421=\"Nee\",Invulblad!M421,0)","v":0}]
[{"$f":"IF(Invulblad!P422=\"Ja\",Invulblad!M422*Invulblad!Q422,0)","v":0},null,null,null,null,null,{"$f":"IF(Invulblad!P422=\"Nee\",Invulblad!M422,0)","v":0}]
[{"$f":"IF(Invulblad!P423=\"Ja\",Invulblad!M423*Invulblad!Q423,0)","v":0},null,null,null,null,null,{"$f":"IF(Invulblad!P423=\"Nee\",Invulblad!M423,0)","v":0}]
[{"$f":"IF(Invulblad!P424=\"Ja\",Invulblad!M424*Invulblad!Q424,0)","v":0},null,null,null,null,null,{"$f":"IF(Invulblad!P424=\"Nee\",Invulblad!M424,0)","v":0}]
[{"$f":"IF(Invulblad!P425=\"Ja\",Invulblad!M425*Invulblad!Q425,0)","v":0},null,null,null,null,null,{"$f":"IF(Invulblad!P425=\"Nee\",Invulblad!M425,0)","v":0}]
[{"$f":"IF(Invulblad!P426=\"Ja\",Invulblad!M426*Invulblad!Q426,0)","v":0},null,null,null,null,null,{"$f":"IF(Invulblad!P426=\"Nee\",Invulblad!M426,0)","v":0}]
[{"$f":"IF(Invulblad!P427=\"Ja\",Invulblad!M427*Invulblad!Q427,0)","v":0},null,null,null,null,null,{"$f":"IF(Invulblad!P427=\"Nee\",Invulblad!M427,0)","v":0}]
[{"$f":"IF(Invulblad!P428=\"Ja\",Invulblad!M428*Invulblad!Q428,0)","v":0},null,null,null,null,null,{"$f":"IF(Invulblad!P428=\"Nee\",Invulblad!M428,0)","v":0}]
[{"$f":"IF(Invulblad!P429=\"Ja\",Invulblad!M429*Invulblad!Q429,0)","v":0},null,null,null,null,null,{"$f":"IF(Invulblad!P429=\"Nee\",Invulblad!M429,0)","v":0}]
[{"$f":"IF(Invulblad!P430=\"Ja\",Invulblad!M430*Invulblad!Q430,0)","v":0},null,null,null,null,null,{"$f":"IF(Invulblad!P430=\"Nee\",Invulblad!M430,0)","v":0}]
[{"$f":"IF(Invulblad!P431=\"Ja\",Invulblad!M431*Invulblad!Q431,0)","v":0},null,null,null,null,null,{"$f":"IF(Invulblad!P431=\"Nee\",Invulblad!M431,0)","v":0}]
[{"$f":"IF(Invulblad!P432=\"Ja\",Invulblad!M432*Invulblad!Q432,0)","v":0},null,null,null,null,null,{"$f":"IF(Invulblad!P432=\"Nee\",Invulblad!M432,0)","v":0}]
[{"$f":"IF(Invulblad!P433=\"Ja\",Invulblad!M433*Invulblad!Q433,0)","v":0},null,null,null,null,null,{"$f":"IF(Invulblad!P433=\"Nee\",Invulblad!M433,0)","v":0}]
[{"$f":"IF(Invulblad!P434=\"Ja\",Invulblad!M434*Invulblad!Q434,0)","v":0},null,null,null,null,null,{"$f":"IF(Invulblad!P434=\"Nee\",Invulblad!M434,0)","v":0}]
[{"$f":"IF(Invulblad!P435=\"Ja\",Invulblad!M435*Invulblad!Q435,0)","v":0},null,null,null,null,null,{"$f":"IF(Invulblad!P435=\"Nee\",Invulblad!M435,0)","v":0}]
[{"$f":"IF(Invulblad!P436=\"Ja\",Invulblad!M436*Invulblad!Q436,0)","v":0},null,null,null,null,null,{"$f":"IF(Invulblad!P436=\"Nee\",Invulblad!M436,0)","v":0}]
[{"$f":"IF(Invulblad!P437=\"Ja\",Invulblad!M437*Invulblad!Q437,0)","v":0},null,null,null,null,null,{"$f":"IF(Invulblad!P437=\"Nee\",Invulblad!M437,0)","v":0}]
[{"$f":"IF(Invulblad!P438=\"Ja\",Invulblad!M438*Invulblad!Q438,0)","v":0},null,null,null,null,null,{"$f":"IF(Invulblad!P438=\"Nee\",Invulblad!M438,0)","v":0}]
[{"$f":"IF(Invulblad!P439=\"Ja\",Invulblad!M439*Invulblad!Q439,0)","v":0},null,null,null,null,null,{"$f":"IF(Invulblad!P439=\"Nee\",Invulblad!M439,0)","v":0}]
[{"$f":"IF(Invulblad!P440=\"Ja\",Invulblad!M440*Invulblad!Q440,0)","v":0},null,null,null,null,null,{"$f":"IF(Invulblad!P440=\"Nee\",Invulblad!M440,0)","v":0}]
[{"$f":"IF(Invulblad!P441=\"Ja\",Invulblad!M441*Invulblad!Q441,0)","v":0},null,null,null,null,null,{"$f":"IF(Invulblad!P441=\"Nee\",Invulblad!M441,0)","v":0}]
[{"$f":"IF(Invulblad!P442=\"Ja\",Invulblad!M442*Invulblad!Q442,0)","v":0},null,null,null,null,null,{"$f":"IF(Invulblad!P442=\"Nee\",Invulblad!M442,0)","v":0}]
[{"$f":"IF(Invulblad!P443=\"Ja\",Invulblad!M443*Invulblad!Q443,0)","v":0},null,null,null,null,null,{"$f":"IF(Invulblad!P443=\"Nee\",Invulblad!M443,0)","v":0}]
[{"$f":"IF(Invulblad!P444=\"Ja\",Invulblad!M444*Invulblad!Q444,0)","v":0},null,null,null,null,null,{"$f":"IF(Invulblad!P444=\"Nee\",Invulblad!M444,0)","v":0}]
[{"$f":"IF(Invulblad!P445=\"Ja\",Invulblad!M445*Invulblad!Q445,0)","v":0},null,null,null,null,null,{"$f":"IF(Invulblad!P445=\"Nee\",Invulblad!M445,0)","v":0}]
[{"$f":"IF(Invulblad!P446=\"Ja\",Invulblad!M446*Invulblad!Q446,0)","v":0},null,null,null,null,null,{"$f":"IF(Invulblad!P446=\"Nee\",Invulblad!M446,0)","v":0}]
[{"$f":"IF(Invulblad!P447=\"Ja\",Invulblad!M447*Invulblad!Q447,0)","v":0},null,null,null,null,null,{"$f":"IF(Invulblad!P447=\"Nee\",Invulblad!M447,0)","v":0}]
[{"$f":"IF(Invulblad!P448=\"Ja\",Invulblad!M448*Invulblad!Q448,0)","v":0},null,null,null,null,null,{"$f":"IF(Invulblad!P448=\"Nee\",Invulblad!M448,0)","v":0}]
[{"$f":"IF(Invulblad!P449=\"Ja\",Invulblad!M449*Invulblad!Q449,0)","v":0},null,null,null,null,null,{"$f":"IF(Invulblad!P449=\"Nee\",Invulblad!M449,0)","v":0}]
[{"$f":"IF(Invulblad!P450=\"Ja\",Invulblad!M450*Invulblad!Q450,0)","v":0},null,null,null,null,null,{"$f":"IF(Invulblad!P450=\"Nee\",Invulblad!M450,0)","v":0}]
[{"$f":"IF(Invulblad!P451=\"Ja\",Invulblad!M451*Invulblad!Q451,0)","v":0},null,null,null,null,null,{"$f":"IF(Invulblad!P451=\"Nee\",Invulblad!M451,0)","v":0}]
[{"$f":"IF(Invulblad!P452=\"Ja\",Invulblad!M452*Invulblad!Q452,0)","v":0},null,null,null,null,null,{"$f":"IF(Invulblad!P452=\"Nee\",Invulblad!M452,0)","v":0}]
[{"$f":"IF(Invulblad!P453=\"Ja\",Invulblad!M453*Invulblad!Q453,0)","v":0},null,null,null,null,null,{"$f":"IF(Invulblad!P453=\"Nee\",Invulblad!M453,0)","v":0}]
[{"$f":"IF(Invulblad!P454=\"Ja\",Invulblad!M454*Invulblad!Q454,0)","v":0},null,null,null,null,null,{"$f":"IF(Invulblad!P454=\"Nee\",Invulblad!M454,0)","v":0}]
[{"$f":"IF(Invulblad!P455=\"Ja\",Invulblad!M455*Invulblad!Q455,0)","v":0},null,null,null,null,null,{"$f":"IF(Invulblad!P455=\"Nee\",Invulblad!M455,0)","v":0}]
[{"$f":"IF(Invulblad!P456=\"Ja\",Invulblad!M456*Invulblad!Q456,0)","v":0},null,null,null,null,null,{"$f":"IF(Invulblad!P456=\"Nee\",Invulblad!M456,0)","v":0}]
[{"$f":"IF(Invulblad!P457=\"Ja\",Invulblad!M457*Invulblad!Q457,0)","v":0},null,null,null,null,null,{"$f":"IF(Invulblad!P457=\"Nee\",Invulblad!M457,0)","v":0}]
[{"$f":"IF(Invulblad!P458=\"Ja\",Invulblad!M458*Invulblad!Q458,0)","v":0},null,null,null,null,null,{"$f":"IF(Invulblad!P458=\"Nee\",Invulblad!M458,0)","v":0}]
[{"$f":"IF(Invulblad!P459=\"Ja\",Invulblad!M459*Invulblad!Q459,0)","v":0},null,null,null,null,null,{"$f":"IF(Invulblad!P459=\"Nee\",Invulblad!M459,0)","v":0}]
[{"$f":"IF(Invulblad!P460=\"Ja\",Invulblad!M460*Invulblad!Q460,0)","v":0},null,null,null,null,null,{"$f":"IF(Invulblad!P460=\"Nee\",Invulblad!M460,0)","v":0}]
[{"$f":"IF(Invulblad!P461=\"Ja\",Invulblad!M461*Invulblad!Q461,0)","v":0},null,null,null,null,null,{"$f":"IF(Invulblad!P461=\"Nee\",Invulblad!M461,0)","v":0}]
[{"$f":"IF(Invulblad!P462=\"Ja\",Invulblad!M462*Invulblad!Q462,0)","v":0},null,null,null,null,null,{"$f":"IF(Invulblad!P462=\"Nee\",Invulblad!M462,0)","v":0}]
[{"$f":"IF(Invulblad!P463=\"Ja\",Invulblad!M463*Invulblad!Q463,0)","v":0},null,null,null,null,null,{"$f":"IF(Invulblad!P463=\"Nee\",Invulblad!M463,0)","v":0}]
[{"$f":"IF(Invulblad!P464=\"Ja\",Invulblad!M464*Invulblad!Q464,0)","v":0},null,null,null,null,null,{"$f":"IF(Invulblad!P464=\"Nee\",Invulblad!M464,0)","v":0}]
[{"$f":"IF(Invulblad!P465=\"Ja\",Invulblad!M465*Invulblad!Q465,0)","v":0},null,null,null,null,null,{"$f":"IF(Invulblad!P465=\"Nee\",Invulblad!M465,0)","v":0}]
[{"$f":"IF(Invulblad!P466=\"Ja\",Invulblad!M466*Invulblad!Q466,0)","v":0},null,null,null,null,null,{"$f":"IF(Invulblad!P466=\"Nee\",Invulblad!M466,0)","v":0}]
[{"$f":"IF(Invulblad!P467=\"Ja\",Invulblad!M467*Invulblad!Q467,0)","v":0},null,null,null,null,null,{"$f":"IF(Invulblad!P467=\"Nee\",Invulblad!M467,0)","v":0}]
[{"$f":"IF(Invulblad!P468=\"Ja\",Invulblad!M468*Invulblad!Q468,0)","v":0},null,null,null,null,null,{"$f":"IF(Invulblad!P468=\"Nee\",Invulblad!M468,0)","v":0}]
[{"$f":"IF(Invulblad!P469=\"Ja\",Invulblad!M469*Invulblad!Q469,0)","v":0},null,null,null,null,null,{"$f":"IF(Invulblad!P469=\"Nee\",Invulblad!M469,0)","v":0}]
[{"$f":"IF(Invulblad!P470=\"Ja\",Invulblad!M470*Invulblad!Q470,0)","v":0},null,null,null,null,null,{"$f":"IF(Invulblad!P470=\"Nee\",Invulblad!M470,0)","v":0}]
[{"$f":"IF(Invulblad!P471=\"Ja\",Invulblad!M471*Invulblad!Q471,0)","v":0},null,null,null,null,null,{"$f":"IF(Invulblad!P471=\"Nee\",Invulblad!M471,0)","v":0}]
[{"$f":"IF(Invulblad!P472=\"Ja\",Invulblad!M472*Invulblad!Q472,0)","v":0},null,null,null,null,null,{"$f":"IF(Invulblad!P472=\"Nee\",Invulblad!M472,0)","v":0}]
[{"$f":"IF(Invulblad!P473=\"Ja\",Invulblad!M473*Invulblad!Q473,0)","v":0},null,null,null,null,null,{"$f":"IF(Invulblad!P473=\"Nee\",Invulblad!M473,0)","v":0}]
[{"$f":"IF(Invulblad!P474=\"Ja\",Invulblad!M474*Invulblad!Q474,0)","v":0},null,null,null,null,null,{"$f":"IF(Invulblad!P474=\"Nee\",Invulblad!M474,0)","v":0}]
[{"$f":"IF(Invulblad!P475=\"Ja\",Invulblad!M475*Invulblad!Q475,0)","v":0},null,null,null,null,null,{"$f":"IF(Invulblad!P475=\"Nee\",Invulblad!M475,0)","v":0}]
[{"$f":"IF(Invulblad!P476=\"Ja\",Invulblad!M476*Invulblad!Q476,0)","v":0},null,null,null,null,null,{"$f":"IF(Invulblad!P476=\"Nee\",Invulblad!M476,0)","v":0}]
[{"$f":"IF(Invulblad!P477=\"Ja\",Invulblad!M477*Invulblad!Q477,0)","v":0},null,null,null,null,null,{"$f":"IF(Invulblad!P477=\"Nee\",Invulblad!M477,0)","v":0}]
[{"$f":"IF(Invulblad!P478=\"Ja\",Invulblad!M478*Invulblad!Q478,0)","v":0},null,null,null,null,null,{"$f":"IF(Invulblad!P478=\"Nee\",Invulblad!M478,0)","v":0}]
[{"$f":"IF(Invulblad!P479=\"Ja\",Invulblad!M479*Invulblad!Q479,0)","v":0},null,null,null,null,null,{"$f":"IF(Invulblad!P479=\"Nee\",Invulblad!M479,0)","v":0}]
[{"$f":"IF(Invulblad!P480=\"Ja\",Invulblad!M480*Invulblad!Q480,0)","v":0},null,null,null,null,null,{"$f":"IF(Invulblad!P480=\"Nee\",Invulblad!M480,0)","v":0}]
[{"$f":"IF(Invulblad!P481=\"Ja\",Invulblad!M481*Invulblad!Q481,0)","v":0},null,null,null,null,null,{"$f":"IF(Invulblad!P481=\"Nee\",Invulblad!M481,0)","v":0}]
[{"$f":"IF(Invulblad!P482=\"Ja\",Invulblad!M482*Invulblad!Q482,0)","v":0},null,null,null,null,null,{"$f":"IF(Invulblad!P482=\"Nee\",Invulblad!M482,0)","v":0}]
[{"$f":"IF(Invulblad!P483=\"Ja\",Invulblad!M483*Invulblad!Q483,0)","v":0},null,null,null,null,null,{"$f":"IF(Invulblad!P483=\"Nee\",Invulblad!M483,0)","v":0}]
[{"$f":"IF(Invulblad!P484=\"Ja\",Invulblad!M484*Invulblad!Q484,0)","v":0},null,null,null,null,null,{"$f":"IF(Invulblad!P484=\"Nee\",Invulblad!M484,0)","v":0}]
[{"$f":"IF(Invulblad!P485=\"Ja\",Invulblad!M485*Invulblad!Q485,0)","v":0},null,null,null,null,null,{"$f":"IF(Invulblad!P485=\"Nee\",Invulblad!M485,0)","v":0}]
[{"$f":"IF(Invulblad!P486=\"Ja\",Invulblad!M486*Invulblad!Q486,0)","v":0},null,null,null,null,null,{"$f":"IF(Invulblad!P486=\"Nee\",Invulblad!M486,0)","v":0}]
[{"$f":"IF(Invulblad!P487=\"Ja\",Invulblad!M487*Invulblad!Q487,0)","v":0},null,null,null,null,null,{"$f":"IF(Invulblad!P487=\"Nee\",Invulblad!M487,0)","v":0}]
[{"$f":"IF(Invulblad!P488=\"Ja\",Invulblad!M488*Invulblad!Q488,0)","v":0},null,null,null,null,null,{"$f":"IF(Invulblad!P488=\"Nee\",Invulblad!M488,0)","v":0}]
[{"$f":"IF(Invulblad!P489=\"Ja\",Invulblad!M489*Invulblad!Q489,0)","v":0},null,null,null,null,null,{"$f":"IF(Invulblad!P489=\"Nee\",Invulblad!M489,0)","v":0}]
[{"$f":"IF(Invulblad!P490=\"Ja\",Invulblad!M490*Invulblad!Q490,0)","v":0},null,null,null,null,null,{"$f":"IF(Invulblad!P490=\"Nee\",Invulblad!M490,0)","v":0}]
[{"$f":"IF(Invulblad!P491=\"Ja\",Invulblad!M491*Invulblad!Q491,0)","v":0},null,null,null,null,null,{"$f":"IF(Invulblad!P491=\"Nee\",Invulblad!M491,0)","v":0}]
[{"$f":"IF(Invulblad!P492=\"Ja\",Invulblad!M492*Invulblad!Q492,0)","v":0},null,null,null,null,null,{"$f":"IF(Invulblad!P492=\"Nee\",Invulblad!M492,0)","v":0}]
[{"$f":"IF(Invulblad!P493=\"Ja\",Invulblad!M493*Invulblad!Q493,0)","v":0},null,null,null,null,null,{"$f":"IF(Invulblad!P493=\"Nee\",Invulblad!M493,0)","v":0}]
[{"$f":"IF(Invulblad!P494=\"Ja\",Invulblad!M494*Invulblad!Q494,0)","v":0},null,null,null,null,null,{"$f":"IF(Invulblad!P494=\"Nee\",Invulblad!M494,0)","v":0}]
[{"$f":"IF(Invulblad!P495=\"Ja\",Invulblad!M495*Invulblad!Q495,0)","v":0},null,null,null,null,null,{"$f":"IF(Invulblad!P495=\"Nee\",Invulblad!M495,0)","v":0}]
[{"$f":"IF(Invulblad!P496=\"Ja\",Invulblad!M496*Invulblad!Q496,0)","v":0},null,null,null,null,null,{"$f":"IF(Invulblad!P496=\"Nee\",Invulblad!M496,0)","v":0}]
[{"$f":"IF(Invulblad!P497=\"Ja\",Invulblad!M497*Invulblad!Q497,0)","v":0},null,null,null,null,null,{"$f":"IF(Invulblad!P497=\"Nee\",Invulblad!M497,0)","v":0}]
[{"$f":"IF(Invulblad!P498=\"Ja\",Invulblad!M498*Invulblad!Q498,0)","v":0},null,null,null,null,null,{"$f":"IF(Invulblad!P498=\"Nee\",Invulblad!M498,0)","v":0}]
[{"$f":"IF(Invulblad!P499=\"Ja\",Invulblad!M499*Invulblad!Q499,0)","v":0},null,null,null,null,null,{"$f":"IF(Invulblad!P499=\"Nee\",Invulblad!M499,0)","v":0}]
[{"$f":"IF(Invulblad!P500=\"Ja\",Invulblad!M500*Invulblad!Q500,0)","v":0},null,null,null,null,null,{"$f":"IF(Invulblad!P500=\"Nee\",Invulblad!M500,0)","v":0}]
[{"$f":"IF(Invulblad!P501=\"Ja\",Invulblad!M501*Invulblad!Q501,0)","v":0},null,null,null,null,null,{"$f":"IF(Invulblad!P501=\"Nee\",Invulblad!M501,0)","v":0}]
[{"$f":"IF(Invulblad!P502=\"Ja\",Invulblad!M502*Invulblad!Q502,0)","v":0},null,null,null,null,null,{"$f":"IF(Invulblad!P502=\"Nee\",Invulblad!M502,0)","v":0}]
[{"$f":"IF(Invulblad!P503=\"Ja\",Invulblad!M503*Invulblad!Q503,0)","v":0},null,null,null,null,null,{"$f":"IF(Invulblad!P503=\"Nee\",Invulblad!M503,0)","v":0}]
[{"$f":"IF(Invulblad!P504=\"Ja\",Invulblad!M504*Invulblad!Q504,0)","v":0},null,null,null,null,null,{"$f":"IF(Invulblad!P504=\"Nee\",Invulblad!M504,0)","v":0}]
[{"$f":"IF(Invulblad!P505=\"Ja\",Invulblad!M505*Invulblad!Q505,0)","v":0},null,null,null,null,null,{"$f":"IF(Invulblad!P505=\"Nee\",Invulblad!M505,0)","v":0}]
[{"$f":"IF(Invulblad!P506=\"Ja\",Invulblad!M506*Invulblad!Q506,0)","v":0},null,null,null,null,null,{"$f":"IF(Invulblad!P506=\"Nee\",Invulblad!M506,0)","v":0}]
[{"$f":"IF(Invulblad!P507=\"Ja\",Invulblad!M507*Invulblad!Q507,0)","v":0},null,null,null,null,null,{"$f":"IF(Invulblad!P507=\"Nee\",Invulblad!M507,0)","v":0}]
[{"$f":"IF(Invulblad!P508=\"Ja\",Invulblad!M508*Invulblad!Q508,0)","v":0},null,null,null,null,null,{"$f":"IF(Invulblad!P508=\"Nee\",Invulblad!M508,0)","v":0}]
[{"$f":"IF(Invulblad!P509=\"Ja\",Invulblad!M509*Invulblad!Q509,0)","v":0},null,null,null,null,null,{"$f":"IF(Invulblad!P509=\"Nee\",Invulblad!M509,0)","v":0}]
[{"$f":"IF(Invulblad!P510=\"Ja\",Invulblad!M510*Invulblad!Q510,0)","v":0},null,null,null,null,null,{"$f":"IF(Invulblad!P510=\"Nee\",Invulblad!M510,0)","v":0}]
[{"$f":"IF(Invulblad!P511=\"Ja\",Invulblad!M511*Invulblad!Q511,0)","v":0},null,null,null,null,null,{"$f":"IF(Invulblad!P511=\"Nee\",Invulblad!M511,0)","v":0}]
[{"$f":"IF(Invulblad!P512=\"Ja\",Invulblad!M512*Invulblad!Q512,0)","v":0},null,null,null,null,null,{"$f":"IF(Invulblad!P512=\"Nee\",Invulblad!M512,0)","v":0}]
[{"$f":"IF(Invulblad!P513=\"Ja\",Invulblad!M513*Invulblad!Q513,0)","v":0},null,null,null,null,null,{"$f":"IF(Invulblad!P513=\"Nee\",Invulblad!M513,0)","v":0}]
[{"$f":"IF(Invulblad!P514=\"Ja\",Invulblad!M514*Invulblad!Q514,0)","v":0},null,null,null,null,null,{"$f":"IF(Invulblad!P514=\"Nee\",Invulblad!M514,0)","v":0}]
[{"$f":"IF(Invulblad!P515=\"Ja\",Invulblad!M515*Invulblad!Q515,0)","v":0},null,null,null,null,null,{"$f":"IF(Invulblad!P515=\"Nee\",Invulblad!M515,0)","v":0}]
[{"$f":"IF(Invulblad!P516=\"Ja\",Invulblad!M516*Invulblad!Q516,0)","v":0},null,null,null,null,null,{"$f":"IF(Invulblad!P516=\"Nee\",Invulblad!M516,0)","v":0}]
[{"$f":"IF(Invulblad!P517=\"Ja\",Invulblad!M517*Invulblad!Q517,0)","v":0},null,null,null,null,null,{"$f":"IF(Invulblad!P517=\"Nee\",Invulblad!M517,0)","v":0}]
[{"$f":"IF(Invulblad!P518=\"Ja\",Invulblad!M518*Invulblad!Q518,0)","v":0},null,null,null,null,null,{"$f":"IF(Invulblad!P518=\"Nee\",Invulblad!M518,0)","v":0}]
[{"$f":"IF(Invulblad!P519=\"Ja\",Invulblad!M519*Invulblad!Q519,0)","v":0},null,null,null,null,null,{"$f":"IF(Invulblad!P519=\"Nee\",Invulblad!M519,0)","v":0}]
[{"$f":"IF(Invulblad!P520=\"Ja\",Invulblad!M520*Invulblad!Q520,0)","v":0},null,null,null,null,null,{"$f":"IF(Invulblad!P520=\"Nee\",Invulblad!M520,0)","v":0}]
[{"$f":"IF(Invulblad!P521=\"Ja\",Invulblad!M521*Invulblad!Q521,0)","v":0},null,null,null,null,null,{"$f":"IF(Invulblad!P521=\"Nee\",Invulblad!M521,0)","v":0}]
[{"$f":"IF(Invulblad!P522=\"Ja\",Invulblad!M522*Invulblad!Q522,0)","v":0},null,null,null,null,null,{"$f":"IF(Invulblad!P522=\"Nee\",Invulblad!M522,0)","v":0}]
[{"$f":"IF(Invulblad!P523=\"Ja\",Invulblad!M523*Invulblad!Q523,0)","v":0},null,null,null,null,null,{"$f":"IF(Invulblad!P523=\"Nee\",Invulblad!M523,0)","v":0}]
[{"$f":"IF(Invulblad!P524=\"Ja\",Invulblad!M524*Invulblad!Q524,0)","v":0},null,null,null,null,null,{"$f":"IF(Invulblad!P524=\"Nee\",Invulblad!M524,0)","v":0}]
[{"$f":"IF(Invulblad!P525=\"Ja\",Invulblad!M525*Invulblad!Q525,0)","v":0},null,null,null,null,null,{"$f":"IF(Invulblad!P525=\"Nee\",Invulblad!M525,0)","v":0}]
[{"$f":"IF(Invulblad!P526=\"Ja\",Invulblad!M526*Invulblad!Q526,0)","v":0},null,null,null,null,null,{"$f":"IF(Invulblad!P526=\"Nee\",Invulblad!M526,0)","v":0}]
[{"$f":"IF(Invulblad!P527=\"Ja\",Invulblad!M527*Invulblad!Q527,0)","v":0},null,null,null,null,null,{"$f":"IF(Invulblad!P527=\"Nee\",Invulblad!M527,0)","v":0}]
[{"$f":"IF(Invulblad!P528=\"Ja\",Invulblad!M528*Invulblad!Q528,0)","v":0},null,null,null,null,null,{"$f":"IF(Invulblad!P528=\"Nee\",Invulblad!M528,0)","v":0}]
[{"$f":"IF(Invulblad!P529=\"Ja\",Invulblad!M529*Invulblad!Q529,0)","v":0},null,null,null,null,null,{"$f":"IF(Invulblad!P529=\"Nee\",Invulblad!M529,0)","v":0}]
[{"$f":"IF(Invulblad!P530=\"Ja\",Invulblad!M530*Invulblad!Q530,0)","v":0},null,null,null,null,null,{"$f":"IF(Invulblad!P530=\"Nee\",Invulblad!M530,0)","v":0}]
[{"$f":"IF(Invulblad!P531=\"Ja\",Invulblad!M531*Invulblad!Q531,0)","v":0},null,null,null,null,null,{"$f":"IF(Invulblad!P531=\"Nee\",Invulblad!M531,0)","v":0}]
[{"$f":"IF(Invulblad!P532=\"Ja\",Invulblad!M532*Invulblad!Q532,0)","v":0},null,null,null,null,null,{"$f":"IF(Invulblad!P532=\"Nee\",Invulblad!M532,0)","v":0}]
[{"$f":"IF(Invulblad!P533=\"Ja\",Invulblad!M533*Invulblad!Q533,0)","v":0},null,null,null,null,null,{"$f":"IF(Invulblad!P533=\"Nee\",Invulblad!M533,0)","v":0}]
[{"$f":"IF(Invulblad!P534=\"Ja\",Invulblad!M534*Invulblad!Q534,0)","v":0},null,null,null,null,null,{"$f":"IF(Invulblad!P534=\"Nee\",Invulblad!M534,0)","v":0}]
[{"$f":"IF(Invulblad!P535=\"Ja\",Invulblad!M535*Invulblad!Q535,0)","v":0},null,null,null,null,null,{"$f":"IF(Invulblad!P535=\"Nee\",Invulblad!M535,0)","v":0}]
[{"$f":"IF(Invulblad!P536=\"Ja\",Invulblad!M536*Invulblad!Q536,0)","v":0},null,null,null,null,null,{"$f":"IF(Invulblad!P536=\"Nee\",Invulblad!M536,0)","v":0}]
[{"$f":"IF(Invulblad!P537=\"Ja\",Invulblad!M537*Invulblad!Q537,0)","v":0},null,null,null,null,null,{"$f":"IF(Invulblad!P537=\"Nee\",Invulblad!M537,0)","v":0}]
[{"$f":"IF(Invulblad!P538=\"Ja\",Invulblad!M538*Invulblad!Q538,0)","v":0},null,null,null,null,null,{"$f":"IF(Invulblad!P538=\"Nee\",Invulblad!M538,0)","v":0}]
[{"$f":"IF(Invulblad!P539=\"Ja\",Invulblad!M539*Invulblad!Q539,0)","v":0},null,null,null,null,null,{"$f":"IF(Invulblad!P539=\"Nee\",Invulblad!M539,0)","v":0}]
[{"$f":"IF(Invulblad!P540=\"Ja\",Invulblad!M540*Invulblad!Q540,0)","v":0},null,null,null,null,null,{"$f":"IF(Invulblad!P540=\"Nee\",Invulblad!M540,0)","v":0}]
[{"$f":"IF(Invulblad!P541=\"Ja\",Invulblad!M541*Invulblad!Q541,0)","v":0},null,null,null,null,null,{"$f":"IF(Invulblad!P541=\"Nee\",Invulblad!M541,0)","v":0}]
[{"$f":"IF(Invulblad!P542=\"Ja\",Invulblad!M542*Invulblad!Q542,0)","v":0},null,null,null,null,null,{"$f":"IF(Invulblad!P542=\"Nee\",Invulblad!M542,0)","v":0}]
[{"$f":"IF(Invulblad!P543=\"Ja\",Invulblad!M543*Invulblad!Q543,0)","v":0},null,null,null,null,null,{"$f":"IF(Invulblad!P543=\"Nee\",Invulblad!M543,0)","v":0}]
[{"$f":"IF(Invulblad!P544=\"Ja\",Invulblad!M544*Invulblad!Q544,0)","v":0},null,null,null,null,null,{"$f":"IF(Invulblad!P544=\"Nee\",Invulblad!M544,0)","v":0}]
[{"$f":"IF(Invulblad!P545=\"Ja\",Invulblad!M545*Invulblad!Q545,0)","v":0},null,null,null,null,null,{"$f":"IF(Invulblad!P545=\"Nee\",Invulblad!M545,0)","v":0}]
[{"$f":"IF(Invulblad!P546=\"Ja\",Invulblad!M546*Invulblad!Q546,0)","v":0},null,null,null,null,null,{"$f":"IF(Invulblad!P546=\"Nee\",Invulblad!M546,0)","v":0}]
[{"$f":"IF(Invulblad!P547=\"Ja\",Invulblad!M547*Invulblad!Q547,0)","v":0},null,null,null,null,null,{"$f":"IF(Invulblad!P547=\"Nee\",Invulblad!M547,0)","v":0}]
[{"$f":"IF(Invulblad!P548=\"Ja\",Invulblad!M548*Invulblad!Q548,0)","v":0},null,null,null,null,null,{"$f":"IF(Invulblad!P548=\"Nee\",Invulblad!M548,0)","v":0}]
[{"$f":"IF(Invulblad!P549=\"Ja\",Invulblad!M549*Invulblad!Q549,0)","v":0},null,null,null,null,null,{"$f":"IF(Invulblad!P549=\"Nee\",Invulblad!M549,0)","v":0}]
[{"$f":"IF(Invulblad!P550=\"Ja\",Invulblad!M550*Invulblad!Q550,0)","v":0},null,null,null,null,null,{"$f":"IF(Invulblad!P550=\"Nee\",Invulblad!M550,0)","v":0}]
[{"$f":"IF(Invulblad!P551=\"Ja\",Invulblad!M551*Invulblad!Q551,0)","v":0},null,null,null,null,null,{"$f":"IF(Invulblad!P551=\"Nee\",Invulblad!M551,0)","v":0}]
[{"$f":"IF(Invulblad!P552=\"Ja\",Invulblad!M552*Invulblad!Q552,0)","v":0},null,null,null,null,null,{"$f":"IF(Invulblad!P552=\"Nee\",Invulblad!M552,0)","v":0}]
[{"$f":"IF(Invulblad!P553=\"Ja\",Invulblad!M553*Invulblad!Q553,0)","v":0},null,null,null,null,null,{"$f":"IF(Invulblad!P553=\"Nee\",Invulblad!M553,0)","v":0}]
[{"$f":"IF(Invulblad!P554=\"Ja\",Invulblad!M554*Invulblad!Q554,0)","v":0},null,null,null,null,null,{"$f":"IF(Invulblad!P554=\"Nee\",Invulblad!M554,0)","v":0}]
[{"$f":"IF(Invulblad!P555=\"Ja\",Invulblad!M555*Invulblad!Q555,0)","v":0},null,null,null,null,null,{"$f":"IF(Invulblad!P555=\"Nee\",Invulblad!M555,0)","v":0}]
[{"$f":"IF(Invulblad!P556=\"Ja\",Invulblad!M556*Invulblad!Q556,0)","v":0},null,null,null,null,null,{"$f":"IF(Invulblad!P556=\"Nee\",Invulblad!M556,0)","v":0}]
[{"$f":"IF(Invulblad!P557=\"Ja\",Invulblad!M557*Invulblad!Q557,0)","v":0},null,null,null,null,null,{"$f":"IF(Invulblad!P557=\"Nee\",Invulblad!M557,0)","v":0}]
[{"$f":"IF(Invulblad!P558=\"Ja\",Invulblad!M558*Invulblad!Q558,0)","v":0},null,null,null,null,null,{"$f":"IF(Invulblad!P558=\"Nee\",Invulblad!M558,0)","v":0}]
[{"$f":"IF(Invulblad!P559=\"Ja\",Invulblad!M559*Invulblad!Q559,0)","v":0},null,null,null,null,null,{"$f":"IF(Invulblad!P559=\"Nee\",Invulblad!M559,0)","v":0}]
[{"$f":"IF(Invulblad!P560=\"Ja\",Invulblad!M560*Invulblad!Q560,0)","v":0},null,null,null,null,null,{"$f":"IF(Invulblad!P560=\"Nee\",Invulblad!M560,0)","v":0}]
[{"$f":"IF(Invulblad!P561=\"Ja\",Invulblad!M561*Invulblad!Q561,0)","v":0},null,null,null,null,null,{"$f":"IF(Invulblad!P561=\"Nee\",Invulblad!M561,0)","v":0}]
[{"$f":"IF(Invulblad!P562=\"Ja\",Invulblad!M562*Invulblad!Q562,0)","v":0},null,null,null,null,null,{"$f":"IF(Invulblad!P562=\"Nee\",Invulblad!M562,0)","v":0}]
[{"$f":"IF(Invulblad!P563=\"Ja\",Invulblad!M563*Invulblad!Q563,0)","v":0},null,null,null,null,null,{"$f":"IF(Invulblad!P563=\"Nee\",Invulblad!M563,0)","v":0}]
[{"$f":"IF(Invulblad!P564=\"Ja\",Invulblad!M564*Invulblad!Q564,0)","v":0},null,null,null,null,null,{"$f":"IF(Invulblad!P564=\"Nee\",Invulblad!M564,0)","v":0}]
[{"$f":"IF(Invulblad!P565=\"Ja\",Invulblad!M565*Invulblad!Q565,0)","v":0},null,null,null,null,null,{"$f":"IF(Invulblad!P565=\"Nee\",Invulblad!M565,0)","v":0}]
[{"$f":"IF(Invulblad!P566=\"Ja\",Invulblad!M566*Invulblad!Q566,0)","v":0},null,null,null,null,null,{"$f":"IF(Invulblad!P566=\"Nee\",Invulblad!M566,0)","v":0}]
[{"$f":"IF(Invulblad!P567=\"Ja\",Invulblad!M567*Invulblad!Q567,0)","v":0},null,null,null,null,null,{"$f":"IF(Invulblad!P567=\"Nee\",Invulblad!M567,0)","v":0}]
[{"$f":"IF(Invulblad!P568=\"Ja\",Invulblad!M568*Invulblad!Q568,0)","v":0},null,null,null,null,null,{"$f":"IF(Invulblad!P568=\"Nee\",Invulblad!M568,0)","v":0}]
[{"$f":"IF(Invulblad!P569=\"Ja\",Invulblad!M569*Invulblad!Q569,0)","v":0},null,null,null,null,null,{"$f":"IF(Invulblad!P569=\"Nee\",Invulblad!M569,0)","v":0}]
[{"$f":"IF(Invulblad!P570=\"Ja\",Invulblad!M570*Invulblad!Q570,0)","v":0},null,null,null,null,null,{"$f":"IF(Invulblad!P570=\"Nee\",Invulblad!M570,0)","v":0}]
[{"$f":"IF(Invulblad!P571=\"Ja\",Invulblad!M571*Invulblad!Q571,0)","v":0},null,null,null,null,null,{"$f":"IF(Invulblad!P571=\"Nee\",Invulblad!M571,0)","v":0}]
[{"$f":"IF(Invulblad!P572=\"Ja\",Invulblad!M572*Invulblad!Q572,0)","v":0},null,null,null,null,null,{"$f":"IF(Invulblad!P572=\"Nee\",Invulblad!M572,0)","v":0}]
[{"$f":"IF(Invulblad!P573=\"Ja\",Invulblad!M573*Invulblad!Q573,0)","v":0},null,null,null,null,null,{"$f":"IF(Invulblad!P573=\"Nee\",Invulblad!M573,0)","v":0}]
[{"$f":"IF(Invulblad!P574=\"Ja\",Invulblad!M574*Invulblad!Q574,0)","v":0},null,null,null,null,null,{"$f":"IF(Invulblad!P574=\"Nee\",Invulblad!M574,0)","v":0}]
[{"$f":"IF(Invulblad!P575=\"Ja\",Invulblad!M575*Invulblad!Q575,0)","v":0},null,null,null,null,null,{"$f":"IF(Invulblad!P575=\"Nee\",Invulblad!M575,0)","v":0}]
[{"$f":"IF(Invulblad!P576=\"Ja\",Invulblad!M576*Invulblad!Q576,0)","v":0},null,null,null,null,null,{"$f":"IF(Invulblad!P576=\"Nee\",Invulblad!M576,0)","v":0}]
[{"$f":"IF(Invulblad!P577=\"Ja\",Invulblad!M577*Invulblad!Q577,0)","v":0},null,null,null,null,null,{"$f":"IF(Invulblad!P577=\"Nee\",Invulblad!M577,0)","v":0}]
[{"$f":"IF(Invulblad!P578=\"Ja\",Invulblad!M578*Invulblad!Q578,0)","v":0},null,null,null,null,null,{"$f":"IF(Invulblad!P578=\"Nee\",Invulblad!M578,0)","v":0}]
[{"$f":"IF(Invulblad!P579=\"Ja\",Invulblad!M579*Invulblad!Q579,0)","v":0},null,null,null,null,null,{"$f":"IF(Invulblad!P579=\"Nee\",Invulblad!M579,0)","v":0}]
[{"$f":"IF(Invulblad!P580=\"Ja\",Invulblad!M580*Invulblad!Q580,0)","v":0},null,null,null,null,null,{"$f":"IF(Invulblad!P580=\"Nee\",Invulblad!M580,0)","v":0}]
[{"$f":"IF(Invulblad!P581=\"Ja\",Invulblad!M581*Invulblad!Q581,0)","v":0},null,null,null,null,null,{"$f":"IF(Invulblad!P581=\"Nee\",Invulblad!M581,0)","v":0}]
[{"$f":"IF(Invulblad!P582=\"Ja\",Invulblad!M582*Invulblad!Q582,0)","v":0},null,null,null,null,null,{"$f":"IF(Invulblad!P582=\"Nee\",Invulblad!M582,0)","v":0}]
[{"$f":"IF(Invulblad!P583=\"Ja\",Invulblad!M583*Invulblad!Q583,0)","v":0},null,null,null,null,null,{"$f":"IF(Invulblad!P583=\"Nee\",Invulblad!M583,0)","v":0}]
[{"$f":"IF(Invulblad!P584=\"Ja\",Invulblad!M584*Invulblad!Q584,0)","v":0},null,null,null,null,null,{"$f":"IF(Invulblad!P584=\"Nee\",Invulblad!M584,0)","v":0}]
[{"$f":"IF(Invulblad!P585=\"Ja\",Invulblad!M585*Invulblad!Q585,0)","v":0},null,null,null,null,null,{"$f":"IF(Invulblad!P585=\"Nee\",Invulblad!M585,0)","v":0}]
[{"$f":"IF(Invulblad!P586=\"Ja\",Invulblad!M586*Invulblad!Q586,0)","v":0},null,null,null,null,null,{"$f":"IF(Invulblad!P586=\"Nee\",Invulblad!M586,0)","v":0}]
[{"$f":"IF(Invulblad!P587=\"Ja\",Invulblad!M587*Invulblad!Q587,0)","v":0},null,null,null,null,null,{"$f":"IF(Invulblad!P587=\"Nee\",Invulblad!M587,0)","v":0}]
[{"$f":"IF(Invulblad!P588=\"Ja\",Invulblad!M588*Invulblad!Q588,0)","v":0},null,null,null,null,null,{"$f":"IF(Invulblad!P588=\"Nee\",Invulblad!M588,0)","v":0}]
[{"$f":"IF(Invulblad!P589=\"Ja\",Invulblad!M589*Invulblad!Q589,0)","v":0},null,null,null,null,null,{"$f":"IF(Invulblad!P589=\"Nee\",Invulblad!M589,0)","v":0}]
[{"$f":"IF(Invulblad!P590=\"Ja\",Invulblad!M590*Invulblad!Q590,0)","v":0},null,null,null,null,null,{"$f":"IF(Invulblad!P590=\"Nee\",Invulblad!M590,0)","v":0}]
[{"$f":"IF(Invulblad!P591=\"Ja\",Invulblad!M591*Invulblad!Q591,0)","v":0},null,null,null,null,null,{"$f":"IF(Invulblad!P591=\"Nee\",Invulblad!M591,0)","v":0}]
[{"$f":"IF(Invulblad!P592=\"Ja\",Invulblad!M592*Invulblad!Q592,0)","v":0},null,null,null,null,null,{"$f":"IF(Invulblad!P592=\"Nee\",Invulblad!M592,0)","v":0}]
[{"$f":"IF(Invulblad!P593=\"Ja\",Invulblad!M593*Invulblad!Q593,0)","v":0},null,null,null,null,null,{"$f":"IF(Invulblad!P593=\"Nee\",Invulblad!M593,0)","v":0}]
[{"$f":"IF(Invulblad!P594=\"Ja\",Invulblad!M594*Invulblad!Q594,0)","v":0},null,null,null,null,null,{"$f":"IF(Invulblad!P594=\"Nee\",Invulblad!M594,0)","v":0}]
[{"$f":"IF(Invulblad!P595=\"Ja\",Invulblad!M595*Invulblad!Q595,0)","v":0},null,null,null,null,null,{"$f":"IF(Invulblad!P595=\"Nee\",Invulblad!M595,0)","v":0}]
[{"$f":"IF(Invulblad!P596=\"Ja\",Invulblad!M596*Invulblad!Q596,0)","v":0},null,null,null,null,null,{"$f":"IF(Invulblad!P596=\"Nee\",Invulblad!M596,0)","v":0}]
[{"$f":"IF(Invulblad!P597=\"Ja\",Invulblad!M597*Invulblad!Q597,0)","v":0},null,null,null,null,null,{"$f":"IF(Invulblad!P597=\"Nee\",Invulblad!M597,0)","v":0}]
[{"$f":"IF(Invulblad!P598=\"Ja\",Invulblad!M598*Invulblad!Q598,0)","v":0},null,null,null,null,null,{"$f":"IF(Invulblad!P598=\"Nee\",Invulblad!M598,0)","v":0}]
[{"$f":"IF(Invulblad!P599=\"Ja\",Invulblad!M599*Invulblad!Q599,0)","v":0},null,null,null,null,null,{"$f":"IF(Invulblad!P599=\"Nee\",Invulblad!M599,0)","v":0}]
[{"$f":"IF(Invulblad!P600=\"Ja\",Invulblad!M600*Invulblad!Q600,0)","v":0},null,null,null,null,null,{"$f":"IF(Invulblad!P600=\"Nee\",Invulblad!M600,0)","v":0}]
[{"$f":"IF(Invulblad!P601=\"Ja\",Invulblad!M601*Invulblad!Q601,0)","v":0},null,null,null,null,null,{"$f":"IF(Invulblad!P601=\"Nee\",Invulblad!M601,0)","v":0}]
[{"$f":"IF(Invulblad!P602=\"Ja\",Invulblad!M602*Invulblad!Q602,0)","v":0},null,null,null,null,null,{"$f":"IF(Invulblad!P602=\"Nee\",Invulblad!M602,0)","v":0}]
[{"$f":"IF(Invulblad!P603=\"Ja\",Invulblad!M603*Invulblad!Q603,0)","v":0},null,null,null,null,null,{"$f":"IF(Invulblad!P603=\"Nee\",Invulblad!M603,0)","v":0}]
[{"$f":"IF(Invulblad!P604=\"Ja\",Invulblad!M604*Invulblad!Q604,0)","v":0},null,null,null,null,null,{"$f":"IF(Invulblad!P604=\"Nee\",Invulblad!M604,0)","v":0}]
[{"$f":"IF(Invulblad!P605=\"Ja\",Invulblad!M605*Invulblad!Q605,0)","v":0},null,null,null,null,null,{"$f":"IF(Invulblad!P605=\"Nee\",Invulblad!M605,0)","v":0}]
[{"$f":"IF(Invulblad!P606=\"Ja\",Invulblad!M606*Invulblad!Q606,0)","v":0},null,null,null,null,null,{"$f":"IF(Invulblad!P606=\"Nee\",Invulblad!M606,0)","v":0}]
[{"$f":"IF(Invulblad!P607=\"Ja\",Invulblad!M607*Invulblad!Q607,0)","v":0},null,null,null,null,null,{"$f":"IF(Invulblad!P607=\"Nee\",Invulblad!M607,0)","v":0}]
[{"$f":"IF(Invulblad!P608=\"Ja\",Invulblad!M608*Invulblad!Q608,0)","v":0},null,null,null,null,null,{"$f":"IF(Invulblad!P608=\"Nee\",Invulblad!M608,0)","v":0}]
[{"$f":"IF(Invulblad!P609=\"Ja\",Invulblad!M609*Invulblad!Q609,0)","v":0},null,null,null,null,null,{"$f":"IF(Invulblad!P609=\"Nee\",Invulblad!M609,0)","v":0}]
[{"$f":"IF(Invulblad!P610=\"Ja\",Invulblad!M610*Invulblad!Q610,0)","v":0},null,null,null,null,null,{"$f":"IF(Invulblad!P610=\"Nee\",Invulblad!M610,0)","v":0}]
[{"$f":"IF(Invulblad!P611=\"Ja\",Invulblad!M611*Invulblad!Q611,0)","v":0},null,null,null,null,null,{"$f":"IF(Invulblad!P611=\"Nee\",Invulblad!M611,0)","v":0}]
[{"$f":"IF(Invulblad!P612=\"Ja\",Invulblad!M612*Invulblad!Q612,0)","v":0},null,null,null,null,null,{"$f":"IF(Invulblad!P612=\"Nee\",Invulblad!M612,0)","v":0}]
[{"$f":"IF(Invulblad!P613=\"Ja\",Invulblad!M613*Invulblad!Q613,0)","v":0},null,null,null,null,null,{"$f":"IF(Invulblad!P613=\"Nee\",Invulblad!M613,0)","v":0}]
[{"$f":"IF(Invulblad!P614=\"Ja\",Invulblad!M614*Invulblad!Q614,0)","v":0},null,null,null,null,null,{"$f":"IF(Invulblad!P614=\"Nee\",Invulblad!M614,0)","v":0}]
[{"$f":"IF(Invulblad!P615=\"Ja\",Invulblad!M615*Invulblad!Q615,0)","v":0},null,null,null,null,null,{"$f":"IF(Invulblad!P615=\"Nee\",Invulblad!M615,0)","v":0}]
[{"$f":"IF(Invulblad!P616=\"Ja\",Invulblad!M616*Invulblad!Q616,0)","v":0},null,null,null,null,null,{"$f":"IF(Invulblad!P616=\"Nee\",Invulblad!M616,0)","v":0}]
[{"$f":"IF(Invulblad!P617=\"Ja\",Invulblad!M617*Invulblad!Q617,0)","v":0},null,null,null,null,null,{"$f":"IF(Invulblad!P617=\"Nee\",Invulblad!M617,0)","v":0}]
[{"$f":"IF(Invulblad!P618=\"Ja\",Invulblad!M618*Invulblad!Q618,0)","v":0},null,null,null,null,null,{"$f":"IF(Invulblad!P618=\"Nee\",Invulblad!M618,0)","v":0}]
[{"$f":"IF(Invulblad!P619=\"Ja\",Invulblad!M619*Invulblad!Q619,0)","v":0},null,null,null,null,null,{"$f":"IF(Invulblad!P619=\"Nee\",Invulblad!M619,0)","v":0}]
[{"$f":"IF(Invulblad!P620=\"Ja\",Invulblad!M620*Invulblad!Q620,0)","v":0},null,null,null,null,null,{"$f":"IF(Invulblad!P620=\"Nee\",Invulblad!M620,0)","v":0}]
[{"$f":"IF(Invulblad!P621=\"Ja\",Invulblad!M621*Invulblad!Q621,0)","v":0},null,null,null,null,null,{"$f":"IF(Invulblad!P621=\"Nee\",Invulblad!M621,0)","v":0}]
[{"$f":"IF(Invulblad!P622=\"Ja\",Invulblad!M622*Invulblad!Q622,0)","v":0},null,null,null,null,null,{"$f":"IF(Invulblad!P622=\"Nee\",Invulblad!M622,0)","v":0}]
[{"$f":"IF(Invulblad!P623=\"Ja\",Invulblad!M623*Invulblad!Q623,0)","v":0},null,null,null,null,null,{"$f":"IF(Invulblad!P623=\"Nee\",Invulblad!M623,0)","v":0}]
[{"$f":"IF(Invulblad!P624=\"Ja\",Invulblad!M624*Invulblad!Q624,0)","v":0},null,null,null,null,null,{"$f":"IF(Invulblad!P624=\"Nee\",Invulblad!M624,0)","v":0}]
[{"$f":"IF(Invulblad!P625=\"Ja\",Invulblad!M625*Invulblad!Q625,0)","v":0},null,null,null,null,null,{"$f":"IF(Invulblad!P625=\"Nee\",Invulblad!M625,0)","v":0}]
[{"$f":"IF(Invulblad!P626=\"Ja\",Invulblad!M626*Invulblad!Q626,0)","v":0},null,null,null,null,null,{"$f":"IF(Invulblad!P626=\"Nee\",Invulblad!M626,0)","v":0}]
[{"$f":"IF(Invulblad!P627=\"Ja\",Invulblad!M627*Invulblad!Q627,0)","v":0},null,null,null,null,null,{"$f":"IF(Invulblad!P627=\"Nee\",Invulblad!M627,0)","v":0}]
[{"$f":"IF(Invulblad!P628=\"Ja\",Invulblad!M628*Invulblad!Q628,0)","v":0},null,null,null,null,null,{"$f":"IF(Invulblad!P628=\"Nee\",Invulblad!M628,0)","v":0}]
[{"$f":"IF(Invulblad!P629=\"Ja\",Invulblad!M629*Invulblad!Q629,0)","v":0},null,null,null,null,null,{"$f":"IF(Invulblad!P629=\"Nee\",Invulblad!M629,0)","v":0}]
[{"$f":"IF(Invulblad!P630=\"Ja\",Invulblad!M630*Invulblad!Q630,0)","v":0},null,null,null,null,null,{"$f":"IF(Invulblad!P630=\"Nee\",Invulblad!M630,0)","v":0}]
[{"$f":"IF(Invulblad!P631=\"Ja\",Invulblad!M631*Invulblad!Q631,0)","v":0},null,null,null,null,null,{"$f":"IF(Invulblad!P631=\"Nee\",Invulblad!M631,0)","v":0}]
[{"$f":"IF(Invulblad!P632=\"Ja\",Invulblad!M632*Invulblad!Q632,0)","v":0},null,null,null,null,null,{"$f":"IF(Invulblad!P632=\"Nee\",Invulblad!M632,0)","v":0}]
[{"$f":"IF(Invulblad!P633=\"Ja\",Invulblad!M633*Invulblad!Q633,0)","v":0},null,null,null,null,null,{"$f":"IF(Invulblad!P633=\"Nee\",Invulblad!M633,0)","v":0}]
[{"$f":"IF(Invulblad!P634=\"Ja\",Invulblad!M634*Invulblad!Q634,0)","v":0},null,null,null,null,null,{"$f":"IF(Invulblad!P634=\"Nee\",Invulblad!M634,0)","v":0}]
[{"$f":"IF(Invulblad!P635=\"Ja\",Invulblad!M635*Invulblad!Q635,0)","v":0},null,null,null,null,null,{"$f":"IF(Invulblad!P635=\"Nee\",Invulblad!M635,0)","v":0}]
[{"$f":"IF(Invulblad!P636=\"Ja\",Invulblad!M636*Invulblad!Q636,0)","v":0},null,null,null,null,null,{"$f":"IF(Invulblad!P636=\"Nee\",Invulblad!M636,0)","v":0}]
[{"$f":"IF(Invulblad!P637=\"Ja\",Invulblad!M637*Invulblad!Q637,0)","v":0},null,null,null,null,null,{"$f":"IF(Invulblad!P637=\"Nee\",Invulblad!M637,0)","v":0}]
[{"$f":"IF(Invulblad!P638=\"Ja\",Invulblad!M638*Invulblad!Q638,0)","v":0},null,null,null,null,null,{"$f":"IF(Invulblad!P638=\"Nee\",Invulblad!M638,0)","v":0}]
[{"$f":"IF(Invulblad!P639=\"Ja\",Invulblad!M639*Invulblad!Q639,0)","v":0},null,null,null,null,null,{"$f":"IF(Invulblad!P639=\"Nee\",Invulblad!M639,0)","v":0}]
[{"$f":"IF(Invulblad!P640=\"Ja\",Invulblad!M640*Invulblad!Q640,0)","v":0},null,null,null,null,null,{"$f":"IF(Invulblad!P640=\"Nee\",Invulblad!M640,0)","v":0}]
[{"$f":"IF(Invulblad!P641=\"Ja\",Invulblad!M641*Invulblad!Q641,0)","v":0},null,null,null,null,null,{"$f":"IF(Invulblad!P641=\"Nee\",Invulblad!M641,0)","v":0}]
[{"$f":"IF(Invulblad!P642=\"Ja\",Invulblad!M642*Invulblad!Q642,0)","v":0},null,null,null,null,null,{"$f":"IF(Invulblad!P642=\"Nee\",Invulblad!M642,0)","v":0}]
[{"$f":"IF(Invulblad!P643=\"Ja\",Invulblad!M643*Invulblad!Q643,0)","v":0},null,null,null,null,null,{"$f":"IF(Invulblad!P643=\"Nee\",Invulblad!M643,0)","v":0}]
[{"$f":"IF(Invulblad!P644=\"Ja\",Invulblad!M644*Invulblad!Q644,0)","v":0},null,null,null,null,null,{"$f":"IF(Invulblad!P644=\"Nee\",Invulblad!M644,0)","v":0}]
[{"$f":"IF(Invulblad!P645=\"Ja\",Invulblad!M645*Invulblad!Q645,0)","v":0},null,null,null,null,null,{"$f":"IF(Invulblad!P645=\"Nee\",Invulblad!M645,0)","v":0}]
[{"$f":"IF(Invulblad!P646=\"Ja\",Invulblad!M646*Invulblad!Q646,0)","v":0},null,null,null,null,null,{"$f":"IF(Invulblad!P646=\"Nee\",Invulblad!M646,0)","v":0}]
[{"$f":"IF(Invulblad!P647=\"Ja\",Invulblad!M647*Invulblad!Q647,0)","v":0},null,null,null,null,null,{"$f":"IF(Invulblad!P647=\"Nee\",Invulblad!M647,0)","v":0}]
[{"$f":"IF(Invulblad!P648=\"Ja\",Invulblad!M648*Invulblad!Q648,0)","v":0},null,null,null,null,null,{"$f":"IF(Invulblad!P648=\"Nee\",Invulblad!M648,0)","v":0}]
[{"$f":"IF(Invulblad!P649=\"Ja\",Invulblad!M649*Invulblad!Q649,0)","v":0},null,null,null,null,null,{"$f":"IF(Invulblad!P649=\"Nee\",Invulblad!M649,0)","v":0}]
[{"$f":"IF(Invulblad!P650=\"Ja\",Invulblad!M650*Invulblad!Q650,0)","v":0},null,null,null,null,null,{"$f":"IF(Invulblad!P650=\"Nee\",Invulblad!M650,0)","v":0}]
[{"$f":"IF(Invulblad!P651=\"Ja\",Invulblad!M651*Invulblad!Q651,0)","v":0},null,null,null,null,null,{"$f":"IF(Invulblad!P651=\"Nee\",Invulblad!M651,0)","v":0}]
[{"$f":"IF(Invulblad!P652=\"Ja\",Invulblad!M652*Invulblad!Q652,0)","v":0},null,null,null,null,null,{"$f":"IF(Invulblad!P652=\"Nee\",Invulblad!M652,0)","v":0}]
[{"$f":"IF(Invulblad!P653=\"Ja\",Invulblad!M653*Invulblad!Q653,0)","v":0},null,null,null,null,null,{"$f":"IF(Invulblad!P653=\"Nee\",Invulblad!M653,0)","v":0}]
[{"$f":"IF(Invulblad!P654=\"Ja\",Invulblad!M654*Invulblad!Q654,0)","v":0},null,null,null,null,null,{"$f":"IF(Invulblad!P654=\"Nee\",Invulblad!M654,0)","v":0}]
[{"$f":"IF(Invulblad!P655=\"Ja\",Invulblad!M655*Invulblad!Q655,0)","v":0},null,null,null,null,null,{"$f":"IF(Invulblad!P655=\"Nee\",Invulblad!M655,0)","v":0}]
[{"$f":"IF(Invulblad!P656=\"Ja\",Invulblad!M656*Invulblad!Q656,0)","v":0},null,null,null,null,null,{"$f":"IF(Invulblad!P656=\"Nee\",Invulblad!M656,0)","v":0}]
[{"$f":"IF(Invulblad!P657=\"Ja\",Invulblad!M657*Invulblad!Q657,0)","v":0},null,null,null,null,null,{"$f":"IF(Invulblad!P657=\"Nee\",Invulblad!M657,0)","v":0}]
[{"$f":"IF(Invulblad!P658=\"Ja\",Invulblad!M658*Invulblad!Q658,0)","v":0},null,null,null,null,null,{"$f":"IF(Invulblad!P658=\"Nee\",Invulblad!M658,0)","v":0}]
[{"$f":"IF(Invulblad!P659=\"Ja\",Invulblad!M659*Invulblad!Q659,0)","v":0},null,null,null,null,null,{"$f":"IF(Invulblad!P659=\"Nee\",Invulblad!M659,0)","v":0}]
[{"$f":"IF(Invulblad!P660=\"Ja\",Invulblad!M660*Invulblad!Q660,0)","v":0},null,null,null,null,null,{"$f":"IF(Invulblad!P660=\"Nee\",Invulblad!M660,0)","v":0}]
[{"$f":"IF(Invulblad!P661=\"Ja\",Invulblad!M661*Invulblad!Q661,0)","v":0},null,null,null,null,null,{"$f":"IF(Invulblad!P661=\"Nee\",Invulblad!M661,0)","v":0}]
[{"$f":"IF(Invulblad!P662=\"Ja\",Invulblad!M662*Invulblad!Q662,0)","v":0},null,null,null,null,null,{"$f":"IF(Invulblad!P662=\"Nee\",Invulblad!M662,0)","v":0}]
[{"$f":"IF(Invulblad!P663=\"Ja\",Invulblad!M663*Invulblad!Q663,0)","v":0},null,null,null,null,null,{"$f":"IF(Invulblad!P663=\"Nee\",Invulblad!M663,0)","v":0}]
[{"$f":"IF(Invulblad!P664=\"Ja\",Invulblad!M664*Invulblad!Q664,0)","v":0},null,null,null,null,null,{"$f":"IF(Invulblad!P664=\"Nee\",Invulblad!M664,0)","v":0}]
[{"$f":"IF(Invulblad!P665=\"Ja\",Invulblad!M665*Invulblad!Q665,0)","v":0},null,null,null,null,null,{"$f":"IF(Invulblad!P665=\"Nee\",Invulblad!M665,0)","v":0}]
[{"$f":"IF(Invulblad!P666=\"Ja\",Invulblad!M666*Invulblad!Q666,0)","v":0},null,null,null,null,null,{"$f":"IF(Invulblad!P666=\"Nee\",Invulblad!M666,0)","v":0}]
[{"$f":"IF(Invulblad!P667=\"Ja\",Invulblad!M667*Invulblad!Q667,0)","v":0},null,null,null,null,null,{"$f":"IF(Invulblad!P667=\"Nee\",Invulblad!M667,0)","v":0}]
[{"$f":"IF(Invulblad!P668=\"Ja\",Invulblad!M668*Invulblad!Q668,0)","v":0},null,null,null,null,null,{"$f":"IF(Invulblad!P668=\"Nee\",Invulblad!M668,0)","v":0}]
[{"$f":"IF(Invulblad!P669=\"Ja\",Invulblad!M669*Invulblad!Q669,0)","v":0},null,null,null,null,null,{"$f":"IF(Invulblad!P669=\"Nee\",Invulblad!M669,0)","v":0}]
[{"$f":"IF(Invulblad!P670=\"Ja\",Invulblad!M670*Invulblad!Q670,0)","v":0},null,null,null,null,null,{"$f":"IF(Invulblad!P670=\"Nee\",Invulblad!M670,0)","v":0}]
[{"$f":"IF(Invulblad!P671=\"Ja\",Invulblad!M671*Invulblad!Q671,0)","v":0},null,null,null,null,null,{"$f":"IF(Invulblad!P671=\"Nee\",Invulblad!M671,0)","v":0}]
[{"$f":"IF(Invulblad!P672=\"Ja\",Invulblad!M672*Invulblad!Q672,0)","v":0},null,null,null,null,null,{"$f":"IF(Invulblad!P672=\"Nee\",Invulblad!M672,0)","v":0}]
[{"$f":"IF(Invulblad!P673=\"Ja\",Invulblad!M673*Invulblad!Q673,0)","v":0},null,null,null,null,null,{"$f":"IF(Invulblad!P673=\"Nee\",Invulblad!M673,0)","v":0}]
[{"$f":"IF(Invulblad!P674=\"Ja\",Invulblad!M674*Invulblad!Q674,0)","v":0},null,null,null,null,null,{"$f":"IF(Invulblad!P674=\"Nee\",Invulblad!M674,0)","v":0}]
[{"$f":"IF(Invulblad!P675=\"Ja\",Invulblad!M675*Invulblad!Q675,0)","v":0},null,null,null,null,null,{"$f":"IF(Invulblad!P675=\"Nee\",Invulblad!M675,0)","v":0}]
[{"$f":"IF(Invulblad!P676=\"Ja\",Invulblad!M676*Invulblad!Q676,0)","v":0},null,null,null,null,null,{"$f":"IF(Invulblad!P676=\"Nee\",Invulblad!M676,0)","v":0}]
[{"$f":"IF(Invulblad!P677=\"Ja\",Invulblad!M677*Invulblad!Q677,0)","v":0},null,null,null,null,null,{"$f":"IF(Invulblad!P677=\"Nee\",Invulblad!M677,0)","v":0}]
[{"$f":"IF(Invulblad!P678=\"Ja\",Invulblad!M678*Invulblad!Q678,0)","v":0},null,null,null,null,null,{"$f":"IF(Invulblad!P678=\"Nee\",Invulblad!M678,0)","v":0}]
[{"$f":"IF(Invulblad!P679=\"Ja\",Invulblad!M679*Invulblad!Q679,0)","v":0},null,null,null,null,null,{"$f":"IF(Invulblad!P679=\"Nee\",Invulblad!M679,0)","v":0}]
[{"$f":"IF(Invulblad!P680=\"Ja\",Invulblad!M680*Invulblad!Q680,0)","v":0},null,null,null,null,null,{"$f":"IF(Invulblad!P680=\"Nee\",Invulblad!M680,0)","v":0}]
[{"$f":"IF(Invulblad!P681=\"Ja\",Invulblad!M681*Invulblad!Q681,0)","v":0},null,null,null,null,null,{"$f":"IF(Invulblad!P681=\"Nee\",Invulblad!M681,0)","v":0}]
[{"$f":"IF(Invulblad!P682=\"Ja\",Invulblad!M682*Invulblad!Q682,0)","v":0},null,null,null,null,null,{"$f":"IF(Invulblad!P682=\"Nee\",Invulblad!M682,0)","v":0}]
[{"$f":"IF(Invulblad!P683=\"Ja\",Invulblad!M683*Invulblad!Q683,0)","v":0},null,null,null,null,null,{"$f":"IF(Invulblad!P683=\"Nee\",Invulblad!M683,0)","v":0}]
[{"$f":"IF(Invulblad!P684=\"Ja\",Invulblad!M684*Invulblad!Q684,0)","v":0},null,null,null,null,null,{"$f":"IF(Invulblad!P684=\"Nee\",Invulblad!M684,0)","v":0}]
[{"$f":"IF(Invulblad!P685=\"Ja\",Invulblad!M685*Invulblad!Q685,0)","v":0},null,null,null,null,null,{"$f":"IF(Invulblad!P685=\"Nee\",Invulblad!M685,0)","v":0}]
[{"$f":"IF(Invulblad!P686=\"Ja\",Invulblad!M686*Invulblad!Q686,0)","v":0},null,null,null,null,null,{"$f":"IF(Invulblad!P686=\"Nee\",Invulblad!M686,0)","v":0}]
[{"$f":"IF(Invulblad!P687=\"Ja\",Invulblad!M687*Invulblad!Q687,0)","v":0},null,null,null,null,null,{"$f":"IF(Invulblad!P687=\"Nee\",Invulblad!M687,0)","v":0}]
[{"$f":"IF(Invulblad!P688=\"Ja\",Invulblad!M688*Invulblad!Q688,0)","v":0},null,null,null,null,null,{"$f":"IF(Invulblad!P688=\"Nee\",Invulblad!M688,0)","v":0}]
[{"$f":"IF(Invulblad!P689=\"Ja\",Invulblad!M689*Invulblad!Q689,0)","v":0},null,null,null,null,null,{"$f":"IF(Invulblad!P689=\"Nee\",Invulblad!M689,0)","v":0}]
[{"$f":"IF(Invulblad!P690=\"Ja\",Invulblad!M690*Invulblad!Q690,0)","v":0},null,null,null,null,null,{"$f":"IF(Invulblad!P690=\"Nee\",Invulblad!M690,0)","v":0}]
[{"$f":"IF(Invulblad!P691=\"Ja\",Invulblad!M691*Invulblad!Q691,0)","v":0},null,null,null,null,null,{"$f":"IF(Invulblad!P691=\"Nee\",Invulblad!M691,0)","v":0}]
[{"$f":"IF(Invulblad!P692=\"Ja\",Invulblad!M692*Invulblad!Q692,0)","v":0},null,null,null,null,null,{"$f":"IF(Invulblad!P692=\"Nee\",Invulblad!M692,0)","v":0}]
[{"$f":"IF(Invulblad!P693=\"Ja\",Invulblad!M693*Invulblad!Q693,0)","v":0},null,null,null,null,null,{"$f":"IF(Invulblad!P693=\"Nee\",Invulblad!M693,0)","v":0}]
[{"$f":"IF(Invulblad!P694=\"Ja\",Invulblad!M694*Invulblad!Q694,0)","v":0},null,null,null,null,null,{"$f":"IF(Invulblad!P694=\"Nee\",Invulblad!M694,0)","v":0}]
[{"$f":"IF(Invulblad!P695=\"Ja\",Invulblad!M695*Invulblad!Q695,0)","v":0},null,null,null,null,null,{"$f":"IF(Invulblad!P695=\"Nee\",Invulblad!M695,0)","v":0}]
[{"$f":"IF(Invulblad!P696=\"Ja\",Invulblad!M696*Invulblad!Q696,0)","v":0},null,null,null,null,null,{"$f":"IF(Invulblad!P696=\"Nee\",Invulblad!M696,0)","v":0}]
[{"$f":"IF(Invulblad!P697=\"Ja\",Invulblad!M697*Invulblad!Q697,0)","v":0},null,null,null,null,null,{"$f":"IF(Invulblad!P697=\"Nee\",Invulblad!M697,0)","v":0}]
[{"$f":"IF(Invulblad!P698=\"Ja\",Invulblad!M698*Invulblad!Q698,0)","v":0},null,null,null,null,null,{"$f":"IF(Invulblad!P698=\"Nee\",Invulblad!M698,0)","v":0}]
[{"$f":"IF(Invulblad!P699=\"Ja\",Invulblad!M699*Invulblad!Q699,0)","v":0},null,null,null,null,null,{"$f":"IF(Invulblad!P699=\"Nee\",Invulblad!M699,0)","v":0}]
[{"$f":"IF(Invulblad!P700=\"Ja\",Invulblad!M700*Invulblad!Q700,0)","v":0},null,null,null,null,null,{"$f":"IF(Invulblad!P700=\"Nee\",Invulblad!M700,0)","v":0}]
[{"$f":"IF(Invulblad!P701=\"Ja\",Invulblad!M701*Invulblad!Q701,0)","v":0},null,null,null,null,null,{"$f":"IF(Invulblad!P701=\"Nee\",Invulblad!M701,0)","v":0}]
[{"$f":"IF(Invulblad!P702=\"Ja\",Invulblad!M702*Invulblad!Q702,0)","v":0},null,null,null,null,null,{"$f":"IF(Invulblad!P702=\"Nee\",Invulblad!M702,0)","v":0}]
[{"$f":"IF(Invulblad!P703=\"Ja\",Invulblad!M703*Invulblad!Q703,0)","v":0},null,null,null,null,null,{"$f":"IF(Invulblad!P703=\"Nee\",Invulblad!M703,0)","v":0}]
[{"$f":"IF(Invulblad!P704=\"Ja\",Invulblad!M704*Invulblad!Q704,0)","v":0},null,null,null,null,null,{"$f":"IF(Invulblad!P704=\"Nee\",Invulblad!M704,0)","v":0}]
[{"$f":"IF(Invulblad!P705=\"Ja\",Invulblad!M705*Invulblad!Q705,0)","v":0},null,null,null,null,null,{"$f":"IF(Invulblad!P705=\"Nee\",Invulblad!M705,0)","v":0}]
[{"$f":"IF(Invulblad!P706=\"Ja\",Invulblad!M706*Invulblad!Q706,0)","v":0},null,null,null,null,null,{"$f":"IF(Invulblad!P706=\"Nee\",Invulblad!M706,0)","v":0}]
[{"$f":"IF(Invulblad!P707=\"Ja\",Invulblad!M707*Invulblad!Q707,0)","v":0},null,null,null,null,null,{"$f":"IF(Invulblad!P707=\"Nee\",Invulblad!M707,0)","v":0}]
[{"$f":"IF(Invulblad!P708=\"Ja\",Invulblad!M708*Invulblad!Q708,0)","v":0},null,null,null,null,null,{"$f":"IF(Invulblad!P708=\"Nee\",Invulblad!M708,0)","v":0}]
[{"$f":"IF(Invulblad!P709=\"Ja\",Invulblad!M709*Invulblad!Q709,0)","v":0},null,null,null,null,null,{"$f":"IF(Invulblad!P709=\"Nee\",Invulblad!M709,0)","v":0}]
[{"$f":"IF(Invulblad!P710=\"Ja\",Invulblad!M710*Invulblad!Q710,0)","v":0},null,null,null,null,null,{"$f":"IF(Invulblad!P710=\"Nee\",Invulblad!M710,0)","v":0}]
[{"$f":"IF(Invulblad!P711=\"Ja\",Invulblad!M711*Invulblad!Q711,0)","v":0},null,null,null,null,null,{"$f":"IF(Invulblad!P711=\"Nee\",Invulblad!M711,0)","v":0}]
[{"$f":"IF(Invulblad!P712=\"Ja\",Invulblad!M712*Invulblad!Q712,0)","v":0},null,null,null,null,null,{"$f":"IF(Invulblad!P712=\"Nee\",Invulblad!M712,0)","v":0}]
[{"$f":"IF(Invulblad!P713=\"Ja\",Invulblad!M713*Invulblad!Q713,0)","v":0},null,null,null,null,null,{"$f":"IF(Invulblad!P713=\"Nee\",Invulblad!M713,0)","v":0}]
[{"$f":"IF(Invulblad!P714=\"Ja\",Invulblad!M714*Invulblad!Q714,0)","v":0},null,null,null,null,null,{"$f":"IF(Invulblad!P714=\"Nee\",Invulblad!M714,0)","v":0}]
[{"$f":"IF(Invulblad!P715=\"Ja\",Invulblad!M715*Invulblad!Q715,0)","v":0},null,null,null,null,null,{"$f":"IF(Invulblad!P715=\"Nee\",Invulblad!M715,0)","v":0}]
[{"$f":"IF(Invulblad!P716=\"Ja\",Invulblad!M716*Invulblad!Q716,0)","v":0},null,null,null,null,null,{"$f":"IF(Invulblad!P716=\"Nee\",Invulblad!M716,0)","v":0}]
[{"$f":"IF(Invulblad!P717=\"Ja\",Invulblad!M717*Invulblad!Q717,0)","v":0},null,null,null,null,null,{"$f":"IF(Invulblad!P717=\"Nee\",Invulblad!M717,0)","v":0}]
[{"$f":"IF(Invulblad!P718=\"Ja\",Invulblad!M718*Invulblad!Q718,0)","v":0},null,null,null,null,null,{"$f":"IF(Invulblad!P718=\"Nee\",Invulblad!M718,0)","v":0}]
[{"$f":"IF(Invulblad!P719=\"Ja\",Invulblad!M719*Invulblad!Q719,0)","v":0},null,null,null,null,null,{"$f":"IF(Invulblad!P719=\"Nee\",Invulblad!M719,0)","v":0}]
[{"$f":"IF(Invulblad!P720=\"Ja\",Invulblad!M720*Invulblad!Q720,0)","v":0},null,null,null,null,null,{"$f":"IF(Invulblad!P720=\"Nee\",Invulblad!M720,0)","v":0}]
[{"$f":"IF(Invulblad!P721=\"Ja\",Invulblad!M721*Invulblad!Q721,0)","v":0},null,null,null,null,null,{"$f":"IF(Invulblad!P721=\"Nee\",Invulblad!M721,0)","v":0}]
[{"$f":"IF(Invulblad!P722=\"Ja\",Invulblad!M722*Invulblad!Q722,0)","v":0},null,null,null,null,null,{"$f":"IF(Invulblad!P722=\"Nee\",Invulblad!M722,0)","v":0}]
[{"$f":"IF(Invulblad!P723=\"Ja\",Invulblad!M723*Invulblad!Q723,0)","v":0},null,null,null,null,null,{"$f":"IF(Invulblad!P723=\"Nee\",Invulblad!M723,0)","v":0}]
[{"$f":"IF(Invulblad!P724=\"Ja\",Invulblad!M724*Invulblad!Q724,0)","v":0},null,null,null,null,null,{"$f":"IF(Invulblad!P724=\"Nee\",Invulblad!M724,0)","v":0}]
[{"$f":"IF(Invulblad!P725=\"Ja\",Invulblad!M725*Invulblad!Q725,0)","v":0},null,null,null,null,null,{"$f":"IF(Invulblad!P725=\"Nee\",Invulblad!M725,0)","v":0}]
[{"$f":"IF(Invulblad!P726=\"Ja\",Invulblad!M726*Invulblad!Q726,0)","v":0},null,null,null,null,null,{"$f":"IF(Invulblad!P726=\"Nee\",Invulblad!M726,0)","v":0}]
[{"$f":"IF(Invulblad!P727=\"Ja\",Invulblad!M727*Invulblad!Q727,0)","v":0},null,null,null,null,null,{"$f":"IF(Invulblad!P727=\"Nee\",Invulblad!M727,0)","v":0}]
[{"$f":"IF(Invulblad!P728=\"Ja\",Invulblad!M728*Invulblad!Q728,0)","v":0},null,null,null,null,null,{"$f":"IF(Invulblad!P728=\"Nee\",Invulblad!M728,0)","v":0}]
[{"$f":"IF(Invulblad!P729=\"Ja\",Invulblad!M729*Invulblad!Q729,0)","v":0},null,null,null,null,null,{"$f":"IF(Invulblad!P729=\"Nee\",Invulblad!M729,0)","v":0}]
[{"$f":"IF(Invulblad!P730=\"Ja\",Invulblad!M730*Invulblad!Q730,0)","v":0},null,null,null,null,null,{"$f":"IF(Invulblad!P730=\"Nee\",Invulblad!M730,0)","v":0}]
[{"$f":"IF(Invulblad!P731=\"Ja\",Invulblad!M731*Invulblad!Q731,0)","v":0},null,null,null,null,null,{"$f":"IF(Invulblad!P731=\"Nee\",Invulblad!M731,0)","v":0}]
[{"$f":"IF(Invulblad!P732=\"Ja\",Invulblad!M732*Invulblad!Q732,0)","v":0},null,null,null,null,null,{"$f":"IF(Invulblad!P732=\"Nee\",Invulblad!M732,0)","v":0}]
[{"$f":"IF(Invulblad!P733=\"Ja\",Invulblad!M733*Invulblad!Q733,0)","v":0},null,null,null,null,null,{"$f":"IF(Invulblad!P733=\"Nee\",Invulblad!M733,0)","v":0}]
[{"$f":"IF(Invulblad!P734=\"Ja\",Invulblad!M734*Invulblad!Q734,0)","v":0},null,null,null,null,null,{"$f":"IF(Invulblad!P734=\"Nee\",Invulblad!M734,0)","v":0}]
[{"$f":"IF(Invulblad!P735=\"Ja\",Invulblad!M735*Invulblad!Q735,0)","v":0},null,null,null,null,null,{"$f":"IF(Invulblad!P735=\"Nee\",Invulblad!M735,0)","v":0}]
[{"$f":"IF(Invulblad!P736=\"Ja\",Invulblad!M736*Invulblad!Q736,0)","v":0},null,null,null,null,null,{"$f":"IF(Invulblad!P736=\"Nee\",Invulblad!M736,0)","v":0}]
[{"$f":"IF(Invulblad!P737=\"Ja\",Invulblad!M737*Invulblad!Q737,0)","v":0},null,null,null,null,null,{"$f":"IF(Invulblad!P737=\"Nee\",Invulblad!M737,0)","v":0}]
[{"$f":"IF(Invulblad!P738=\"Ja\",Invulblad!M738*Invulblad!Q738,0)","v":0},null,null,null,null,null,{"$f":"IF(Invulblad!P738=\"Nee\",Invulblad!M738,0)","v":0}]
[{"$f":"IF(Invulblad!P739=\"Ja\",Invulblad!M739*Invulblad!Q739,0)","v":0},null,null,null,null,null,{"$f":"IF(Invulblad!P739=\"Nee\",Invulblad!M739,0)","v":0}]
[{"$f":"IF(Invulblad!P740=\"Ja\",Invulblad!M740*Invulblad!Q740,0)","v":0},null,null,null,null,null,{"$f":"IF(Invulblad!P740=\"Nee\",Invulblad!M740,0)","v":0}]
[{"$f":"IF(Invulblad!P741=\"Ja\",Invulblad!M741*Invulblad!Q741,0)","v":0},null,null,null,null,null,{"$f":"IF(Invulblad!P741=\"Nee\",Invulblad!M741,0)","v":0}]
[{"$f":"IF(Invulblad!P742=\"Ja\",Invulblad!M742*Invulblad!Q742,0)","v":0},null,null,null,null,null,{"$f":"IF(Invulblad!P742=\"Nee\",Invulblad!M742,0)","v":0}]
[{"$f":"IF(Invulblad!P743=\"Ja\",Invulblad!M743*Invulblad!Q743,0)","v":0},null,null,null,null,null,{"$f":"IF(Invulblad!P743=\"Nee\",Invulblad!M743,0)","v":0}]
[{"$f":"IF(Invulblad!P744=\"Ja\",Invulblad!M744*Invulblad!Q744,0)","v":0},null,null,null,null,null,{"$f":"IF(Invulblad!P744=\"Nee\",Invulblad!M744,0)","v":0}]
[{"$f":"IF(Invulblad!P745=\"Ja\",Invulblad!M745*Invulblad!Q745,0)","v":0},null,null,null,null,null,{"$f":"IF(Invulblad!P745=\"Nee\",Invulblad!M745,0)","v":0}]
[{"$f":"IF(Invulblad!P746=\"Ja\",Invulblad!M746*Invulblad!Q746,0)","v":0},null,null,null,null,null,{"$f":"IF(Invulblad!P746=\"Nee\",Invulblad!M746,0)","v":0}]
[{"$f":"IF(Invulblad!P747=\"Ja\",Invulblad!M747*Invulblad!Q747,0)","v":0},null,null,null,null,null,{"$f":"IF(Invulblad!P747=\"Nee\",Invulblad!M747,0)","v":0}]
[{"$f":"IF(Invulblad!P748=\"Ja\",Invulblad!M748*Invulblad!Q748,0)","v":0},null,null,null,null,null,{"$f":"IF(Invulblad!P748=\"Nee\",Invulblad!M748,0)","v":0}]
[{"$f":"IF(Invulblad!P749=\"Ja\",Invulblad!M749*Invulblad!Q749,0)","v":0},null,null,null,null,null,{"$f":"IF(Invulblad!P749=\"Nee\",Invulblad!M749,0)","v":0}]
[{"$f":"IF(Invulblad!P750=\"Ja\",Invulblad!M750*Invulblad!Q750,0)","v":0},null,null,null,null,null,{"$f":"IF(Invulblad!P750=\"Nee\",Invulblad!M750,0)","v":0}]
[{"$f":"IF(Invulblad!P751=\"Ja\",Invulblad!M751*Invulblad!Q751,0)","v":0},null,null,null,null,null,{"$f":"IF(Invulblad!P751=\"Nee\",Invulblad!M751,0)","v":0}]
[{"$f":"IF(Invulblad!P752=\"Ja\",Invulblad!M752*Invulblad!Q752,0)","v":0},null,null,null,null,null,{"$f":"IF(Invulblad!P752=\"Nee\",Invulblad!M752,0)","v":0}]
[{"$f":"IF(Invulblad!P753=\"Ja\",Invulblad!M753*Invulblad!Q753,0)","v":0},null,null,null,null,null,{"$f":"IF(Invulblad!P753=\"Nee\",Invulblad!M753,0)","v":0}]
[{"$f":"IF(Invulblad!P754=\"Ja\",Invulblad!M754*Invulblad!Q754,0)","v":0},null,null,null,null,null,{"$f":"IF(Invulblad!P754=\"Nee\",Invulblad!M754,0)","v":0}]
[{"$f":"IF(Invulblad!P755=\"Ja\",Invulblad!M755*Invulblad!Q755,0)","v":0},null,null,null,null,null,{"$f":"IF(Invulblad!P755=\"Nee\",Invulblad!M755,0)","v":0}]
[{"$f":"IF(Invulblad!P756=\"Ja\",Invulblad!M756*Invulblad!Q756,0)","v":0},null,null,null,null,null,{"$f":"IF(Invulblad!P756=\"Nee\",Invulblad!M756,0)","v":0}]
[{"$f":"IF(Invulblad!P757=\"Ja\",Invulblad!M757*Invulblad!Q757,0)","v":0},null,null,null,null,null,{"$f":"IF(Invulblad!P757=\"Nee\",Invulblad!M757,0)","v":0}]
[{"$f":"IF(Invulblad!P758=\"Ja\",Invulblad!M758*Invulblad!Q758,0)","v":0},null,null,null,null,null,{"$f":"IF(Invulblad!P758=\"Nee\",Invulblad!M758,0)","v":0}]
[{"$f":"IF(Invulblad!P759=\"Ja\",Invulblad!M759*Invulblad!Q759,0)","v":0},null,null,null,null,null,{"$f":"IF(Invulblad!P759=\"Nee\",Invulblad!M759,0)","v":0}]
[{"$f":"IF(Invulblad!P760=\"Ja\",Invulblad!M760*Invulblad!Q760,0)","v":0},null,null,null,null,null,{"$f":"IF(Invulblad!P760=\"Nee\",Invulblad!M760,0)","v":0}]
[{"$f":"IF(Invulblad!P761=\"Ja\",Invulblad!M761*Invulblad!Q761,0)","v":0},null,null,null,null,null,{"$f":"IF(Invulblad!P761=\"Nee\",Invulblad!M761,0)","v":0}]
[{"$f":"IF(Invulblad!P762=\"Ja\",Invulblad!M762*Invulblad!Q762,0)","v":0},null,null,null,null,null,{"$f":"IF(Invulblad!P762=\"Nee\",Invulblad!M762,0)","v":0}]
[{"$f":"IF(Invulblad!P763=\"Ja\",Invulblad!M763*Invulblad!Q763,0)","v":0},null,null,null,null,null,{"$f":"IF(Invulblad!P763=\"Nee\",Invulblad!M763,0)","v":0}]
[{"$f":"IF(Invulblad!P764=\"Ja\",Invulblad!M764*Invulblad!Q764,0)","v":0},null,null,null,null,null,{"$f":"IF(Invulblad!P764=\"Nee\",Invulblad!M764,0)","v":0}]
[{"$f":"IF(Invulblad!P765=\"Ja\",Invulblad!M765*Invulblad!Q765,0)","v":0},null,null,null,null,null,{"$f":"IF(Invulblad!P765=\"Nee\",Invulblad!M765,0)","v":0}]
[{"$f":"IF(Invulblad!P766=\"Ja\",Invulblad!M766*Invulblad!Q766,0)","v":0},null,null,null,null,null,{"$f":"IF(Invulblad!P766=\"Nee\",Invulblad!M766,0)","v":0}]
[{"$f":"IF(Invulblad!P767=\"Ja\",Invulblad!M767*Invulblad!Q767,0)","v":0},null,null,null,null,null,{"$f":"IF(Invulblad!P767=\"Nee\",Invulblad!M767,0)","v":0}]
[{"$f":"IF(Invulblad!P768=\"Ja\",Invulblad!M768*Invulblad!Q768,0)","v":0},null,null,null,null,null,{"$f":"IF(Invulblad!P768=\"Nee\",Invulblad!M768,0)","v":0}]
[{"$f":"IF(Invulblad!P769=\"Ja\",Invulblad!M769*Invulblad!Q769,0)","v":0},null,null,null,null,null,{"$f":"IF(Invulblad!P769=\"Nee\",Invulblad!M769,0)","v":0}]
[{"$f":"IF(Invulblad!P770=\"Ja\",Invulblad!M770*Invulblad!Q770,0)","v":0},null,null,null,null,null,{"$f":"IF(Invulblad!P770=\"Nee\",Invulblad!M770,0)","v":0}]
[{"$f":"IF(Invulblad!P771=\"Ja\",Invulblad!M771*Invulblad!Q771,0)","v":0},null,null,null,null,null,{"$f":"IF(Invulblad!P771=\"Nee\",Invulblad!M771,0)","v":0}]
[{"$f":"IF(Invulblad!P772=\"Ja\",Invulblad!M772*Invulblad!Q772,0)","v":0},null,null,null,null,null,{"$f":"IF(Invulblad!P772=\"Nee\",Invulblad!M772,0)","v":0}]
[{"$f":"IF(Invulblad!P773=\"Ja\",Invulblad!M773*Invulblad!Q773,0)","v":0},null,null,null,null,null,{"$f":"IF(Invulblad!P773=\"Nee\",Invulblad!M773,0)","v":0}]
[{"$f":"IF(Invulblad!P774=\"Ja\",Invulblad!M774*Invulblad!Q774,0)","v":0},null,null,null,null,null,{"$f":"IF(Invulblad!P774=\"Nee\",Invulblad!M774,0)","v":0}]
[{"$f":"IF(Invulblad!P775=\"Ja\",Invulblad!M775*Invulblad!Q775,0)","v":0},null,null,null,null,null,{"$f":"IF(Invulblad!P775=\"Nee\",Invulblad!M775,0)","v":0}]
[{"$f":"IF(Invulblad!P776=\"Ja\",Invulblad!M776*Invulblad!Q776,0)","v":0},null,null,null,null,null,{"$f":"IF(Invulblad!P776=\"Nee\",Invulblad!M776,0)","v":0}]
[{"$f":"IF(Invulblad!P777=\"Ja\",Invulblad!M777*Invulblad!Q777,0)","v":0},null,null,null,null,null,{"$f":"IF(Invulblad!P777=\"Nee\",Invulblad!M777,0)","v":0}]
[{"$f":"IF(Invulblad!P778=\"Ja\",Invulblad!M778*Invulblad!Q778,0)","v":0},null,null,null,null,null,{"$f":"IF(Invulblad!P778=\"Nee\",Invulblad!M778,0)","v":0}]
[{"$f":"IF(Invulblad!P779=\"Ja\",Invulblad!M779*Invulblad!Q779,0)","v":0},null,null,null,null,null,{"$f":"IF(Invulblad!P779=\"Nee\",Invulblad!M779,0)","v":0}]
[{"$f":"IF(Invulblad!P780=\"Ja\",Invulblad!M780*Invulblad!Q780,0)","v":0},null,null,null,null,null,{"$f":"IF(Invulblad!P780=\"Nee\",Invulblad!M780,0)","v":0}]
[{"$f":"IF(Invulblad!P781=\"Ja\",Invulblad!M781*Invulblad!Q781,0)","v":0},null,null,null,null,null,{"$f":"IF(Invulblad!P781=\"Nee\",Invulblad!M781,0)","v":0}]
[{"$f":"IF(Invulblad!P782=\"Ja\",Invulblad!M782*Invulblad!Q782,0)","v":0},null,null,null,null,null,{"$f":"IF(Invulblad!P782=\"Nee\",Invulblad!M782,0)","v":0}]
[{"$f":"IF(Invulblad!P783=\"Ja\",Invulblad!M783*Invulblad!Q783,0)","v":0},null,null,null,null,null,{"$f":"IF(Invulblad!P783=\"Nee\",Invulblad!M783,0)","v":0}]
[{"$f":"IF(Invulblad!P784=\"Ja\",Invulblad!M784*Invulblad!Q784,0)","v":0},null,null,null,null,null,{"$f":"IF(Invulblad!P784=\"Nee\",Invulblad!M784,0)","v":0}]
[{"$f":"IF(Invulblad!P785=\"Ja\",Invulblad!M785*Invulblad!Q785,0)","v":0},null,null,null,null,null,{"$f":"IF(Invulblad!P785=\"Nee\",Invulblad!M785,0)","v":0}]
[{"$f":"IF(Invulblad!P786=\"Ja\",Invulblad!M786*Invulblad!Q786,0)","v":0},null,null,null,null,null,{"$f":"IF(Invulblad!P786=\"Nee\",Invulblad!M786,0)","v":0}]
[{"$f":"IF(Invulblad!P787=\"Ja\",Invulblad!M787*Invulblad!Q787,0)","v":0},null,null,null,null,null,{"$f":"IF(Invulblad!P787=\"Nee\",Invulblad!M787,0)","v":0}]
[{"$f":"IF(Invulblad!P788=\"Ja\",Invulblad!M788*Invulblad!Q788,0)","v":0},null,null,null,null,null,{"$f":"IF(Invulblad!P788=\"Nee\",Invulblad!M788,0)","v":0}]
[{"$f":"IF(Invulblad!P789=\"Ja\",Invulblad!M789*Invulblad!Q789,0)","v":0},null,null,null,null,null,{"$f":"IF(Invulblad!P789=\"Nee\",Invulblad!M789,0)","v":0}]
[{"$f":"IF(Invulblad!P790=\"Ja\",Invulblad!M790*Invulblad!Q790,0)","v":0},null,null,null,null,null,{"$f":"IF(Invulblad!P790=\"Nee\",Invulblad!M790,0)","v":0}]
[{"$f":"IF(Invulblad!P791=\"Ja\",Invulblad!M791*Invulblad!Q791,0)","v":0},null,null,null,null,null,{"$f":"IF(Invulblad!P791=\"Nee\",Invulblad!M791,0)","v":0}]
[{"$f":"IF(Invulblad!P792=\"Ja\",Invulblad!M792*Invulblad!Q792,0)","v":0},null,null,null,null,null,{"$f":"IF(Invulblad!P792=\"Nee\",Invulblad!M792,0)","v":0}]
[{"$f":"IF(Invulblad!P793=\"Ja\",Invulblad!M793*Invulblad!Q793,0)","v":0},null,null,null,null,null,{"$f":"IF(Invulblad!P793=\"Nee\",Invulblad!M793,0)","v":0}]
[{"$f":"IF(Invulblad!P794=\"Ja\",Invulblad!M794*Invulblad!Q794,0)","v":0},null,null,null,null,null,{"$f":"IF(Invulblad!P794=\"Nee\",Invulblad!M794,0)","v":0}]
[{"$f":"IF(Invulblad!P795=\"Ja\",Invulblad!M795*Invulblad!Q795,0)","v":0},null,null,null,null,null,{"$f":"IF(Invulblad!P795=\"Nee\",Invulblad!M795,0)","v":0}]
[{"$f":"IF(Invulblad!P796=\"Ja\",Invulblad!M796*Invulblad!Q796,0)","v":0},null,null,null,null,null,{"$f":"IF(Invulblad!P796=\"Nee\",Invulblad!M796,0)","v":0}]
[{"$f":"IF(Invulblad!P797=\"Ja\",Invulblad!M797*Invulblad!Q797,0)","v":0},null,null,null,null,null,{"$f":"IF(Invulblad!P797=\"Nee\",Invulblad!M797,0)","v":0}]
[{"$f":"IF(Invulblad!P798=\"Ja\",Invulblad!M798*Invulblad!Q798,0)","v":0},null,null,null,null,null,{"$f":"IF(Invulblad!P798=\"Nee\",Invulblad!M798,0)","v":0}]
[{"$f":"IF(Invulblad!P799=\"Ja\",Invulblad!M799*Invulblad!Q799,0)","v":0},null,null,null,null,null,{"$f":"IF(Invulblad!P799=\"Nee\",Invulblad!M799,0)","v":0}]
[{"$f":"IF(Invulblad!P800=\"Ja\",Invulblad!M800*Invulblad!Q800,0)","v":0},null,null,null,null,null,{"$f":"IF(Invulblad!P800=\"Nee\",Invulblad!M800,0)","v":0}]
[{"$f":"IF(Invulblad!P801=\"Ja\",Invulblad!M801*Invulblad!Q801,0)","v":0},null,null,null,null,null,{"$f":"IF(Invulblad!P801=\"Nee\",Invulblad!M801,0)","v":0}]
[{"$f":"IF(Invulblad!P802=\"Ja\",Invulblad!M802*Invulblad!Q802,0)","v":0},null,null,null,null,null,{"$f":"IF(Invulblad!P802=\"Nee\",Invulblad!M802,0)","v":0}]
[{"$f":"IF(Invulblad!P803=\"Ja\",Invulblad!M803*Invulblad!Q803,0)","v":0},null,null,null,null,null,{"$f":"IF(Invulblad!P803=\"Nee\",Invulblad!M803,0)","v":0}]
[{"$f":"IF(Invulblad!P804=\"Ja\",Invulblad!M804*Invulblad!Q804,0)","v":0},null,null,null,null,null,{"$f":"IF(Invulblad!P804=\"Nee\",Invulblad!M804,0)","v":0}]
[{"$f":"IF(Invulblad!P805=\"Ja\",Invulblad!M805*Invulblad!Q805,0)","v":0},null,null,null,null,null,{"$f":"IF(Invulblad!P805=\"Nee\",Invulblad!M805,0)","v":0}]
[{"$f":"IF(Invulblad!P806=\"Ja\",Invulblad!M806*Invulblad!Q806,0)","v":0},null,null,null,null,null,{"$f":"IF(Invulblad!P806=\"Nee\",Invulblad!M806,0)","v":0}]
[{"$f":"IF(Invulblad!P807=\"Ja\",Invulblad!M807*Invulblad!Q807,0)","v":0},null,null,null,null,null,{"$f":"IF(Invulblad!P807=\"Nee\",Invulblad!M807,0)","v":0}]
[{"$f":"IF(Invulblad!P808=\"Ja\",Invulblad!M808*Invulblad!Q808,0)","v":0},null,null,null,null,null,{"$f":"IF(Invulblad!P808=\"Nee\",Invulblad!M808,0)","v":0}]
[{"$f":"IF(Invulblad!P809=\"Ja\",Invulblad!M809*Invulblad!Q809,0)","v":0},null,null,null,null,null,{"$f":"IF(Invulblad!P809=\"Nee\",Invulblad!M809,0)","v":0}]
[{"$f":"IF(Invulblad!P810=\"Ja\",Invulblad!M810*Invulblad!Q810,0)","v":0},null,null,null,null,null,{"$f":"IF(Invulblad!P810=\"Nee\",Invulblad!M810,0)","v":0}]
[{"$f":"IF(Invulblad!P811=\"Ja\",Invulblad!M811*Invulblad!Q811,0)","v":0},null,null,null,null,null,{"$f":"IF(Invulblad!P811=\"Nee\",Invulblad!M811,0)","v":0}]
[{"$f":"IF(Invulblad!P812=\"Ja\",Invulblad!M812*Invulblad!Q812,0)","v":0},null,null,null,null,null,{"$f":"IF(Invulblad!P812=\"Nee\",Invulblad!M812,0)","v":0}]
[{"$f":"IF(Invulblad!P813=\"Ja\",Invulblad!M813*Invulblad!Q813,0)","v":0},null,null,null,null,null,{"$f":"IF(Invulblad!P813=\"Nee\",Invulblad!M813,0)","v":0}]
[{"$f":"IF(Invulblad!P814=\"Ja\",Invulblad!M814*Invulblad!Q814,0)","v":0},null,null,null,null,null,{"$f":"IF(Invulblad!P814=\"Nee\",Invulblad!M814,0)","v":0}]
[{"$f":"IF(Invulblad!P815=\"Ja\",Invulblad!M815*Invulblad!Q815,0)","v":0},null,null,null,null,null,{"$f":"IF(Invulblad!P815=\"Nee\",Invulblad!M815,0)","v":0}]
[{"$f":"IF(Invulblad!P816=\"Ja\",Invulblad!M816*Invulblad!Q816,0)","v":0},null,null,null,null,null,{"$f":"IF(Invulblad!P816=\"Nee\",Invulblad!M816,0)","v":0}]
[{"$f":"IF(Invulblad!P817=\"Ja\",Invulblad!M817*Invulblad!Q817,0)","v":0},null,null,null,null,null,{"$f":"IF(Invulblad!P817=\"Nee\",Invulblad!M817,0)","v":0}]
[{"$f":"IF(Invulblad!P818=\"Ja\",Invulblad!M818*Invulblad!Q818,0)","v":0},null,null,null,null,null,{"$f":"IF(Invulblad!P818=\"Nee\",Invulblad!M818,0)","v":0}]
[{"$f":"IF(Invulblad!P819=\"Ja\",Invulblad!M819*Invulblad!Q819,0)","v":0},null,null,null,null,null,{"$f":"IF(Invulblad!P819=\"Nee\",Invulblad!M819,0)","v":0}]
[{"$f":"IF(Invulblad!P820=\"Ja\",Invulblad!M820*Invulblad!Q820,0)","v":0},null,null,null,null,null,{"$f":"IF(Invulblad!P820=\"Nee\",Invulblad!M820,0)","v":0}]
[{"$f":"IF(Invulblad!P821=\"Ja\",Invulblad!M821*Invulblad!Q821,0)","v":0},null,null,null,null,null,{"$f":"IF(Invulblad!P821=\"Nee\",Invulblad!M821,0)","v":0}]
[{"$f":"IF(Invulblad!P822=\"Ja\",Invulblad!M822*Invulblad!Q822,0)","v":0},null,null,null,null,null,{"$f":"IF(Invulblad!P822=\"Nee\",Invulblad!M822,0)","v":0}]
[{"$f":"IF(Invulblad!P823=\"Ja\",Invulblad!M823*Invulblad!Q823,0)","v":0},null,null,null,null,null,{"$f":"IF(Invulblad!P823=\"Nee\",Invulblad!M823,0)","v":0}]
[{"$f":"IF(Invulblad!P824=\"Ja\",Invulblad!M824*Invulblad!Q824,0)","v":0},null,null,null,null,null,{"$f":"IF(Invulblad!P824=\"Nee\",Invulblad!M824,0)","v":0}]
[{"$f":"IF(Invulblad!P825=\"Ja\",Invulblad!M825*Invulblad!Q825,0)","v":0},null,null,null,null,null,{"$f":"IF(Invulblad!P825=\"Nee\",Invulblad!M825,0)","v":0}]
[{"$f":"IF(Invulblad!P826=\"Ja\",Invulblad!M826*Invulblad!Q826,0)","v":0},null,null,null,null,null,{"$f":"IF(Invulblad!P826=\"Nee\",Invulblad!M826,0)","v":0}]
[{"$f":"IF(Invulblad!P827=\"Ja\",Invulblad!M827*Invulblad!Q827,0)","v":0},null,null,null,null,null,{"$f":"IF(Invulblad!P827=\"Nee\",Invulblad!M827,0)","v":0}]
[{"$f":"IF(Invulblad!P828=\"Ja\",Invulblad!M828*Invulblad!Q828,0)","v":0},null,null,null,null,null,{"$f":"IF(Invulblad!P828=\"Nee\",Invulblad!M828,0)","v":0}]
[{"$f":"IF(Invulblad!P829=\"Ja\",Invulblad!M829*Invulblad!Q829,0)","v":0},null,null,null,null,null,{"$f":"IF(Invulblad!P829=\"Nee\",Invulblad!M829,0)","v":0}]
[{"$f":"IF(Invulblad!P830=\"Ja\",Invulblad!M830*Invulblad!Q830,0)","v":0},null,null,null,null,null,{"$f":"IF(Invulblad!P830=\"Nee\",Invulblad!M830,0)","v":0}]
[{"$f":"IF(Invulblad!P831=\"Ja\",Invulblad!M831*Invulblad!Q831,0)","v":0},null,null,null,null,null,{"$f":"IF(Invulblad!P831=\"Nee\",Invulblad!M831,0)","v":0}]
[{"$f":"IF(Invulblad!P832=\"Ja\",Invulblad!M832*Invulblad!Q832,0)","v":0},null,null,null,null,null,{"$f":"IF(Invulblad!P832=\"Nee\",Invulblad!M832,0)","v":0}]
[{"$f":"IF(Invulblad!P833=\"Ja\",Invulblad!M833*Invulblad!Q833,0)","v":0},null,null,null,null,null,{"$f":"IF(Invulblad!P833=\"Nee\",Invulblad!M833,0)","v":0}]
[{"$f":"IF(Invulblad!P834=\"Ja\",Invulblad!M834*Invulblad!Q834,0)","v":0},null,null,null,null,null,{"$f":"IF(Invulblad!P834=\"Nee\",Invulblad!M834,0)","v":0}]
[{"$f":"IF(Invulblad!P835=\"Ja\",Invulblad!M835*Invulblad!Q835,0)","v":0},null,null,null,null,null,{"$f":"IF(Invulblad!P835=\"Nee\",Invulblad!M835,0)","v":0}]
[{"$f":"IF(Invulblad!P836=\"Ja\",Invulblad!M836*Invulblad!Q836,0)","v":0},null,null,null,null,null,{"$f":"IF(Invulblad!P836=\"Nee\",Invulblad!M836,0)","v":0}]
[{"$f":"IF(Invulblad!P837=\"Ja\",Invulblad!M837*Invulblad!Q837,0)","v":0},null,null,null,null,null,{"$f":"IF(Invulblad!P837=\"Nee\",Invulblad!M837,0)","v":0}]
[{"$f":"IF(Invulblad!P838=\"Ja\",Invulblad!M838*Invulblad!Q838,0)","v":0},null,null,null,null,null,{"$f":"IF(Invulblad!P838=\"Nee\",Invulblad!M838,0)","v":0}]
[{"$f":"IF(Invulblad!P839=\"Ja\",Invulblad!M839*Invulblad!Q839,0)","v":0},null,null,null,null,null,{"$f":"IF(Invulblad!P839=\"Nee\",Invulblad!M839,0)","v":0}]
[{"$f":"IF(Invulblad!P840=\"Ja\",Invulblad!M840*Invulblad!Q840,0)","v":0},null,null,null,null,null,{"$f":"IF(Invulblad!P840=\"Nee\",Invulblad!M840,0)","v":0}]
[{"$f":"IF(Invulblad!P841=\"Ja\",Invulblad!M841*Invulblad!Q841,0)","v":0},null,null,null,null,null,{"$f":"IF(Invulblad!P841=\"Nee\",Invulblad!M841,0)","v":0}]
[{"$f":"IF(Invulblad!P842=\"Ja\",Invulblad!M842*Invulblad!Q842,0)","v":0},null,null,null,null,null,{"$f":"IF(Invulblad!P842=\"Nee\",Invulblad!M842,0)","v":0}]
[{"$f":"IF(Invulblad!P843=\"Ja\",Invulblad!M843*Invulblad!Q843,0)","v":0},null,null,null,null,null,{"$f":"IF(Invulblad!P843=\"Nee\",Invulblad!M843,0)","v":0}]
[{"$f":"IF(Invulblad!P844=\"Ja\",Invulblad!M844*Invulblad!Q844,0)","v":0},null,null,null,null,null,{"$f":"IF(Invulblad!P844=\"Nee\",Invulblad!M844,0)","v":0}]
[{"$f":"IF(Invulblad!P845=\"Ja\",Invulblad!M845*Invulblad!Q845,0)","v":0},null,null,null,null,null,{"$f":"IF(Invulblad!P845=\"Nee\",Invulblad!M845,0)","v":0}]
[{"$f":"IF(Invulblad!P846=\"Ja\",Invulblad!M846*Invulblad!Q846,0)","v":0},null,null,null,null,null,{"$f":"IF(Invulblad!P846=\"Nee\",Invulblad!M846,0)","v":0}]
[{"$f":"IF(Invulblad!P847=\"Ja\",Invulblad!M847*Invulblad!Q847,0)","v":0},null,null,null,null,null,{"$f":"IF(Invulblad!P847=\"Nee\",Invulblad!M847,0)","v":0}]
[{"$f":"IF(Invulblad!P848=\"Ja\",Invulblad!M848*Invulblad!Q848,0)","v":0},null,null,null,null,null,{"$f":"IF(Invulblad!P848=\"Nee\",Invulblad!M848,0)","v":0}]
[{"$f":"IF(Invulblad!P849=\"Ja\",Invulblad!M849*Invulblad!Q849,0)","v":0},null,null,null,null,null,{"$f":"IF(Invulblad!P849=\"Nee\",Invulblad!M849,0)","v":0}]
[{"$f":"IF(Invulblad!P850=\"Ja\",Invulblad!M850*Invulblad!Q850,0)","v":0},null,null,null,null,null,{"$f":"IF(Invulblad!P850=\"Nee\",Invulblad!M850,0)","v":0}]
[{"$f":"IF(Invulblad!P851=\"Ja\",Invulblad!M851*Invulblad!Q851,0)","v":0},null,null,null,null,null,{"$f":"IF(Invulblad!P851=\"Nee\",Invulblad!M851,0)","v":0}]
[{"$f":"IF(Invulblad!P852=\"Ja\",Invulblad!M852*Invulblad!Q852,0)","v":0},null,null,null,null,null,{"$f":"IF(Invulblad!P852=\"Nee\",Invulblad!M852,0)","v":0}]
[{"$f":"IF(Invulblad!P853=\"Ja\",Invulblad!M853*Invulblad!Q853,0)","v":0},null,null,null,null,null,{"$f":"IF(Invulblad!P853=\"Nee\",Invulblad!M853,0)","v":0}]
[{"$f":"IF(Invulblad!P854=\"Ja\",Invulblad!M854*Invulblad!Q854,0)","v":0},null,null,null,null,null,{"$f":"IF(Invulblad!P854=\"Nee\",Invulblad!M854,0)","v":0}]
[{"$f":"IF(Invulblad!P855=\"Ja\",Invulblad!M855*Invulblad!Q855,0)","v":0},null,null,null,null,null,{"$f":"IF(Invulblad!P855=\"Nee\",Invulblad!M855,0)","v":0}]
[{"$f":"IF(Invulblad!P856=\"Ja\",Invulblad!M856*Invulblad!Q856,0)","v":0},null,null,null,null,null,{"$f":"IF(Invulblad!P856=\"Nee\",Invulblad!M856,0)","v":0}]
[{"$f":"IF(Invulblad!P857=\"Ja\",Invulblad!M857*Invulblad!Q857,0)","v":0},null,null,null,null,null,{"$f":"IF(Invulblad!P857=\"Nee\",Invulblad!M857,0)","v":0}]
[{"$f":"IF(Invulblad!P858=\"Ja\",Invulblad!M858*Invulblad!Q858,0)","v":0},null,null,null,null,null,{"$f":"IF(Invulblad!P858=\"Nee\",Invulblad!M858,0)","v":0}]
[{"$f":"IF(Invulblad!P859=\"Ja\",Invulblad!M859*Invulblad!Q859,0)","v":0},null,null,null,null,null,{"$f":"IF(Invulblad!P859=\"Nee\",Invulblad!M859,0)","v":0}]
[{"$f":"IF(Invulblad!P860=\"Ja\",Invulblad!M860*Invulblad!Q860,0)","v":0},null,null,null,null,null,{"$f":"IF(Invulblad!P860=\"Nee\",Invulblad!M860,0)","v":0}]
[{"$f":"IF(Invulblad!P861=\"Ja\",Invulblad!M861*Invulblad!Q861,0)","v":0},null,null,null,null,null,{"$f":"IF(Invulblad!P861=\"Nee\",Invulblad!M861,0)","v":0}]
[{"$f":"IF(Invulblad!P862=\"Ja\",Invulblad!M862*Invulblad!Q862,0)","v":0},null,null,null,null,null,{"$f":"IF(Invulblad!P862=\"Nee\",Invulblad!M862,0)","v":0}]
[{"$f":"IF(Invulblad!P863=\"Ja\",Invulblad!M863*Invulblad!Q863,0)","v":0},null,null,null,null,null,{"$f":"IF(Invulblad!P863=\"Nee\",Invulblad!M863,0)","v":0}]
[{"$f":"IF(Invulblad!P864=\"Ja\",Invulblad!M864*Invulblad!Q864,0)","v":0},null,null,null,null,null,{"$f":"IF(Invulblad!P864=\"Nee\",Invulblad!M864,0)","v":0}]
[{"$f":"IF(Invulblad!P865=\"Ja\",Invulblad!M865*Invulblad!Q865,0)","v":0},null,null,null,null,null,{"$f":"IF(Invulblad!P865=\"Nee\",Invulblad!M865,0)","v":0}]
[{"$f":"IF(Invulblad!P866=\"Ja\",Invulblad!M866*Invulblad!Q866,0)","v":0},null,null,null,null,null,{"$f":"IF(Invulblad!P866=\"Nee\",Invulblad!M866,0)","v":0}]
[{"$f":"IF(Invulblad!P867=\"Ja\",Invulblad!M867*Invulblad!Q867,0)","v":0},null,null,null,null,null,{"$f":"IF(Invulblad!P867=\"Nee\",Invulblad!M867,0)","v":0}]
[{"$f":"IF(Invulblad!P868=\"Ja\",Invulblad!M868*Invulblad!Q868,0)","v":0},null,null,null,null,null,{"$f":"IF(Invulblad!P868=\"Nee\",Invulblad!M868,0)","v":0}]
[{"$f":"IF(Invulblad!P869=\"Ja\",Invulblad!M869*Invulblad!Q869,0)","v":0},null,null,null,null,null,{"$f":"IF(Invulblad!P869=\"Nee\",Invulblad!M869,0)","v":0}]
[{"$f":"IF(Invulblad!P870=\"Ja\",Invulblad!M870*Invulblad!Q870,0)","v":0},null,null,null,null,null,{"$f":"IF(Invulblad!P870=\"Nee\",Invulblad!M870,0)","v":0}]
[{"$f":"IF(Invulblad!P871=\"Ja\",Invulblad!M871*Invulblad!Q871,0)","v":0},null,null,null,null,null,{"$f":"IF(Invulblad!P871=\"Nee\",Invulblad!M871,0)","v":0}]
[{"$f":"IF(Invulblad!P872=\"Ja\",Invulblad!M872*Invulblad!Q872,0)","v":0},null,null,null,null,null,{"$f":"IF(Invulblad!P872=\"Nee\",Invulblad!M872,0)","v":0}]
[{"$f":"IF(Invulblad!P873=\"Ja\",Invulblad!M873*Invulblad!Q873,0)","v":0},null,null,null,null,null,{"$f":"IF(Invulblad!P873=\"Nee\",Invulblad!M873,0)","v":0}]
[{"$f":"IF(Invulblad!P874=\"Ja\",Invulblad!M874*Invulblad!Q874,0)","v":0},null,null,null,null,null,{"$f":"IF(Invulblad!P874=\"Nee\",Invulblad!M874,0)","v":0}]
[{"$f":"IF(Invulblad!P875=\"Ja\",Invulblad!M875*Invulblad!Q875,0)","v":0},null,null,null,null,null,{"$f":"IF(Invulblad!P875=\"Nee\",Invulblad!M875,0)","v":0}]
[{"$f":"IF(Invulblad!P876=\"Ja\",Invulblad!M876*Invulblad!Q876,0)","v":0},null,null,null,null,null,{"$f":"IF(Invulblad!P876=\"Nee\",Invulblad!M876,0)","v":0}]
[{"$f":"IF(Invulblad!P877=\"Ja\",Invulblad!M877*Invulblad!Q877,0)","v":0},null,null,null,null,null,{"$f":"IF(Invulblad!P877=\"Nee\",Invulblad!M877,0)","v":0}]
[{"$f":"IF(Invulblad!P878=\"Ja\",Invulblad!M878*Invulblad!Q878,0)","v":0},null,null,null,null,null,{"$f":"IF(Invulblad!P878=\"Nee\",Invulblad!M878,0)","v":0}]
[{"$f":"IF(Invulblad!P879=\"Ja\",Invulblad!M879*Invulblad!Q879,0)","v":0},null,null,null,null,null,{"$f":"IF(Invulblad!P879=\"Nee\",Invulblad!M879,0)","v":0}]
[{"$f":"IF(Invulblad!P880=\"Ja\",Invulblad!M880*Invulblad!Q880,0)","v":0},null,null,null,null,null,{"$f":"IF(Invulblad!P880=\"Nee\",Invulblad!M880,0)","v":0}]
[{"$f":"IF(Invulblad!P881=\"Ja\",Invulblad!M881*Invulblad!Q881,0)","v":0},null,null,null,null,null,{"$f":"IF(Invulblad!P881=\"Nee\",Invulblad!M881,0)","v":0}]
[{"$f":"IF(Invulblad!P882=\"Ja\",Invulblad!M882*Invulblad!Q882,0)","v":0},null,null,null,null,null,{"$f":"IF(Invulblad!P882=\"Nee\",Invulblad!M882,0)","v":0}]
[{"$f":"IF(Invulblad!P883=\"Ja\",Invulblad!M883*Invulblad!Q883,0)","v":0},null,null,null,null,null,{"$f":"IF(Invulblad!P883=\"Nee\",Invulblad!M883,0)","v":0}]
[{"$f":"IF(Invulblad!P884=\"Ja\",Invulblad!M884*Invulblad!Q884,0)","v":0},null,null,null,null,null,{"$f":"IF(Invulblad!P884=\"Nee\",Invulblad!M884,0)","v":0}]
[{"$f":"IF(Invulblad!P885=\"Ja\",Invulblad!M885*Invulblad!Q885,0)","v":0},null,null,null,null,null,{"$f":"IF(Invulblad!P885=\"Nee\",Invulblad!M885,0)","v":0}]
[{"$f":"IF(Invulblad!P886=\"Ja\",Invulblad!M886*Invulblad!Q886,0)","v":0},null,null,null,null,null,{"$f":"IF(Invulblad!P886=\"Nee\",Invulblad!M886,0)","v":0}]
[{"$f":"IF(Invulblad!P887=\"Ja\",Invulblad!M887*Invulblad!Q887,0)","v":0},null,null,null,null,null,{"$f":"IF(Invulblad!P887=\"Nee\",Invulblad!M887,0)","v":0}]
[{"$f":"IF(Invulblad!P888=\"Ja\",Invulblad!M888*Invulblad!Q888,0)","v":0},null,null,null,null,null,{"$f":"IF(Invulblad!P888=\"Nee\",Invulblad!M888,0)","v":0}]
[{"$f":"IF(Invulblad!P889=\"Ja\",Invulblad!M889*Invulblad!Q889,0)","v":0},null,null,null,null,null,{"$f":"IF(Invulblad!P889=\"Nee\",Invulblad!M889,0)","v":0}]
[{"$f":"IF(Invulblad!P890=\"Ja\",Invulblad!M890*Invulblad!Q890,0)","v":0},null,null,null,null,null,{"$f":"IF(Invulblad!P890=\"Nee\",Invulblad!M890,0)","v":0}]
[{"$f":"IF(Invulblad!P891=\"Ja\",Invulblad!M891*Invulblad!Q891,0)","v":0},null,null,null,null,null,{"$f":"IF(Invulblad!P891=\"Nee\",Invulblad!M891,0)","v":0}]
[{"$f":"IF(Invulblad!P892=\"Ja\",Invulblad!M892*Invulblad!Q892,0)","v":0},null,null,null,null,null,{"$f":"IF(Invulblad!P892=\"Nee\",Invulblad!M892,0)","v":0}]
[{"$f":"IF(Invulblad!P893=\"Ja\",Invulblad!M893*Invulblad!Q893,0)","v":0},null,null,null,null,null,{"$f":"IF(Invulblad!P893=\"Nee\",Invulblad!M893,0)","v":0}]
[{"$f":"IF(Invulblad!P894=\"Ja\",Invulblad!M894*Invulblad!Q894,0)","v":0},null,null,null,null,null,{"$f":"IF(Invulblad!P894=\"Nee\",Invulblad!M894,0)","v":0}]
[{"$f":"IF(Invulblad!P895=\"Ja\",Invulblad!M895*Invulblad!Q895,0)","v":0},null,null,null,null,null,{"$f":"IF(Invulblad!P895=\"Nee\",Invulblad!M895,0)","v":0}]
[{"$f":"IF(Invulblad!P896=\"Ja\",Invulblad!M896*Invulblad!Q896,0)","v":0},null,null,null,null,null,{"$f":"IF(Invulblad!P896=\"Nee\",Invulblad!M896,0)","v":0}]
[{"$f":"IF(Invulblad!P897=\"Ja\",Invulblad!M897*Invulblad!Q897,0)","v":0},null,null,null,null,null,{"$f":"IF(Invulblad!P897=\"Nee\",Invulblad!M897,0)","v":0}]
[{"$f":"IF(Invulblad!P898=\"Ja\",Invulblad!M898*Invulblad!Q898,0)","v":0},null,null,null,null,null,{"$f":"IF(Invulblad!P898=\"Nee\",Invulblad!M898,0)","v":0}]
[{"$f":"IF(Invulblad!P899=\"Ja\",Invulblad!M899*Invulblad!Q899,0)","v":0},null,null,null,null,null,{"$f":"IF(Invulblad!P899=\"Nee\",Invulblad!M899,0)","v":0}]
[{"$f":"IF(Invulblad!P900=\"Ja\",Invulblad!M900*Invulblad!Q900,0)","v":0},null,null,null,null,null,{"$f":"IF(Invulblad!P900=\"Nee\",Invulblad!M900,0)","v":0}]
[{"$f":"IF(Invulblad!P901=\"Ja\",Invulblad!M901*Invulblad!Q901,0)","v":0},null,null,null,null,null,{"$f":"IF(Invulblad!P901=\"Nee\",Invulblad!M901,0)","v":0}]
[{"$f":"IF(Invulblad!P902=\"Ja\",Invulblad!M902*Invulblad!Q902,0)","v":0},null,null,null,null,null,{"$f":"IF(Invulblad!P902=\"Nee\",Invulblad!M902,0)","v":0}]
[{"$f":"IF(Invulblad!P903=\"Ja\",Invulblad!M903*Invulblad!Q903,0)","v":0},null,null,null,null,null,{"$f":"IF(Invulblad!P903=\"Nee\",Invulblad!M903,0)","v":0}]
[{"$f":"IF(Invulblad!P904=\"Ja\",Invulblad!M904*Invulblad!Q904,0)","v":0},null,null,null,null,null,{"$f":"IF(Invulblad!P904=\"Nee\",Invulblad!M904,0)","v":0}]
[{"$f":"IF(Invulblad!P905=\"Ja\",Invulblad!M905*Invulblad!Q905,0)","v":0},null,null,null,null,null,{"$f":"IF(Invulblad!P905=\"Nee\",Invulblad!M905,0)","v":0}]
[{"$f":"IF(Invulblad!P906=\"Ja\",Invulblad!M906*Invulblad!Q906,0)","v":0},null,null,null,null,null,{"$f":"IF(Invulblad!P906=\"Nee\",Invulblad!M906,0)","v":0}]
[{"$f":"IF(Invulblad!P907=\"Ja\",Invulblad!M907*Invulblad!Q907,0)","v":0},null,null,null,null,null,{"$f":"IF(Invulblad!P907=\"Nee\",Invulblad!M907,0)","v":0}]
[{"$f":"IF(Invulblad!P908=\"Ja\",Invulblad!M908*Invulblad!Q908,0)","v":0},null,null,null,null,null,{"$f":"IF(Invulblad!P908=\"Nee\",Invulblad!M908,0)","v":0}]
[{"$f":"IF(Invulblad!P909=\"Ja\",Invulblad!M909*Invulblad!Q909,0)","v":0},null,null,null,null,null,{"$f":"IF(Invulblad!P909=\"Nee\",Invulblad!M909,0)","v":0}]
[{"$f":"IF(Invulblad!P910=\"Ja\",Invulblad!M910*Invulblad!Q910,0)","v":0},null,null,null,null,null,{"$f":"IF(Invulblad!P910=\"Nee\",Invulblad!M910,0)","v":0}]
[{"$f":"IF(Invulblad!P911=\"Ja\",Invulblad!M911*Invulblad!Q911,0)","v":0},null,null,null,null,null,{"$f":"IF(Invulblad!P911=\"Nee\",Invulblad!M911,0)","v":0}]
[{"$f":"IF(Invulblad!P912=\"Ja\",Invulblad!M912*Invulblad!Q912,0)","v":0},null,null,null,null,null,{"$f":"IF(Invulblad!P912=\"Nee\",Invulblad!M912,0)","v":0}]
[{"$f":"IF(Invulblad!P913=\"Ja\",Invulblad!M913*Invulblad!Q913,0)","v":0},null,null,null,null,null,{"$f":"IF(Invulblad!P913=\"Nee\",Invulblad!M913,0)","v":0}]
[{"$f":"IF(Invulblad!P914=\"Ja\",Invulblad!M914*Invulblad!Q914,0)","v":0},null,null,null,null,null,{"$f":"IF(Invulblad!P914=\"Nee\",Invulblad!M914,0)","v":0}]
[{"$f":"IF(Invulblad!P915=\"Ja\",Invulblad!M915*Invulblad!Q915,0)","v":0},null,null,null,null,null,{"$f":"IF(Invulblad!P915=\"Nee\",Invulblad!M915,0)","v":0}]
[{"$f":"IF(Invulblad!P916=\"Ja\",Invulblad!M916*Invulblad!Q916,0)","v":0},null,null,null,null,null,{"$f":"IF(Invulblad!P916=\"Nee\",Invulblad!M916,0)","v":0}]
[{"$f":"IF(Invulblad!P917=\"Ja\",Invulblad!M917*Invulblad!Q917,0)","v":0},null,null,null,null,null,{"$f":"IF(Invulblad!P917=\"Nee\",Invulblad!M917,0)","v":0}]
[{"$f":"IF(Invulblad!P918=\"Ja\",Invulblad!M918*Invulblad!Q918,0)","v":0},null,null,null,null,null,{"$f":"IF(Invulblad!P918=\"Nee\",Invulblad!M918,0)","v":0}]
[{"$f":"IF(Invulblad!P919=\"Ja\",Invulblad!M919*Invulblad!Q919,0)","v":0},null,null,null,null,null,{"$f":"IF(Invulblad!P919=\"Nee\",Invulblad!M919,0)","v":0}]
[{"$f":"IF(Invulblad!P920=\"Ja\",Invulblad!M920*Invulblad!Q920,0)","v":0},null,null,null,null,null,{"$f":"IF(Invulblad!P920=\"Nee\",Invulblad!M920,0)","v":0}]
[{"$f":"IF(Invulblad!P921=\"Ja\",Invulblad!M921*Invulblad!Q921,0)","v":0},null,null,null,null,null,{"$f":"IF(Invulblad!P921=\"Nee\",Invulblad!M921,0)","v":0}]
[{"$f":"IF(Invulblad!P922=\"Ja\",Invulblad!M922*Invulblad!Q922,0)","v":0},null,null,null,null,null,{"$f":"IF(Invulblad!P922=\"Nee\",Invulblad!M922,0)","v":0}]
[{"$f":"IF(Invulblad!P923=\"Ja\",Invulblad!M923*Invulblad!Q923,0)","v":0},null,null,null,null,null,{"$f":"IF(Invulblad!P923=\"Nee\",Invulblad!M923,0)","v":0}]
[{"$f":"IF(Invulblad!P924=\"Ja\",Invulblad!M924*Invulblad!Q924,0)","v":0},null,null,null,null,null,{"$f":"IF(Invulblad!P924=\"Nee\",Invulblad!M924,0)","v":0}]
[{"$f":"IF(Invulblad!P925=\"Ja\",Invulblad!M925*Invulblad!Q925,0)","v":0},null,null,null,null,null,{"$f":"IF(Invulblad!P925=\"Nee\",Invulblad!M925,0)","v":0}]
[{"$f":"IF(Invulblad!P926=\"Ja\",Invulblad!M926*Invulblad!Q926,0)","v":0},null,null,null,null,null,{"$f":"IF(Invulblad!P926=\"Nee\",Invulblad!M926,0)","v":0}]
[{"$f":"IF(Invulblad!P927=\"Ja\",Invulblad!M927*Invulblad!Q927,0)","v":0},null,null,null,null,null,{"$f":"IF(Invulblad!P927=\"Nee\",Invulblad!M927,0)","v":0}]
[{"$f":"IF(Invulblad!P928=\"Ja\",Invulblad!M928*Invulblad!Q928,0)","v":0},null,null,null,null,null,{"$f":"IF(Invulblad!P928=\"Nee\",Invulblad!M928,0)","v":0}]
[{"$f":"IF(Invulblad!P929=\"Ja\",Invulblad!M929*Invulblad!Q929,0)","v":0},null,null,null,null,null,{"$f":"IF(Invulblad!P929=\"Nee\",Invulblad!M929,0)","v":0}]
[{"$f":"IF(Invulblad!P930=\"Ja\",Invulblad!M930*Invulblad!Q930,0)","v":0},null,null,null,null,null,{"$f":"IF(Invulblad!P930=\"Nee\",Invulblad!M930,0)","v":0}]
[{"$f":"IF(Invulblad!P931=\"Ja\",Invulblad!M931*Invulblad!Q931,0)","v":0},null,null,null,null,null,{"$f":"IF(Invulblad!P931=\"Nee\",Invulblad!M931,0)","v":0}]
[{"$f":"IF(Invulblad!P932=\"Ja\",Invulblad!M932*Invulblad!Q932,0)","v":0},null,null,null,null,null,{"$f":"IF(Invulblad!P932=\"Nee\",Invulblad!M932,0)","v":0}]
[{"$f":"IF(Invulblad!P933=\"Ja\",Invulblad!M933*Invulblad!Q933,0)","v":0},null,null,null,null,null,{"$f":"IF(Invulblad!P933=\"Nee\",Invulblad!M933,0)","v":0}]
[{"$f":"IF(Invulblad!P934=\"Ja\",Invulblad!M934*Invulblad!Q934,0)","v":0},null,null,null,null,null,{"$f":"IF(Invulblad!P934=\"Nee\",Invulblad!M934,0)","v":0}]
[{"$f":"IF(Invulblad!P935=\"Ja\",Invulblad!M935*Invulblad!Q935,0)","v":0},null,null,null,null,null,{"$f":"IF(Invulblad!P935=\"Nee\",Invulblad!M935,0)","v":0}]
[{"$f":"IF(Invulblad!P936=\"Ja\",Invulblad!M936*Invulblad!Q936,0)","v":0},null,null,null,null,null,{"$f":"IF(Invulblad!P936=\"Nee\",Invulblad!M936,0)","v":0}]
[{"$f":"IF(Invulblad!P937=\"Ja\",Invulblad!M937*Invulblad!Q937,0)","v":0},null,null,null,null,null,{"$f":"IF(Invulblad!P937=\"Nee\",Invulblad!M937,0)","v":0}]
[{"$f":"IF(Invulblad!P938=\"Ja\",Invulblad!M938*Invulblad!Q938,0)","v":0},null,null,null,null,null,{"$f":"IF(Invulblad!P938=\"Nee\",Invulblad!M938,0)","v":0}]
[{"$f":"IF(Invulblad!P939=\"Ja\",Invulblad!M939*Invulblad!Q939,0)","v":0},null,null,null,null,null,{"$f":"IF(Invulblad!P939=\"Nee\",Invulblad!M939,0)","v":0}]
[{"$f":"IF(Invulblad!P940=\"Ja\",Invulblad!M940*Invulblad!Q940,0)","v":0},null,null,null,null,null,{"$f":"IF(Invulblad!P940=\"Nee\",Invulblad!M940,0)","v":0}]
[{"$f":"IF(Invulblad!P941=\"Ja\",Invulblad!M941*Invulblad!Q941,0)","v":0},null,null,null,null,null,{"$f":"IF(Invulblad!P941=\"Nee\",Invulblad!M941,0)","v":0}]
[{"$f":"IF(Invulblad!P942=\"Ja\",Invulblad!M942*Invulblad!Q942,0)","v":0},null,null,null,null,null,{"$f":"IF(Invulblad!P942=\"Nee\",Invulblad!M942,0)","v":0}]
[{"$f":"IF(Invulblad!P943=\"Ja\",Invulblad!M943*Invulblad!Q943,0)","v":0},null,null,null,null,null,{"$f":"IF(Invulblad!P943=\"Nee\",Invulblad!M943,0)","v":0}]
[{"$f":"IF(Invulblad!P944=\"Ja\",Invulblad!M944*Invulblad!Q944,0)","v":0},null,null,null,null,null,{"$f":"IF(Invulblad!P944=\"Nee\",Invulblad!M944,0)","v":0}]
[{"$f":"IF(Invulblad!P945=\"Ja\",Invulblad!M945*Invulblad!Q945,0)","v":0},null,null,null,null,null,{"$f":"IF(Invulblad!P945=\"Nee\",Invulblad!M945,0)","v":0}]
[{"$f":"IF(Invulblad!P946=\"Ja\",Invulblad!M946*Invulblad!Q946,0)","v":0},null,null,null,null,null,{"$f":"IF(Invulblad!P946=\"Nee\",Invulblad!M946,0)","v":0}]
[{"$f":"IF(Invulblad!P947=\"Ja\",Invulblad!M947*Invulblad!Q947,0)","v":0},null,null,null,null,null,{"$f":"IF(Invulblad!P947=\"Nee\",Invulblad!M947,0)","v":0}]
[{"$f":"IF(Invulblad!P948=\"Ja\",Invulblad!M948*Invulblad!Q948,0)","v":0},null,null,null,null,null,{"$f":"IF(Invulblad!P948=\"Nee\",Invulblad!M948,0)","v":0}]
[{"$f":"IF(Invulblad!P949=\"Ja\",Invulblad!M949*Invulblad!Q949,0)","v":0},null,null,null,null,null,{"$f":"IF(Invulblad!P949=\"Nee\",Invulblad!M949,0)","v":0}]
[{"$f":"IF(Invulblad!P950=\"Ja\",Invulblad!M950*Invulblad!Q950,0)","v":0},null,null,null,null,null,{"$f":"IF(Invulblad!P950=\"Nee\",Invulblad!M950,0)","v":0}]
[{"$f":"IF(Invulblad!P951=\"Ja\",Invulblad!M951*Invulblad!Q951,0)","v":0},null,null,null,null,null,{"$f":"IF(Invulblad!P951=\"Nee\",Invulblad!M951,0)","v":0}]
[{"$f":"IF(Invulblad!P952=\"Ja\",Invulblad!M952*Invulblad!Q952,0)","v":0},null,null,null,null,null,{"$f":"IF(Invulblad!P952=\"Nee\",Invulblad!M952,0)","v":0}]
[{"$f":"IF(Invulblad!P953=\"Ja\",Invulblad!M953*Invulblad!Q953,0)","v":0},null,null,null,null,null,{"$f":"IF(Invulblad!P953=\"Nee\",Invulblad!M953,0)","v":0}]
[{"$f":"IF(Invulblad!P954=\"Ja\",Invulblad!M954*Invulblad!Q954,0)","v":0},null,null,null,null,null,{"$f":"IF(Invulblad!P954=\"Nee\",Invulblad!M954,0)","v":0}]
[{"$f":"IF(Invulblad!P955=\"Ja\",Invulblad!M955*Invulblad!Q955,0)","v":0},null,null,null,null,null,{"$f":"IF(Invulblad!P955=\"Nee\",Invulblad!M955,0)","v":0}]
[{"$f":"IF(Invulblad!P956=\"Ja\",Invulblad!M956*Invulblad!Q956,0)","v":0},null,null,null,null,null,{"$f":"IF(Invulblad!P956=\"Nee\",Invulblad!M956,0)","v":0}]
[{"$f":"IF(Invulblad!P957=\"Ja\",Invulblad!M957*Invulblad!Q957,0)","v":0},null,null,null,null,null,{"$f":"IF(Invulblad!P957=\"Nee\",Invulblad!M957,0)","v":0}]
[{"$f":"IF(Invulblad!P958=\"Ja\",Invulblad!M958*Invulblad!Q958,0)","v":0},null,null,null,null,null,{"$f":"IF(Invulblad!P958=\"Nee\",Invulblad!M958,0)","v":0}]
[{"$f":"IF(Invulblad!P959=\"Ja\",Invulblad!M959*Invulblad!Q959,0)","v":0},null,null,null,null,null,{"$f":"IF(Invulblad!P959=\"Nee\",Invulblad!M959,0)","v":0}]
[{"$f":"IF(Invulblad!P960=\"Ja\",Invulblad!M960*Invulblad!Q960,0)","v":0},null,null,null,null,null,{"$f":"IF(Invulblad!P960=\"Nee\",Invulblad!M960,0)","v":0}]
[{"$f":"IF(Invulblad!P961=\"Ja\",Invulblad!M961*Invulblad!Q961,0)","v":0},null,null,null,null,null,{"$f":"IF(Invulblad!P961=\"Nee\",Invulblad!M961,0)","v":0}]
[{"$f":"IF(Invulblad!P962=\"Ja\",Invulblad!M962*Invulblad!Q962,0)","v":0},null,null,null,null,null,{"$f":"IF(Invulblad!P962=\"Nee\",Invulblad!M962,0)","v":0}]
[{"$f":"IF(Invulblad!P963=\"Ja\",Invulblad!M963*Invulblad!Q963,0)","v":0},null,null,null,null,null,{"$f":"IF(Invulblad!P963=\"Nee\",Invulblad!M963,0)","v":0}]
[{"$f":"IF(Invulblad!P964=\"Ja\",Invulblad!M964*Invulblad!Q964,0)","v":0},null,null,null,null,null,{"$f":"IF(Invulblad!P964=\"Nee\",Invulblad!M964,0)","v":0}]
[{"$f":"IF(Invulblad!P965=\"Ja\",Invulblad!M965*Invulblad!Q965,0)","v":0},null,null,null,null,null,{"$f":"IF(Invulblad!P965=\"Nee\",Invulblad!M965,0)","v":0}]
[{"$f":"IF(Invulblad!P966=\"Ja\",Invulblad!M966*Invulblad!Q966,0)","v":0},null,null,null,null,null,{"$f":"IF(Invulblad!P966=\"Nee\",Invulblad!M966,0)","v":0}]
[{"$f":"IF(Invulblad!P967=\"Ja\",Invulblad!M967*Invulblad!Q967,0)","v":0},null,null,null,null,null,{"$f":"IF(Invulblad!P967=\"Nee\",Invulblad!M967,0)","v":0}]
[{"$f":"IF(Invulblad!P968=\"Ja\",Invulblad!M968*Invulblad!Q968,0)","v":0},null,null,null,null,null,{"$f":"IF(Invulblad!P968=\"Nee\",Invulblad!M968,0)","v":0}]
[{"$f":"IF(Invulblad!P969=\"Ja\",Invulblad!M969*Invulblad!Q969,0)","v":0},null,null,null,null,null,{"$f":"IF(Invulblad!P969=\"Nee\",Invulblad!M969,0)","v":0}]
[{"$f":"IF(Invulblad!P970=\"Ja\",Invulblad!M970*Invulblad!Q970,0)","v":0},null,null,null,null,null,{"$f":"IF(Invulblad!P970=\"Nee\",Invulblad!M970,0)","v":0}]
[{"$f":"IF(Invulblad!P971=\"Ja\",Invulblad!M971*Invulblad!Q971,0)","v":0},null,null,null,null,null,{"$f":"IF(Invulblad!P971=\"Nee\",Invulblad!M971,0)","v":0}]
[{"$f":"IF(Invulblad!P972=\"Ja\",Invulblad!M972*Invulblad!Q972,0)","v":0},null,null,null,null,null,{"$f":"IF(Invulblad!P972=\"Nee\",Invulblad!M972,0)","v":0}]
[{"$f":"IF(Invulblad!P973=\"Ja\",Invulblad!M973*Invulblad!Q973,0)","v":0},null,null,null,null,null,{"$f":"IF(Invulblad!P973=\"Nee\",Invulblad!M973,0)","v":0}]
[{"$f":"IF(Invulblad!P974=\"Ja\",Invulblad!M974*Invulblad!Q974,0)","v":0},null,null,null,null,null,{"$f":"IF(Invulblad!P974=\"Nee\",Invulblad!M974,0)","v":0}]
[{"$f":"IF(Invulblad!P975=\"Ja\",Invulblad!M975*Invulblad!Q975,0)","v":0},null,null,null,null,null,{"$f":"IF(Invulblad!P975=\"Nee\",Invulblad!M975,0)","v":0}]
[{"$f":"IF(Invulblad!P976=\"Ja\",Invulblad!M976*Invulblad!Q976,0)","v":0},null,null,null,null,null,{"$f":"IF(Invulblad!P976=\"Nee\",Invulblad!M976,0)","v":0}]
[{"$f":"IF(Invulblad!P977=\"Ja\",Invulblad!M977*Invulblad!Q977,0)","v":0},null,null,null,null,null,{"$f":"IF(Invulblad!P977=\"Nee\",Invulblad!M977,0)","v":0}]
[{"$f":"IF(Invulblad!P978=\"Ja\",Invulblad!M978*Invulblad!Q978,0)","v":0},null,null,null,null,null,{"$f":"IF(Invulblad!P978=\"Nee\",Invulblad!M978,0)","v":0}]
[{"$f":"IF(Invulblad!P979=\"Ja\",Invulblad!M979*Invulblad!Q979,0)","v":0},null,null,null,null,null,{"$f":"IF(Invulblad!P979=\"Nee\",Invulblad!M979,0)","v":0}]
[{"$f":"IF(Invulblad!P980=\"Ja\",Invulblad!M980*Invulblad!Q980,0)","v":0},null,null,null,null,null,{"$f":"IF(Invulblad!P980=\"Nee\",Invulblad!M980,0)","v":0}]
[{"$f":"IF(Invulblad!P981=\"Ja\",Invulblad!M981*Invulblad!Q981,0)","v":0},null,null,null,null,null,{"$f":"IF(Invulblad!P981=\"Nee\",Invulblad!M981,0)","v":0}]
[{"$f":"IF(Invulblad!P982=\"Ja\",Invulblad!M982*Invulblad!Q982,0)","v":0},null,null,null,null,null,{"$f":"IF(Invulblad!P982=\"Nee\",Invulblad!M982,0)","v":0}]
[{"$f":"IF(Invulblad!P983=\"Ja\",Invulblad!M983*Invulblad!Q983,0)","v":0},null,null,null,null,null,{"$f":"IF(Invulblad!P983=\"Nee\",Invulblad!M983,0)","v":0}]
[{"$f":"IF(Invulblad!P984=\"Ja\",Invulblad!M984*Invulblad!Q984,0)","v":0},null,null,null,null,null,{"$f":"IF(Invulblad!P984=\"Nee\",Invulblad!M984,0)","v":0}]
[{"$f":"IF(Invulblad!P985=\"Ja\",Invulblad!M985*Invulblad!Q985,0)","v":0},null,null,null,null,null,{"$f":"IF(Invulblad!P985=\"Nee\",Invulblad!M985,0)","v":0}]
[{"$f":"IF(Invulblad!P986=\"Ja\",Invulblad!M986*Invulblad!Q986,0)","v":0},null,null,null,null,null,{"$f":"IF(Invulblad!P986=\"Nee\",Invulblad!M986,0)","v":0}]
[{"$f":"IF(Invulblad!P987=\"Ja\",Invulblad!M987*Invulblad!Q987,0)","v":0},null,null,null,null,null,{"$f":"IF(Invulblad!P987=\"Nee\",Invulblad!M987,0)","v":0}]
[{"$f":"IF(Invulblad!P988=\"Ja\",Invulblad!M988*Invulblad!Q988,0)","v":0},null,null,null,null,null,{"$f":"IF(Invulblad!P988=\"Nee\",Invulblad!M988,0)","v":0}]
[{"$f":"IF(Invulblad!P989=\"Ja\",Invulblad!M989*Invulblad!Q989,0)","v":0},null,null,null,null,null,{"$f":"IF(Invulblad!P989=\"Nee\",Invulblad!M989,0)","v":0}]
[{"$f":"IF(Invulblad!P990=\"Ja\",Invulblad!M990*Invulblad!Q990,0)","v":0},null,null,null,null,null,{"$f":"IF(Invulblad!P990=\"Nee\",Invulblad!M990,0)","v":0}]
[{"$f":"IF(Invulblad!P991=\"Ja\",Invulblad!M991*Invulblad!Q991,0)","v":0},null,null,null,null,null,{"$f":"IF(Invulblad!P991=\"Nee\",Invulblad!M991,0)","v":0}]
[{"$f":"IF(Invulblad!P992=\"Ja\",Invulblad!M992*Invulblad!Q992,0)","v":0},null,null,null,null,null,{"$f":"IF(Invulblad!P992=\"Nee\",Invulblad!M992,0)","v":0}]
[{"$f":"IF(Invulblad!P993=\"Ja\",Invulblad!M993*Invulblad!Q993,0)","v":0},null,null,null,null,null,{"$f":"IF(Invulblad!P993=\"Nee\",Invulblad!M993,0)","v":0}]
[{"$f":"IF(Invulblad!P994=\"Ja\",Invulblad!M994*Invulblad!Q994,0)","v":0},null,null,null,null,null,{"$f":"IF(Invulblad!P994=\"Nee\",Invulblad!M994,0)","v":0}]
[{"$f":"IF(Invulblad!P995=\"Ja\",Invulblad!M995*Invulblad!Q995,0)","v":0},null,null,null,null,null,{"$f":"IF(Invulblad!P995=\"Nee\",Invulblad!M995,0)","v":0}]
[{"$f":"IF(Invulblad!P996=\"Ja\",Invulblad!M996*Invulblad!Q996,0)","v":0},null,null,null,null,null,{"$f":"IF(Invulblad!P996=\"Nee\",Invulblad!M996,0)","v":0}]
[{"$f":"IF(Invulblad!P997=\"Ja\",Invulblad!M997*Invulblad!Q997,0)","v":0},null,null,null,null,null,{"$f":"IF(Invulblad!P997=\"Nee\",Invulblad!M997,0)","v":0}]
[{"$f":"IF(Invulblad!P998=\"Ja\",Invulblad!M998*Invulblad!Q998,0)","v":0},null,null,null,null,null,{"$f":"IF(Invulblad!P998=\"Nee\",Invulblad!M998,0)","v":0}]
[{"$f":"IF(Invulblad!P999=\"Ja\",Invulblad!M999*Invulblad!Q999,0)","v":0},null,null,null,null,null,{"$f":"IF(Invulblad!P999=\"Nee\",Invulblad!M999,0)","v":0}]
[{"$f":"IF(Invulblad!P1000=\"Ja\",Invulblad!M1000*Invulblad!Q1000,0)","v":0},null,null,null,null,null,{"$f":"IF(Invulblad!P1000=\"Nee\",Invulblad!M1000,0)","v":0}]
[{"$f":"IF(Invulblad!P1001=\"Ja\",Invulblad!M1001*Invulblad!Q1001,0)","v":0},null,null,null,null,null,{"$f":"IF(Invulblad!P1001=\"Nee\",Invulblad!M1001,0)","v":0}]
[{"$f":"IF(Invulblad!P1002=\"Ja\",Invulblad!M1002*Invulblad!Q1002,0)","v":0},null,null,null,null,null,{"$f":"IF(Invulblad!P1002=\"Nee\",Invulblad!M1002,0)","v":0}]
[{"$f":"IF(Invulblad!P1003=\"Ja\",Invulblad!M1003*Invulblad!Q1003,0)","v":0},null,null,null,null,null,{"$f":"IF(Invulblad!P1003=\"Nee\",Invulblad!M1003,0)","v":0}]
[{"$f":"IF(Invulblad!P1004=\"Ja\",Invulblad!M1004*Invulblad!Q1004,0)","v":0},null,null,null,null,null,{"$f":"IF(Invulblad!P1004=\"Nee\",Invulblad!M1004,0)","v":0}]
[{"$f":"IF(Invulblad!P1005=\"Ja\",Invulblad!M1005*Invulblad!Q1005,0)","v":0},null,null,null,null,null,{"$f":"IF(Invulblad!P1005=\"Nee\",Invulblad!M1005,0)","v":0}]
[{"$f":"IF(Invulblad!P1006=\"Ja\",Invulblad!M1006*Invulblad!Q1006,0)","v":0},null,null,null,null,null,{"$f":"IF(Invulblad!P1006=\"Nee\",Invulblad!M1006,0)","v":0}]
[{"$f":"IF(Invulblad!P1007=\"Ja\",Invulblad!M1007*Invulblad!Q1007,0)","v":0},null,null,null,null,null,{"$f":"IF(Invulblad!P1007=\"Nee\",Invulblad!M1007,0)","v":0}]
[{"$f":"IF(Invulblad!P1008=\"Ja\",Invulblad!M1008*Invulblad!Q1008,0)","v":0},null,null,null,null,null,{"$f":"IF(Invulblad!P1008=\"Nee\",Invulblad!M1008,0)","v":0}]
[{"$f":"IF(Invulblad!P1009=\"Ja\",Invulblad!M1009*Invulblad!Q1009,0)","v":0},null,null,null,null,null,{"$f":"IF(Invulblad!P1009=\"Nee\",Invulblad!M1009,0)","v":0}]
[{"$f":"IF(Invulblad!P1010=\"Ja\",Invulblad!M1010*Invulblad!Q1010,0)","v":0},null,null,null,null,null,{"$f":"IF(Invulblad!P1010=\"Nee\",Invulblad!M1010,0)","v":0}]
[{"$f":"IF(Invulblad!P1011=\"Ja\",Invulblad!M1011*Invulblad!Q1011,0)","v":0},null,null,null,null,null,{"$f":"IF(Invulblad!P1011=\"Nee\",Invulblad!M1011,0)","v":0}]
[{"$f":"IF(Invulblad!P1012=\"Ja\",Invulblad!M1012*Invulblad!Q1012,0)","v":0},null,null,null,null,null,{"$f":"IF(Invulblad!P1012=\"Nee\",Invulblad!M1012,0)","v":0}]
[{"$f":"IF(Invulblad!P1013=\"Ja\",Invulblad!M1013*Invulblad!Q1013,0)","v":0},null,null,null,null,null,{"$f":"IF(Invulblad!P1013=\"Nee\",Invulblad!M1013,0)","v":0}]
[{"$f":"IF(Invulblad!P1014=\"Ja\",Invulblad!M1014*Invulblad!Q1014,0)","v":0},null,null,null,null,null,{"$f":"IF(Invulblad!P1014=\"Nee\",Invulblad!M1014,0)","v":0}]
[{"$f":"IF(Invulblad!P1015=\"Ja\",Invulblad!M1015*Invulblad!Q1015,0)","v":0},null,null,null,null,null,{"$f":"IF(Invulblad!P1015=\"Nee\",Invulblad!M1015,0)","v":0}]
[{"$f":"IF(Invulblad!P1016=\"Ja\",Invulblad!M1016*Invulblad!Q1016,0)","v":0},null,null,null,null,null,{"$f":"IF(Invulblad!P1016=\"Nee\",Invulblad!M1016,0)","v":0}]
[{"$f":"IF(Invulblad!P1017=\"Ja\",Invulblad!M1017*Invulblad!Q1017,0)","v":0},null,null,null,null,null,{"$f":"IF(Invulblad!P1017=\"Nee\",Invulblad!M1017,0)","v":0}]
[{"$f":"IF(Invulblad!P1018=\"Ja\",Invulblad!M1018*Invulblad!Q1018,0)","v":0},null,null,null,null,null,{"$f":"IF(Invulblad!P1018=\"Nee\",Invulblad!M1018,0)","v":0}]
[{"$f":"IF(Invulblad!P1019=\"Ja\",Invulblad!M1019*Invulblad!Q1019,0)","v":0},null,null,null,null,null,{"$f":"IF(Invulblad!P1019=\"Nee\",Invulblad!M1019,0)","v":0}]
[{"$f":"IF(Invulblad!P1020=\"Ja\",Invulblad!M1020*Invulblad!Q1020,0)","v":0},null,null,null,null,null,{"$f":"IF(Invulblad!P1020=\"Nee\",Invulblad!M1020,0)","v":0}]
[{"$f":"IF(Invulblad!P1021=\"Ja\",Invulblad!M1021*Invulblad!Q1021,0)","v":0},null,null,null,null,null,{"$f":"IF(Invulblad!P1021=\"Nee\",Invulblad!M1021,0)","v":0}]
[{"$f":"IF(Invulblad!P1022=\"Ja\",Invulblad!M1022*Invulblad!Q1022,0)","v":0},null,null,null,null,null,{"$f":"IF(Invulblad!P1022=\"Nee\",Invulblad!M1022,0)","v":0}]
[{"$f":"IF(Invulblad!P1023=\"Ja\",Invulblad!M1023*Invulblad!Q1023,0)","v":0},null,null,null,null,null,{"$f":"IF(Invulblad!P1023=\"Nee\",Invulblad!M1023,0)","v":0}]
[{"$f":"IF(Invulblad!P1024=\"Ja\",Invulblad!M1024*Invulblad!Q1024,0)","v":0},null,null,null,null,null,{"$f":"IF(Invulblad!P1024=\"Nee\",Invulblad!M1024,0)","v":0}]
[{"$f":"IF(Invulblad!P1025=\"Ja\",Invulblad!M1025*Invulblad!Q1025,0)","v":0},null,null,null,null,null,{"$f":"IF(Invulblad!P1025=\"Nee\",Invulblad!M1025,0)","v":0}]
[{"$f":"IF(Invulblad!P1026=\"Ja\",Invulblad!M1026*Invulblad!Q1026,0)","v":0},null,null,null,null,null,{"$f":"IF(Invulblad!P1026=\"Nee\",Invulblad!M1026,0)","v":0}]
[{"$f":"IF(Invulblad!P1027=\"Ja\",Invulblad!M1027*Invulblad!Q1027,0)","v":0},null,null,null,null,null,{"$f":"IF(Invulblad!P1027=\"Nee\",Invulblad!M1027,0)","v":0}]
[{"$f":"IF(Invulblad!P1028=\"Ja\",Invulblad!M1028*Invulblad!Q1028,0)","v":0},null,null,null,null,null,{"$f":"IF(Invulblad!P1028=\"Nee\",Invulblad!M1028,0)","v":0}]
[{"$f":"IF(Invulblad!P1029=\"Ja\",Invulblad!M1029*Invulblad!Q1029,0)","v":0},null,null,null,null,null,{"$f":"IF(Invulblad!P1029=\"Nee\",Invulblad!M1029,0)","v":0}]
[{"$f":"IF(Invulblad!P1030=\"Ja\",Invulblad!M1030*Invulblad!Q1030,0)","v":0},null,null,null,null,null,{"$f":"IF(Invulblad!P1030=\"Nee\",Invulblad!M1030,0)","v":0}]
[{"$f":"IF(Invulblad!P1031=\"Ja\",Invulblad!M1031*Invulblad!Q1031,0)","v":0},null,null,null,null,null,{"$f":"IF(Invulblad!P1031=\"Nee\",Invulblad!M1031,0)","v":0}]
[{"$f":"IF(Invulblad!P1032=\"Ja\",Invulblad!M1032*Invulblad!Q1032,0)","v":0},null,null,null,null,null,{"$f":"IF(Invulblad!P1032=\"Nee\",Invulblad!M1032,0)","v":0}]
[{"$f":"IF(Invulblad!P1033=\"Ja\",Invulblad!M1033*Invulblad!Q1033,0)","v":0},null,null,null,null,null,{"$f":"IF(Invulblad!P1033=\"Nee\",Invulblad!M1033,0)","v":0}]
[{"$f":"IF(Invulblad!P1034=\"Ja\",Invulblad!M1034*Invulblad!Q1034,0)","v":0},null,null,null,null,null,{"$f":"IF(Invulblad!P1034=\"Nee\",Invulblad!M1034,0)","v":0}]
[{"$f":"IF(Invulblad!P1035=\"Ja\",Invulblad!M1035*Invulblad!Q1035,0)","v":0},null,null,null,null,null,{"$f":"IF(Invulblad!P1035=\"Nee\",Invulblad!M1035,0)","v":0}]
[{"$f":"IF(Invulblad!P1036=\"Ja\",Invulblad!M1036*Invulblad!Q1036,0)","v":0},null,null,null,null,null,{"$f":"IF(Invulblad!P1036=\"Nee\",Invulblad!M1036,0)","v":0}]
[{"$f":"IF(Invulblad!P1037=\"Ja\",Invulblad!M1037*Invulblad!Q1037,0)","v":0},null,null,null,null,null,{"$f":"IF(Invulblad!P1037=\"Nee\",Invulblad!M1037,0)","v":0}]
[{"$f":"IF(Invulblad!P1038=\"Ja\",Invulblad!M1038*Invulblad!Q1038,0)","v":0},null,null,null,null,null,{"$f":"IF(Invulblad!P1038=\"Nee\",Invulblad!M1038,0)","v":0}]
[{"$f":"IF(Invulblad!P1039=\"Ja\",Invulblad!M1039*Invulblad!Q1039,0)","v":0},null,null,null,null,null,{"$f":"IF(Invulblad!P1039=\"Nee\",Invulblad!M1039,0)","v":0}]
[{"$f":"IF(Invulblad!P1040=\"Ja\",Invulblad!M1040*Invulblad!Q1040,0)","v":0},null,null,null,null,null,{"$f":"IF(Invulblad!P1040=\"Nee\",Invulblad!M1040,0)","v":0}]
[{"$f":"IF(Invulblad!P1041=\"Ja\",Invulblad!M1041*Invulblad!Q1041,0)","v":0},null,null,null,null,null,{"$f":"IF(Invulblad!P1041=\"Nee\",Invulblad!M1041,0)","v":0}]
[{"$f":"IF(Invulblad!P1042=\"Ja\",Invulblad!M1042*Invulblad!Q1042,0)","v":0},null,null,null,null,null,{"$f":"IF(Invulblad!P1042=\"Nee\",Invulblad!M1042,0)","v":0}]
[{"$f":"IF(Invulblad!P1043=\"Ja\",Invulblad!M1043*Invulblad!Q1043,0)","v":0},null,null,null,null,null,{"$f":"IF(Invulblad!P1043=\"Nee\",Invulblad!M1043,0)","v":0}]
[{"$f":"IF(Invulblad!P1044=\"Ja\",Invulblad!M1044*Invulblad!Q1044,0)","v":0},null,null,null,null,null,{"$f":"IF(Invulblad!P1044=\"Nee\",Invulblad!M1044,0)","v":0}]
[{"$f":"IF(Invulblad!P1045=\"Ja\",Invulblad!M1045*Invulblad!Q1045,0)","v":0},null,null,null,null,null,{"$f":"IF(Invulblad!P1045=\"Nee\",Invulblad!M1045,0)","v":0}]
[{"$f":"IF(Invulblad!P1046=\"Ja\",Invulblad!M1046*Invulblad!Q1046,0)","v":0},null,null,null,null,null,{"$f":"IF(Invulblad!P1046=\"Nee\",Invulblad!M1046,0)","v":0}]
[{"$f":"IF(Invulblad!P1047=\"Ja\",Invulblad!M1047*Invulblad!Q1047,0)","v":0},null,null,null,null,null,{"$f":"IF(Invulblad!P1047=\"Nee\",Invulblad!M1047,0)","v":0}]
[{"$f":"IF(Invulblad!P1048=\"Ja\",Invulblad!M1048*Invulblad!Q1048,0)","v":0},null,null,null,null,null,{"$f":"IF(Invulblad!P1048=\"Nee\",Invulblad!M1048,0)","v":0}]
[{"$f":"IF(Invulblad!P1049=\"Ja\",Invulblad!M1049*Invulblad!Q1049,0)","v":0},null,null,null,null,null,{"$f":"IF(Invulblad!P1049=\"Nee\",Invulblad!M1049,0)","v":0}]
[{"$f":"IF(Invulblad!P1050=\"Ja\",Invulblad!M1050*Invulblad!Q1050,0)","v":0},null,null,null,null,null,{"$f":"IF(Invulblad!P1050=\"Nee\",Invulblad!M1050,0)","v":0}]
[{"$f":"IF(Invulblad!P1051=\"Ja\",Invulblad!M1051*Invulblad!Q1051,0)","v":0},null,null,null,null,null,{"$f":"IF(Invulblad!P1051=\"Nee\",Invulblad!M1051,0)","v":0}]
[{"$f":"IF(Invulblad!P1052=\"Ja\",Invulblad!M1052*Invulblad!Q1052,0)","v":0},null,null,null,null,null,{"$f":"IF(Invulblad!P1052=\"Nee\",Invulblad!M1052,0)","v":0}]
[{"$f":"IF(Invulblad!P1053=\"Ja\",Invulblad!M1053*Invulblad!Q1053,0)","v":0},null,null,null,null,null,{"$f":"IF(Invulblad!P1053=\"Nee\",Invulblad!M1053,0)","v":0}]
[{"$f":"IF(Invulblad!P1054=\"Ja\",Invulblad!M1054*Invulblad!Q1054,0)","v":0},null,null,null,null,null,{"$f":"IF(Invulblad!P1054=\"Nee\",Invulblad!M1054,0)","v":0}]
[{"$f":"IF(Invulblad!P1055=\"Ja\",Invulblad!M1055*Invulblad!Q1055,0)","v":0},null,null,null,null,null,{"$f":"IF(Invulblad!P1055=\"Nee\",Invulblad!M1055,0)","v":0}]
[{"$f":"IF(Invulblad!P1056=\"Ja\",Invulblad!M1056*Invulblad!Q1056,0)","v":0},null,null,null,null,null,{"$f":"IF(Invulblad!P1056=\"Nee\",Invulblad!M1056,0)","v":0}]
[{"$f":"IF(Invulblad!P1057=\"Ja\",Invulblad!M1057*Invulblad!Q1057,0)","v":0},null,null,null,null,null,{"$f":"IF(Invulblad!P1057=\"Nee\",Invulblad!M1057,0)","v":0}]
[{"$f":"IF(Invulblad!P1058=\"Ja\",Invulblad!M1058*Invulblad!Q1058,0)","v":0},null,null,null,null,null,{"$f":"IF(Invulblad!P1058=\"Nee\",Invulblad!M1058,0)","v":0}]
[{"$f":"IF(Invulblad!P1059=\"Ja\",Invulblad!M1059*Invulblad!Q1059,0)","v":0},null,null,null,null,null,{"$f":"IF(Invulblad!P1059=\"Nee\",Invulblad!M1059,0)","v":0}]
[{"$f":"IF(Invulblad!P1060=\"Ja\",Invulblad!M1060*Invulblad!Q1060,0)","v":0},null,null,null,null,null,{"$f":"IF(Invulblad!P1060=\"Nee\",Invulblad!M1060,0)","v":0}]
[{"$f":"IF(Invulblad!P1061=\"Ja\",Invulblad!M1061*Invulblad!Q1061,0)","v":0},null,null,null,null,null,{"$f":"IF(Invulblad!P1061=\"Nee\",Invulblad!M1061,0)","v":0}]
[{"$f":"IF(Invulblad!P1062=\"Ja\",Invulblad!M1062*Invulblad!Q1062,0)","v":0},null,null,null,null,null,{"$f":"IF(Invulblad!P1062=\"Nee\",Invulblad!M1062,0)","v":0}]
[{"$f":"IF(Invulblad!P1063=\"Ja\",Invulblad!M1063*Invulblad!Q1063,0)","v":0},null,null,null,null,null,{"$f":"IF(Invulblad!P1063=\"Nee\",Invulblad!M1063,0)","v":0}]
[{"$f":"IF(Invulblad!P1064=\"Ja\",Invulblad!M1064*Invulblad!Q1064,0)","v":0},null,null,null,null,null,{"$f":"IF(Invulblad!P1064=\"Nee\",Invulblad!M1064,0)","v":0}]
[{"$f":"IF(Invulblad!P1065=\"Ja\",Invulblad!M1065*Invulblad!Q1065,0)","v":0},null,null,null,null,null,{"$f":"IF(Invulblad!P1065=\"Nee\",Invulblad!M1065,0)","v":0}]
[{"$f":"IF(Invulblad!P1066=\"Ja\",Invulblad!M1066*Invulblad!Q1066,0)","v":0},null,null,null,null,null,{"$f":"IF(Invulblad!P1066=\"Nee\",Invulblad!M1066,0)","v":0}]
[{"$f":"IF(Invulblad!P1067=\"Ja\",Invulblad!M1067*Invulblad!Q1067,0)","v":0},null,null,null,null,null,{"$f":"IF(Invulblad!P1067=\"Nee\",Invulblad!M1067,0)","v":0}]
[{"$f":"IF(Invulblad!P1068=\"Ja\",Invulblad!M1068*Invulblad!Q1068,0)","v":0},null,null,null,null,null,{"$f":"IF(Invulblad!P1068=\"Nee\",Invulblad!M1068,0)","v":0}]
[{"$f":"IF(Invulblad!P1069=\"Ja\",Invulblad!M1069*Invulblad!Q1069,0)","v":0},null,null,null,null,null,{"$f":"IF(Invulblad!P1069=\"Nee\",Invulblad!M1069,0)","v":0}]
[{"$f":"IF(Invulblad!P1070=\"Ja\",Invulblad!M1070*Invulblad!Q1070,0)","v":0},null,null,null,null,null,{"$f":"IF(Invulblad!P1070=\"Nee\",Invulblad!M1070,0)","v":0}]
[{"$f":"IF(Invulblad!P1071=\"Ja\",Invulblad!M1071*Invulblad!Q1071,0)","v":0},null,null,null,null,null,{"$f":"IF(Invulblad!P1071=\"Nee\",Invulblad!M1071,0)","v":0}]
[{"$f":"IF(Invulblad!P1072=\"Ja\",Invulblad!M1072*Invulblad!Q1072,0)","v":0},null,null,null,null,null,{"$f":"IF(Invulblad!P1072=\"Nee\",Invulblad!M1072,0)","v":0}]
[{"$f":"IF(Invulblad!P1073=\"Ja\",Invulblad!M1073*Invulblad!Q1073,0)","v":0},null,null,null,null,null,{"$f":"IF(Invulblad!P1073=\"Nee\",Invulblad!M1073,0)","v":0}]
[{"$f":"IF(Invulblad!P1074=\"Ja\",Invulblad!M1074*Invulblad!Q1074,0)","v":0},null,null,null,null,null,{"$f":"IF(Invulblad!P1074=\"Nee\",Invulblad!M1074,0)","v":0}]
[{"$f":"IF(Invulblad!P1075=\"Ja\",Invulblad!M1075*Invulblad!Q1075,0)","v":0},null,null,null,null,null,{"$f":"IF(Invulblad!P1075=\"Nee\",Invulblad!M1075,0)","v":0}]
[{"$f":"IF(Invulblad!P1076=\"Ja\",Invulblad!M1076*Invulblad!Q1076,0)","v":0},null,null,null,null,null,{"$f":"IF(Invulblad!P1076=\"Nee\",Invulblad!M1076,0)","v":0}]
[{"$f":"IF(Invulblad!P1077=\"Ja\",Invulblad!M1077*Invulblad!Q1077,0)","v":0},null,null,null,null,null,{"$f":"IF(Invulblad!P1077=\"Nee\",Invulblad!M1077,0)","v":0}]
[{"$f":"IF(Invulblad!P1078=\"Ja\",Invulblad!M1078*Invulblad!Q1078,0)","v":0},null,null,null,null,null,{"$f":"IF(Invulblad!P1078=\"Nee\",Invulblad!M1078,0)","v":0}]
[{"$f":"IF(Invulblad!P1079=\"Ja\",Invulblad!M1079*Invulblad!Q1079,0)","v":0},null,null,null,null,null,{"$f":"IF(Invulblad!P1079=\"Nee\",Invulblad!M1079,0)","v":0}]
[{"$f":"IF(Invulblad!P1080=\"Ja\",Invulblad!M1080*Invulblad!Q1080,0)","v":0},null,null,null,null,null,{"$f":"IF(Invulblad!P1080=\"Nee\",Invulblad!M1080,0)","v":0}]
[{"$f":"IF(Invulblad!P1081=\"Ja\",Invulblad!M1081*Invulblad!Q1081,0)","v":0},null,null,null,null,null,{"$f":"IF(Invulblad!P1081=\"Nee\",Invulblad!M1081,0)","v":0}]
[{"$f":"IF(Invulblad!P1082=\"Ja\",Invulblad!M1082*Invulblad!Q1082,0)","v":0},null,null,null,null,null,{"$f":"IF(Invulblad!P1082=\"Nee\",Invulblad!M1082,0)","v":0}]
[{"$f":"IF(Invulblad!P1083=\"Ja\",Invulblad!M1083*Invulblad!Q1083,0)","v":0},null,null,null,null,null,{"$f":"IF(Invulblad!P1083=\"Nee\",Invulblad!M1083,0)","v":0}]
[{"$f":"IF(Invulblad!P1084=\"Ja\",Invulblad!M1084*Invulblad!Q1084,0)","v":0},null,null,null,null,null,{"$f":"IF(Invulblad!P1084=\"Nee\",Invulblad!M1084,0)","v":0}]
[{"$f":"IF(Invulblad!P1085=\"Ja\",Invulblad!M1085*Invulblad!Q1085,0)","v":0},null,null,null,null,null,{"$f":"IF(Invulblad!P1085=\"Nee\",Invulblad!M1085,0)","v":0}]
[{"$f":"IF(Invulblad!P1086=\"Ja\",Invulblad!M1086*Invulblad!Q1086,0)","v":0},null,null,null,null,null,{"$f":"IF(Invulblad!P1086=\"Nee\",Invulblad!M1086,0)","v":0}]
[{"$f":"IF(Invulblad!P1087=\"Ja\",Invulblad!M1087*Invulblad!Q1087,0)","v":0},null,null,null,null,null,{"$f":"IF(Invulblad!P1087=\"Nee\",Invulblad!M1087,0)","v":0}]
[{"$f":"IF(Invulblad!P1088=\"Ja\",Invulblad!M1088*Invulblad!Q1088,0)","v":0},null,null,null,null,null,{"$f":"IF(Invulblad!P1088=\"Nee\",Invulblad!M1088,0)","v":0}]
[{"$f":"IF(Invulblad!P1089=\"Ja\",Invulblad!M1089*Invulblad!Q1089,0)","v":0},null,null,null,null,null,{"$f":"IF(Invulblad!P1089=\"Nee\",Invulblad!M1089,0)","v":0}]
[{"$f":"IF(Invulblad!P1090=\"Ja\",Invulblad!M1090*Invulblad!Q1090,0)","v":0},null,null,null,null,null,{"$f":"IF(Invulblad!P1090=\"Nee\",Invulblad!M1090,0)","v":0}]
[{"$f":"IF(Invulblad!P1091=\"Ja\",Invulblad!M1091*Invulblad!Q1091,0)","v":0},null,null,null,null,null,{"$f":"IF(Invulblad!P1091=\"Nee\",Invulblad!M1091,0)","v":0}]
[{"$f":"IF(Invulblad!P1092=\"Ja\",Invulblad!M1092*Invulblad!Q1092,0)","v":0},null,null,null,null,null,{"$f":"IF(Invulblad!P1092=\"Nee\",Invulblad!M1092,0)","v":0}]
[{"$f":"IF(Invulblad!P1093=\"Ja\",Invulblad!M1093*Invulblad!Q1093,0)","v":0},null,null,null,null,null,{"$f":"IF(Invulblad!P1093=\"Nee\",Invulblad!M1093,0)","v":0}]
[{"$f":"IF(Invulblad!P1094=\"Ja\",Invulblad!M1094*Invulblad!Q1094,0)","v":0},null,null,null,null,null,{"$f":"IF(Invulblad!P1094=\"Nee\",Invulblad!M1094,0)","v":0}]
[{"$f":"IF(Invulblad!P1095=\"Ja\",Invulblad!M1095*Invulblad!Q1095,0)","v":0},null,null,null,null,null,{"$f":"IF(Invulblad!P1095=\"Nee\",Invulblad!M1095,0)","v":0}]
[{"$f":"IF(Invulblad!P1096=\"Ja\",Invulblad!M1096*Invulblad!Q1096,0)","v":0},null,null,null,null,null,{"$f":"IF(Invulblad!P1096=\"Nee\",Invulblad!M1096,0)","v":0}]
[{"$f":"IF(Invulblad!P1097=\"Ja\",Invulblad!M1097*Invulblad!Q1097,0)","v":0},null,null,null,null,null,{"$f":"IF(Invulblad!P1097=\"Nee\",Invulblad!M1097,0)","v":0}]
[{"$f":"IF(Invulblad!P1098=\"Ja\",Invulblad!M1098*Invulblad!Q1098,0)","v":0},null,null,null,null,null,{"$f":"IF(Invulblad!P1098=\"Nee\",Invulblad!M1098,0)","v":0}]
[{"$f":"IF(Invulblad!P1099=\"Ja\",Invulblad!M1099*Invulblad!Q1099,0)","v":0},null,null,null,null,null,{"$f":"IF(Invulblad!P1099=\"Nee\",Invulblad!M1099,0)","v":0}]
[{"$f":"IF(Invulblad!P1100=\"Ja\",Invulblad!M1100*Invulblad!Q1100,0)","v":0},null,null,null,null,null,{"$f":"IF(Invulblad!P1100=\"Nee\",Invulblad!M1100,0)","v":0}]
[{"$f":"IF(Invulblad!P1101=\"Ja\",Invulblad!M1101*Invulblad!Q1101,0)","v":0},null,null,null,null,null,{"$f":"IF(Invulblad!P1101=\"Nee\",Invulblad!M1101,0)","v":0}]
[{"$f":"IF(Invulblad!P1102=\"Ja\",Invulblad!M1102*Invulblad!Q1102,0)","v":0},null,null,null,null,null,{"$f":"IF(Invulblad!P1102=\"Nee\",Invulblad!M1102,0)","v":0}]
[{"$f":"IF(Invulblad!P1103=\"Ja\",Invulblad!M1103*Invulblad!Q1103,0)","v":0},null,null,null,null,null,{"$f":"IF(Invulblad!P1103=\"Nee\",Invulblad!M1103,0)","v":0}]
[{"$f":"IF(Invulblad!P1104=\"Ja\",Invulblad!M1104*Invulblad!Q1104,0)","v":0},null,null,null,null,null,{"$f":"IF(Invulblad!P1104=\"Nee\",Invulblad!M1104,0)","v":0}]
[{"$f":"IF(Invulblad!P1105=\"Ja\",Invulblad!M1105*Invulblad!Q1105,0)","v":0},null,null,null,null,null,{"$f":"IF(Invulblad!P1105=\"Nee\",Invulblad!M1105,0)","v":0}]
[{"$f":"IF(Invulblad!P1106=\"Ja\",Invulblad!M1106*Invulblad!Q1106,0)","v":0},null,null,null,null,null,{"$f":"IF(Invulblad!P1106=\"Nee\",Invulblad!M1106,0)","v":0}]
[{"$f":"IF(Invulblad!P1107=\"Ja\",Invulblad!M1107*Invulblad!Q1107,0)","v":0},null,null,null,null,null,{"$f":"IF(Invulblad!P1107=\"Nee\",Invulblad!M1107,0)","v":0}]
[{"$f":"IF(Invulblad!P1108=\"Ja\",Invulblad!M1108*Invulblad!Q1108,0)","v":0},null,null,null,null,null,{"$f":"IF(Invulblad!P1108=\"Nee\",Invulblad!M1108,0)","v":0}]
[{"$f":"IF(Invulblad!P1109=\"Ja\",Invulblad!M1109*Invulblad!Q1109,0)","v":0},null,null,null,null,null,{"$f":"IF(Invulblad!P1109=\"Nee\",Invulblad!M1109,0)","v":0}]
[{"$f":"IF(Invulblad!P1110=\"Ja\",Invulblad!M1110*Invulblad!Q1110,0)","v":0},null,null,null,null,null,{"$f":"IF(Invulblad!P1110=\"Nee\",Invulblad!M1110,0)","v":0}]
[{"$f":"IF(Invulblad!P1111=\"Ja\",Invulblad!M1111*Invulblad!Q1111,0)","v":0},null,null,null,null,null,{"$f":"IF(Invulblad!P1111=\"Nee\",Invulblad!M1111,0)","v":0}]
[{"$f":"IF(Invulblad!P1112=\"Ja\",Invulblad!M1112*Invulblad!Q1112,0)","v":0},null,null,null,null,null,{"$f":"IF(Invulblad!P1112=\"Nee\",Invulblad!M1112,0)","v":0}]
[{"$f":"IF(Invulblad!P1113=\"Ja\",Invulblad!M1113*Invulblad!Q1113,0)","v":0},null,null,null,null,null,{"$f":"IF(Invulblad!P1113=\"Nee\",Invulblad!M1113,0)","v":0}]
[{"$f":"IF(Invulblad!P1114=\"Ja\",Invulblad!M1114*Invulblad!Q1114,0)","v":0},null,null,null,null,null,{"$f":"IF(Invulblad!P1114=\"Nee\",Invulblad!M1114,0)","v":0}]
[{"$f":"IF(Invulblad!P1115=\"Ja\",Invulblad!M1115*Invulblad!Q1115,0)","v":0},null,null,null,null,null,{"$f":"IF(Invulblad!P1115=\"Nee\",Invulblad!M1115,0)","v":0}]
[{"$f":"IF(Invulblad!P1116=\"Ja\",Invulblad!M1116*Invulblad!Q1116,0)","v":0},null,null,null,null,null,{"$f":"IF(Invulblad!P1116=\"Nee\",Invulblad!M1116,0)","v":0}]
[{"$f":"IF(Invulblad!P1117=\"Ja\",Invulblad!M1117*Invulblad!Q1117,0)","v":0},null,null,null,null,null,{"$f":"IF(Invulblad!P1117=\"Nee\",Invulblad!M1117,0)","v":0}]
[{"$f":"IF(Invulblad!P1118=\"Ja\",Invulblad!M1118*Invulblad!Q1118,0)","v":0},null,null,null,null,null,{"$f":"IF(Invulblad!P1118=\"Nee\",Invulblad!M1118,0)","v":0}]
[{"$f":"IF(Invulblad!P1119=\"Ja\",Invulblad!M1119*Invulblad!Q1119,0)","v":0},null,null,null,null,null,{"$f":"IF(Invulblad!P1119=\"Nee\",Invulblad!M1119,0)","v":0}]
[{"$f":"IF(Invulblad!P1120=\"Ja\",Invulblad!M1120*Invulblad!Q1120,0)","v":0},null,null,null,null,null,{"$f":"IF(Invulblad!P1120=\"Nee\",Invulblad!M1120,0)","v":0}]
[{"$f":"IF(Invulblad!P1121=\"Ja\",Invulblad!M1121*Invulblad!Q1121,0)","v":0},null,null,null,null,null,{"$f":"IF(Invulblad!P1121=\"Nee\",Invulblad!M1121,0)","v":0}]
[{"$f":"IF(Invulblad!P1122=\"Ja\",Invulblad!M1122*Invulblad!Q1122,0)","v":0},null,null,null,null,null,{"$f":"IF(Invulblad!P1122=\"Nee\",Invulblad!M1122,0)","v":0}]
[{"$f":"IF(Invulblad!P1123=\"Ja\",Invulblad!M1123*Invulblad!Q1123,0)","v":0},null,null,null,null,null,{"$f":"IF(Invulblad!P1123=\"Nee\",Invulblad!M1123,0)","v":0}]
[{"$f":"IF(Invulblad!P1124=\"Ja\",Invulblad!M1124*Invulblad!Q1124,0)","v":0},null,null,null,null,null,{"$f":"IF(Invulblad!P1124=\"Nee\",Invulblad!M1124,0)","v":0}]
[{"$f":"IF(Invulblad!P1125=\"Ja\",Invulblad!M1125*Invulblad!Q1125,0)","v":0},null,null,null,null,null,{"$f":"IF(Invulblad!P1125=\"Nee\",Invulblad!M1125,0)","v":0}]
[{"$f":"IF(Invulblad!P1126=\"Ja\",Invulblad!M1126*Invulblad!Q1126,0)","v":0},null,null,null,null,null,{"$f":"IF(Invulblad!P1126=\"Nee\",Invulblad!M1126,0)","v":0}]
[{"$f":"IF(Invulblad!P1127=\"Ja\",Invulblad!M1127*Invulblad!Q1127,0)","v":0},null,null,null,null,null,{"$f":"IF(Invulblad!P1127=\"Nee\",Invulblad!M1127,0)","v":0}]
[{"$f":"IF(Invulblad!P1128=\"Ja\",Invulblad!M1128*Invulblad!Q1128,0)","v":0},null,null,null,null,null,{"$f":"IF(Invulblad!P1128=\"Nee\",Invulblad!M1128,0)","v":0}]
[{"$f":"IF(Invulblad!P1129=\"Ja\",Invulblad!M1129*Invulblad!Q1129,0)","v":0},null,null,null,null,null,{"$f":"IF(Invulblad!P1129=\"Nee\",Invulblad!M1129,0)","v":0}]
[{"$f":"IF(Invulblad!P1130=\"Ja\",Invulblad!M1130*Invulblad!Q1130,0)","v":0},null,null,null,null,null,{"$f":"IF(Invulblad!P1130=\"Nee\",Invulblad!M1130,0)","v":0}]
[{"$f":"IF(Invulblad!P1131=\"Ja\",Invulblad!M1131*Invulblad!Q1131,0)","v":0},null,null,null,null,null,{"$f":"IF(Invulblad!P1131=\"Nee\",Invulblad!M1131,0)","v":0}]
[{"$f":"IF(Invulblad!P1132=\"Ja\",Invulblad!M1132*Invulblad!Q1132,0)","v":0},null,null,null,null,null,{"$f":"IF(Invulblad!P1132=\"Nee\",Invulblad!M1132,0)","v":0}]
[{"$f":"IF(Invulblad!P1133=\"Ja\",Invulblad!M1133*Invulblad!Q1133,0)","v":0},null,null,null,null,null,{"$f":"IF(Invulblad!P1133=\"Nee\",Invulblad!M1133,0)","v":0}]
[{"$f":"IF(Invulblad!P1134=\"Ja\",Invulblad!M1134*Invulblad!Q1134,0)","v":0},null,null,null,null,null,{"$f":"IF(Invulblad!P1134=\"Nee\",Invulblad!M1134,0)","v":0}]
[{"$f":"IF(Invulblad!P1135=\"Ja\",Invulblad!M1135*Invulblad!Q1135,0)","v":0},null,null,null,null,null,{"$f":"IF(Invulblad!P1135=\"Nee\",Invulblad!M1135,0)","v":0}]
[{"$f":"IF(Invulblad!P1136=\"Ja\",Invulblad!M1136*Invulblad!Q1136,0)","v":0},null,null,null,null,null,{"$f":"IF(Invulblad!P1136=\"Nee\",Invulblad!M1136,0)","v":0}]
[{"$f":"IF(Invulblad!P1137=\"Ja\",Invulblad!M1137*Invulblad!Q1137,0)","v":0},null,null,null,null,null,{"$f":"IF(Invulblad!P1137=\"Nee\",Invulblad!M1137,0)","v":0}]
[{"$f":"IF(Invulblad!P1138=\"Ja\",Invulblad!M1138*Invulblad!Q1138,0)","v":0},null,null,null,null,null,{"$f":"IF(Invulblad!P1138=\"Nee\",Invulblad!M1138,0)","v":0}]
[{"$f":"IF(Invulblad!P1139=\"Ja\",Invulblad!M1139*Invulblad!Q1139,0)","v":0},null,null,null,null,null,{"$f":"IF(Invulblad!P1139=\"Nee\",Invulblad!M1139,0)","v":0}]
[{"$f":"IF(Invulblad!P1140=\"Ja\",Invulblad!M1140*Invulblad!Q1140,0)","v":0},null,null,null,null,null,{"$f":"IF(Invulblad!P1140=\"Nee\",Invulblad!M1140,0)","v":0}]
[{"$f":"IF(Invulblad!P1141=\"Ja\",Invulblad!M1141*Invulblad!Q1141,0)","v":0},null,null,null,null,null,{"$f":"IF(Invulblad!P1141=\"Nee\",Invulblad!M1141,0)","v":0}]
[{"$f":"IF(Invulblad!P1142=\"Ja\",Invulblad!M1142*Invulblad!Q1142,0)","v":0},null,null,null,null,null,{"$f":"IF(Invulblad!P1142=\"Nee\",Invulblad!M1142,0)","v":0}]
[{"$f":"IF(Invulblad!P1143=\"Ja\",Invulblad!M1143*Invulblad!Q1143,0)","v":0},null,null,null,null,null,{"$f":"IF(Invulblad!P1143=\"Nee\",Invulblad!M1143,0)","v":0}]
[{"$f":"IF(Invulblad!P1144=\"Ja\",Invulblad!M1144*Invulblad!Q1144,0)","v":0},null,null,null,null,null,{"$f":"IF(Invulblad!P1144=\"Nee\",Invulblad!M1144,0)","v":0}]
[{"$f":"IF(Invulblad!P1145=\"Ja\",Invulblad!M1145*Invulblad!Q1145,0)","v":0},null,null,null,null,null,{"$f":"IF(Invulblad!P1145=\"Nee\",Invulblad!M1145,0)","v":0}]
[{"$f":"IF(Invulblad!P1146=\"Ja\",Invulblad!M1146*Invulblad!Q1146,0)","v":0},null,null,null,null,null,{"$f":"IF(Invulblad!P1146=\"Nee\",Invulblad!M1146,0)","v":0}]
[{"$f":"IF(Invulblad!P1147=\"Ja\",Invulblad!M1147*Invulblad!Q1147,0)","v":0},null,null,null,null,null,{"$f":"IF(Invulblad!P1147=\"Nee\",Invulblad!M1147,0)","v":0}]
[{"$f":"IF(Invulblad!P1148=\"Ja\",Invulblad!M1148*Invulblad!Q1148,0)","v":0},null,null,null,null,null,{"$f":"IF(Invulblad!P1148=\"Nee\",Invulblad!M1148,0)","v":0}]
[{"$f":"IF(Invulblad!P1149=\"Ja\",Invulblad!M1149*Invulblad!Q1149,0)","v":0},null,null,null,null,null,{"$f":"IF(Invulblad!P1149=\"Nee\",Invulblad!M1149,0)","v":0}]
[{"$f":"IF(Invulblad!P1150=\"Ja\",Invulblad!M1150*Invulblad!Q1150,0)","v":0},null,null,null,null,null,{"$f":"IF(Invulblad!P1150=\"Nee\",Invulblad!M1150,0)","v":0}]
[{"$f":"IF(Invulblad!P1151=\"Ja\",Invulblad!M1151*Invulblad!Q1151,0)","v":0},null,null,null,null,null,{"$f":"IF(Invulblad!P1151=\"Nee\",Invulblad!M1151,0)","v":0}]
[{"$f":"IF(Invulblad!P1152=\"Ja\",Invulblad!M1152*Invulblad!Q1152,0)","v":0},null,null,null,null,null,{"$f":"IF(Invulblad!P1152=\"Nee\",Invulblad!M1152,0)","v":0}]
[{"$f":"IF(Invulblad!P1153=\"Ja\",Invulblad!M1153*Invulblad!Q1153,0)","v":0},null,null,null,null,null,{"$f":"IF(Invulblad!P1153=\"Nee\",Invulblad!M1153,0)","v":0}]
[{"$f":"IF(Invulblad!P1154=\"Ja\",Invulblad!M1154*Invulblad!Q1154,0)","v":0},null,null,null,null,null,{"$f":"IF(Invulblad!P1154=\"Nee\",Invulblad!M1154,0)","v":0}]
[{"$f":"IF(Invulblad!P1155=\"Ja\",Invulblad!M1155*Invulblad!Q1155,0)","v":0},null,null,null,null,null,{"$f":"IF(Invulblad!P1155=\"Nee\",Invulblad!M1155,0)","v":0}]
[{"$f":"IF(Invulblad!P1156=\"Ja\",Invulblad!M1156*Invulblad!Q1156,0)","v":0},null,null,null,null,null,{"$f":"IF(Invulblad!P1156=\"Nee\",Invulblad!M1156,0)","v":0}]
[{"$f":"IF(Invulblad!P1157=\"Ja\",Invulblad!M1157*Invulblad!Q1157,0)","v":0},null,null,null,null,null,{"$f":"IF(Invulblad!P1157=\"Nee\",Invulblad!M1157,0)","v":0}]
[{"$f":"IF(Invulblad!P1158=\"Ja\",Invulblad!M1158*Invulblad!Q1158,0)","v":0},null,null,null,null,null,{"$f":"IF(Invulblad!P1158=\"Nee\",Invulblad!M1158,0)","v":0}]
[{"$f":"IF(Invulblad!P1159=\"Ja\",Invulblad!M1159*Invulblad!Q1159,0)","v":0},null,null,null,null,null,{"$f":"IF(Invulblad!P1159=\"Nee\",Invulblad!M1159,0)","v":0}]
[{"$f":"IF(Invulblad!P1160=\"Ja\",Invulblad!M1160*Invulblad!Q1160,0)","v":0},null,null,null,null,null,{"$f":"IF(Invulblad!P1160=\"Nee\",Invulblad!M1160,0)","v":0}]
[{"$f":"IF(Invulblad!P1161=\"Ja\",Invulblad!M1161*Invulblad!Q1161,0)","v":0},null,null,null,null,null,{"$f":"IF(Invulblad!P1161=\"Nee\",Invulblad!M1161,0)","v":0}]
[{"$f":"IF(Invulblad!P1162=\"Ja\",Invulblad!M1162*Invulblad!Q1162,0)","v":0},null,null,null,null,null,{"$f":"IF(Invulblad!P1162=\"Nee\",Invulblad!M1162,0)","v":0}]
[{"$f":"IF(Invulblad!P1163=\"Ja\",Invulblad!M1163*Invulblad!Q1163,0)","v":0},null,null,null,null,null,{"$f":"IF(Invulblad!P1163=\"Nee\",Invulblad!M1163,0)","v":0}]
[{"$f":"IF(Invulblad!P1164=\"Ja\",Invulblad!M1164*Invulblad!Q1164,0)","v":0},null,null,null,null,null,{"$f":"IF(Invulblad!P1164=\"Nee\",Invulblad!M1164,0)","v":0}]
[{"$f":"IF(Invulblad!P1165=\"Ja\",Invulblad!M1165*Invulblad!Q1165,0)","v":0},null,null,null,null,null,{"$f":"IF(Invulblad!P1165=\"Nee\",Invulblad!M1165,0)","v":0}]
[{"$f":"IF(Invulblad!P1166=\"Ja\",Invulblad!M1166*Invulblad!Q1166,0)","v":0},null,null,null,null,null,{"$f":"IF(Invulblad!P1166=\"Nee\",Invulblad!M1166,0)","v":0}]
[{"$f":"IF(Invulblad!P1167=\"Ja\",Invulblad!M1167*Invulblad!Q1167,0)","v":0},null,null,null,null,null,{"$f":"IF(Invulblad!P1167=\"Nee\",Invulblad!M1167,0)","v":0}]
[{"$f":"IF(Invulblad!P1168=\"Ja\",Invulblad!M1168*Invulblad!Q1168,0)","v":0},null,null,null,null,null,{"$f":"IF(Invulblad!P1168=\"Nee\",Invulblad!M1168,0)","v":0}]
[{"$f":"IF(Invulblad!P1169=\"Ja\",Invulblad!M1169*Invulblad!Q1169,0)","v":0},null,null,null,null,null,{"$f":"IF(Invulblad!P1169=\"Nee\",Invulblad!M1169,0)","v":0}]
[{"$f":"IF(Invulblad!P1170=\"Ja\",Invulblad!M1170*Invulblad!Q1170,0)","v":0},null,null,null,null,null,{"$f":"IF(Invulblad!P1170=\"Nee\",Invulblad!M1170,0)","v":0}]
[{"$f":"IF(Invulblad!P1171=\"Ja\",Invulblad!M1171*Invulblad!Q1171,0)","v":0},null,null,null,null,null,{"$f":"IF(Invulblad!P1171=\"Nee\",Invulblad!M1171,0)","v":0}]
[{"$f":"IF(Invulblad!P1172=\"Ja\",Invulblad!M1172*Invulblad!Q1172,0)","v":0},null,null,null,null,null,{"$f":"IF(Invulblad!P1172=\"Nee\",Invulblad!M1172,0)","v":0}]
[{"$f":"IF(Invulblad!P1173=\"Ja\",Invulblad!M1173*Invulblad!Q1173,0)","v":0},null,null,null,null,null,{"$f":"IF(Invulblad!P1173=\"Nee\",Invulblad!M1173,0)","v":0}]
[{"$f":"IF(Invulblad!P1174=\"Ja\",Invulblad!M1174*Invulblad!Q1174,0)","v":0},null,null,null,null,null,{"$f":"IF(Invulblad!P1174=\"Nee\",Invulblad!M1174,0)","v":0}]
[{"$f":"IF(Invulblad!P1175=\"Ja\",Invulblad!M1175*Invulblad!Q1175,0)","v":0},null,null,null,null,null,{"$f":"IF(Invulblad!P1175=\"Nee\",Invulblad!M1175,0)","v":0}]
[{"$f":"IF(Invulblad!P1176=\"Ja\",Invulblad!M1176*Invulblad!Q1176,0)","v":0},null,null,null,null,null,{"$f":"IF(Invulblad!P1176=\"Nee\",Invulblad!M1176,0)","v":0}]
[{"$f":"IF(Invulblad!P1177=\"Ja\",Invulblad!M1177*Invulblad!Q1177,0)","v":0},null,null,null,null,null,{"$f":"IF(Invulblad!P1177=\"Nee\",Invulblad!M1177,0)","v":0}]
[{"$f":"IF(Invulblad!P1178=\"Ja\",Invulblad!M1178*Invulblad!Q1178,0)","v":0},null,null,null,null,null,{"$f":"IF(Invulblad!P1178=\"Nee\",Invulblad!M1178,0)","v":0}]
[{"$f":"IF(Invulblad!P1179=\"Ja\",Invulblad!M1179*Invulblad!Q1179,0)","v":0},null,null,null,null,null,{"$f":"IF(Invulblad!P1179=\"Nee\",Invulblad!M1179,0)","v":0}]
[{"$f":"IF(Invulblad!P1180=\"Ja\",Invulblad!M1180*Invulblad!Q1180,0)","v":0},null,null,null,null,null,{"$f":"IF(Invulblad!P1180=\"Nee\",Invulblad!M1180,0)","v":0}]
[{"$f":"IF(Invulblad!P1181=\"Ja\",Invulblad!M1181*Invulblad!Q1181,0)","v":0},null,null,null,null,null,{"$f":"IF(Invulblad!P1181=\"Nee\",Invulblad!M1181,0)","v":0}]
[{"$f":"IF(Invulblad!P1182=\"Ja\",Invulblad!M1182*Invulblad!Q1182,0)","v":0},null,null,null,null,null,{"$f":"IF(Invulblad!P1182=\"Nee\",Invulblad!M1182,0)","v":0}]
[{"$f":"IF(Invulblad!P1183=\"Ja\",Invulblad!M1183*Invulblad!Q1183,0)","v":0},null,null,null,null,null,{"$f":"IF(Invulblad!P1183=\"Nee\",Invulblad!M1183,0)","v":0}]
[{"$f":"IF(Invulblad!P1184=\"Ja\",Invulblad!M1184*Invulblad!Q1184,0)","v":0},null,null,null,null,null,{"$f":"IF(Invulblad!P1184=\"Nee\",Invulblad!M1184,0)","v":0}]
[{"$f":"IF(Invulblad!P1185=\"Ja\",Invulblad!M1185*Invulblad!Q1185,0)","v":0},null,null,null,null,null,{"$f":"IF(Invulblad!P1185=\"Nee\",Invulblad!M1185,0)","v":0}]
[{"$f":"IF(Invulblad!P1186=\"Ja\",Invulblad!M1186*Invulblad!Q1186,0)","v":0},null,null,null,null,null,{"$f":"IF(Invulblad!P1186=\"Nee\",Invulblad!M1186,0)","v":0}]
[{"$f":"IF(Invulblad!P1187=\"Ja\",Invulblad!M1187*Invulblad!Q1187,0)","v":0},null,null,null,null,null,{"$f":"IF(Invulblad!P1187=\"Nee\",Invulblad!M1187,0)","v":0}]
[{"$f":"IF(Invulblad!P1188=\"Ja\",Invulblad!M1188*Invulblad!Q1188,0)","v":0},null,null,null,null,null,{"$f":"IF(Invulblad!P1188=\"Nee\",Invulblad!M1188,0)","v":0}]
[{"$f":"IF(Invulblad!P1189=\"Ja\",Invulblad!M1189*Invulblad!Q1189,0)","v":0},null,null,null,null,null,{"$f":"IF(Invulblad!P1189=\"Nee\",Invulblad!M1189,0)","v":0}]
[{"$f":"IF(Invulblad!P1190=\"Ja\",Invulblad!M1190*Invulblad!Q1190,0)","v":0},null,null,null,null,null,{"$f":"IF(Invulblad!P1190=\"Nee\",Invulblad!M1190,0)","v":0}]
[{"$f":"IF(Invulblad!P1191=\"Ja\",Invulblad!M1191*Invulblad!Q1191,0)","v":0},null,null,null,null,null,{"$f":"IF(Invulblad!P1191=\"Nee\",Invulblad!M1191,0)","v":0}]
[{"$f":"IF(Invulblad!P1192=\"Ja\",Invulblad!M1192*Invulblad!Q1192,0)","v":0},null,null,null,null,null,{"$f":"IF(Invulblad!P1192=\"Nee\",Invulblad!M1192,0)","v":0}]
[{"$f":"IF(Invulblad!P1193=\"Ja\",Invulblad!M1193*Invulblad!Q1193,0)","v":0},null,null,null,null,null,{"$f":"IF(Invulblad!P1193=\"Nee\",Invulblad!M1193,0)","v":0}]
[{"$f":"IF(Invulblad!P1194=\"Ja\",Invulblad!M1194*Invulblad!Q1194,0)","v":0},null,null,null,null,null,{"$f":"IF(Invulblad!P1194=\"Nee\",Invulblad!M1194,0)","v":0}]
[{"$f":"IF(Invulblad!P1195=\"Ja\",Invulblad!M1195*Invulblad!Q1195,0)","v":0},null,null,null,null,null,{"$f":"IF(Invulblad!P1195=\"Nee\",Invulblad!M1195,0)","v":0}]
[{"$f":"IF(Invulblad!P1196=\"Ja\",Invulblad!M1196*Invulblad!Q1196,0)","v":0},null,null,null,null,null,{"$f":"IF(Invulblad!P1196=\"Nee\",Invulblad!M1196,0)","v":0}]
[{"$f":"IF(Invulblad!P1197=\"Ja\",Invulblad!M1197*Invulblad!Q1197,0)","v":0},null,null,null,null,null,{"$f":"IF(Invulblad!P1197=\"Nee\",Invulblad!M1197,0)","v":0}]
[{"$f":"IF(Invulblad!P1198=\"Ja\",Invulblad!M1198*Invulblad!Q1198,0)","v":0},null,null,null,null,null,{"$f":"IF(Invulblad!P1198=\"Nee\",Invulblad!M1198,0)","v":0}]
[{"$f":"IF(Invulblad!P1199=\"Ja\",Invulblad!M1199*Invulblad!Q1199,0)","v":0},null,null,null,null,null,{"$f":"IF(Invulblad!P1199=\"Nee\",Invulblad!M1199,0)","v":0}]
[{"$f":"IF(Invulblad!P1200=\"Ja\",Invulblad!M1200*Invulblad!Q1200,0)","v":0},null,null,null,null,null,{"$f":"IF(Invulblad!P1200=\"Nee\",Invulblad!M1200,0)","v":0}]
[{"$f":"IF(Invulblad!P1201=\"Ja\",Invulblad!M1201*Invulblad!Q1201,0)","v":0},null,null,null,null,null,{"$f":"IF(Invulblad!P1201=\"Nee\",Invulblad!M1201,0)","v":0}]
[{"$f":"IF(Invulblad!P1202=\"Ja\",Invulblad!M1202*Invulblad!Q1202,0)","v":0},null,null,null,null,null,{"$f":"IF(Invulblad!P1202=\"Nee\",Invulblad!M1202,0)","v":0}]
[{"$f":"IF(Invulblad!P1203=\"Ja\",Invulblad!M1203*Invulblad!Q1203,0)","v":0},null,null,null,null,null,{"$f":"IF(Invulblad!P1203=\"Nee\",Invulblad!M1203,0)","v":0}]
[{"$f":"IF(Invulblad!P1204=\"Ja\",Invulblad!M1204*Invulblad!Q1204,0)","v":0},null,null,null,null,null,{"$f":"IF(Invulblad!P1204=\"Nee\",Invulblad!M1204,0)","v":0}]
[{"$f":"IF(Invulblad!P1205=\"Ja\",Invulblad!M1205*Invulblad!Q1205,0)","v":0},null,null,null,null,null,{"$f":"IF(Invulblad!P1205=\"Nee\",Invulblad!M1205,0)","v":0}]
[{"$f":"IF(Invulblad!P1206=\"Ja\",Invulblad!M1206*Invulblad!Q1206,0)","v":0},null,null,null,null,null,{"$f":"IF(Invulblad!P1206=\"Nee\",Invulblad!M1206,0)","v":0}]
[{"$f":"IF(Invulblad!P1207=\"Ja\",Invulblad!M1207*Invulblad!Q1207,0)","v":0},null,null,null,null,null,{"$f":"IF(Invulblad!P1207=\"Nee\",Invulblad!M1207,0)","v":0}]
[{"$f":"IF(Invulblad!P1208=\"Ja\",Invulblad!M1208*Invulblad!Q1208,0)","v":0},null,null,null,null,null,{"$f":"IF(Invulblad!P1208=\"Nee\",Invulblad!M1208,0)","v":0}]
[{"$f":"IF(Invulblad!P1209=\"Ja\",Invulblad!M1209*Invulblad!Q1209,0)","v":0},null,null,null,null,null,{"$f":"IF(Invulblad!P1209=\"Nee\",Invulblad!M1209,0)","v":0}]
[{"$f":"IF(Invulblad!P1210=\"Ja\",Invulblad!M1210*Invulblad!Q1210,0)","v":0},null,null,null,null,null,{"$f":"IF(Invulblad!P1210=\"Nee\",Invulblad!M1210,0)","v":0}]
[{"$f":"IF(Invulblad!P1211=\"Ja\",Invulblad!M1211*Invulblad!Q1211,0)","v":0},null,null,null,null,null,{"$f":"IF(Invulblad!P1211=\"Nee\",Invulblad!M1211,0)","v":0}]
[{"$f":"IF(Invulblad!P1212=\"Ja\",Invulblad!M1212*Invulblad!Q1212,0)","v":0},null,null,null,null,null,{"$f":"IF(Invulblad!P1212=\"Nee\",Invulblad!M1212,0)","v":0}]
[{"$f":"IF(Invulblad!P1213=\"Ja\",Invulblad!M1213*Invulblad!Q1213,0)","v":0},null,null,null,null,null,{"$f":"IF(Invulblad!P1213=\"Nee\",Invulblad!M1213,0)","v":0}]
[{"$f":"IF(Invulblad!P1214=\"Ja\",Invulblad!M1214*Invulblad!Q1214,0)","v":0},null,null,null,null,null,{"$f":"IF(Invulblad!P1214=\"Nee\",Invulblad!M1214,0)","v":0}]
[{"$f":"IF(Invulblad!P1215=\"Ja\",Invulblad!M1215*Invulblad!Q1215,0)","v":0},null,null,null,null,null,{"$f":"IF(Invulblad!P1215=\"Nee\",Invulblad!M1215,0)","v":0}]
[{"$f":"IF(Invulblad!P1216=\"Ja\",Invulblad!M1216*Invulblad!Q1216,0)","v":0},null,null,null,null,null,{"$f":"IF(Invulblad!P1216=\"Nee\",Invulblad!M1216,0)","v":0}]
[{"$f":"IF(Invulblad!P1217=\"Ja\",Invulblad!M1217*Invulblad!Q1217,0)","v":0},null,null,null,null,null,{"$f":"IF(Invulblad!P1217=\"Nee\",Invulblad!M1217,0)","v":0}]
[{"$f":"IF(Invulblad!P1218=\"Ja\",Invulblad!M1218*Invulblad!Q1218,0)","v":0},null,null,null,null,null,{"$f":"IF(Invulblad!P1218=\"Nee\",Invulblad!M1218,0)","v":0}]
[{"$f":"IF(Invulblad!P1219=\"Ja\",Invulblad!M1219*Invulblad!Q1219,0)","v":0},null,null,null,null,null,{"$f":"IF(Invulblad!P1219=\"Nee\",Invulblad!M1219,0)","v":0}]
[{"$f":"IF(Invulblad!P1220=\"Ja\",Invulblad!M1220*Invulblad!Q1220,0)","v":0},null,null,null,null,null,{"$f":"IF(Invulblad!P1220=\"Nee\",Invulblad!M1220,0)","v":0}]
[{"$f":"IF(Invulblad!P1221=\"Ja\",Invulblad!M1221*Invulblad!Q1221,0)","v":0},null,null,null,null,null,{"$f":"IF(Invulblad!P1221=\"Nee\",Invulblad!M1221,0)","v":0}]
[{"$f":"IF(Invulblad!P1222=\"Ja\",Invulblad!M1222*Invulblad!Q1222,0)","v":0},null,null,null,null,null,{"$f":"IF(Invulblad!P1222=\"Nee\",Invulblad!M1222,0)","v":0}]
[{"$f":"IF(Invulblad!P1223=\"Ja\",Invulblad!M1223*Invulblad!Q1223,0)","v":0},null,null,null,null,null,{"$f":"IF(Invulblad!P1223=\"Nee\",Invulblad!M1223,0)","v":0}]
[{"$f":"IF(Invulblad!P1224=\"Ja\",Invulblad!M1224*Invulblad!Q1224,0)","v":0},null,null,null,null,null,{"$f":"IF(Invulblad!P1224=\"Nee\",Invulblad!M1224,0)","v":0}]
[{"$f":"IF(Invulblad!P1225=\"Ja\",Invulblad!M1225*Invulblad!Q1225,0)","v":0},null,null,null,null,null,{"$f":"IF(Invulblad!P1225=\"Nee\",Invulblad!M1225,0)","v":0}]
[{"$f":"IF(Invulblad!P1226=\"Ja\",Invulblad!M1226*Invulblad!Q1226,0)","v":0},null,null,null,null,null,{"$f":"IF(Invulblad!P1226=\"Nee\",Invulblad!M1226,0)","v":0}]
[{"$f":"IF(Invulblad!P1227=\"Ja\",Invulblad!M1227*Invulblad!Q1227,0)","v":0},null,null,null,null,null,{"$f":"IF(Invulblad!P1227=\"Nee\",Invulblad!M1227,0)","v":0}]
[{"$f":"IF(Invulblad!P1228=\"Ja\",Invulblad!M1228*Invulblad!Q1228,0)","v":0},null,null,null,null,null,{"$f":"IF(Invulblad!P1228=\"Nee\",Invulblad!M1228,0)","v":0}]
[{"$f":"IF(Invulblad!P1229=\"Ja\",Invulblad!M1229*Invulblad!Q1229,0)","v":0},null,null,null,null,null,{"$f":"IF(Invulblad!P1229=\"Nee\",Invulblad!M1229,0)","v":0}]
[{"$f":"IF(Invulblad!P1230=\"Ja\",Invulblad!M1230*Invulblad!Q1230,0)","v":0},null,null,null,null,null,{"$f":"IF(Invulblad!P1230=\"Nee\",Invulblad!M1230,0)","v":0}]
[{"$f":"IF(Invulblad!P1231=\"Ja\",Invulblad!M1231*Invulblad!Q1231,0)","v":0},null,null,null,null,null,{"$f":"IF(Invulblad!P1231=\"Nee\",Invulblad!M1231,0)","v":0}]
[{"$f":"IF(Invulblad!P1232=\"Ja\",Invulblad!M1232*Invulblad!Q1232,0)","v":0},null,null,null,null,null,{"$f":"IF(Invulblad!P1232=\"Nee\",Invulblad!M1232,0)","v":0}]
[{"$f":"IF(Invulblad!P1233=\"Ja\",Invulblad!M1233*Invulblad!Q1233,0)","v":0},null,null,null,null,null,{"$f":"IF(Invulblad!P1233=\"Nee\",Invulblad!M1233,0)","v":0}]
[{"$f":"IF(Invulblad!P1234=\"Ja\",Invulblad!M1234*Invulblad!Q1234,0)","v":0},null,null,null,null,null,{"$f":"IF(Invulblad!P1234=\"Nee\",Invulblad!M1234,0)","v":0}]
[{"$f":"IF(Invulblad!P1235=\"Ja\",Invulblad!M1235*Invulblad!Q1235,0)","v":0},null,null,null,null,null,{"$f":"IF(Invulblad!P1235=\"Nee\",Invulblad!M1235,0)","v":0}]
[{"$f":"IF(Invulblad!P1236=\"Ja\",Invulblad!M1236*Invulblad!Q1236,0)","v":0},null,null,null,null,null,{"$f":"IF(Invulblad!P1236=\"Nee\",Invulblad!M1236,0)","v":0}]
[{"$f":"IF(Invulblad!P1237=\"Ja\",Invulblad!M1237*Invulblad!Q1237,0)","v":0},null,null,null,null,null,{"$f":"IF(Invulblad!P1237=\"Nee\",Invulblad!M1237,0)","v":0}]
[{"$f":"IF(Invulblad!P1238=\"Ja\",Invulblad!M1238*Invulblad!Q1238,0)","v":0},null,null,null,null,null,{"$f":"IF(Invulblad!P1238=\"Nee\",Invulblad!M1238,0)","v":0}]
[{"$f":"IF(Invulblad!P1239=\"Ja\",Invulblad!M1239*Invulblad!Q1239,0)","v":0},null,null,null,null,null,{"$f":"IF(Invulblad!P1239=\"Nee\",Invulblad!M1239,0)","v":0}]
[{"$f":"IF(Invulblad!P1240=\"Ja\",Invulblad!M1240*Invulblad!Q1240,0)","v":0},null,null,null,null,null,{"$f":"IF(Invulblad!P1240=\"Nee\",Invulblad!M1240,0)","v":0}]
[{"$f":"IF(Invulblad!P1241=\"Ja\",Invulblad!M1241*Invulblad!Q1241,0)","v":0},null,null,null,null,null,{"$f":"IF(Invulblad!P1241=\"Nee\",Invulblad!M1241,0)","v":0}]
[{"$f":"IF(Invulblad!P1242=\"Ja\",Invulblad!M1242*Invulblad!Q1242,0)","v":0},null,null,null,null,null,{"$f":"IF(Invulblad!P1242=\"Nee\",Invulblad!M1242,0)","v":0}]
[{"$f":"IF(Invulblad!P1243=\"Ja\",Invulblad!M1243*Invulblad!Q1243,0)","v":0},null,null,null,null,null,{"$f":"IF(Invulblad!P1243=\"Nee\",Invulblad!M1243,0)","v":0}]
[{"$f":"IF(Invulblad!P1244=\"Ja\",Invulblad!M1244*Invulblad!Q1244,0)","v":0},null,null,null,null,null,{"$f":"IF(Invulblad!P1244=\"Nee\",Invulblad!M1244,0)","v":0}]
[{"$f":"IF(Invulblad!P1245=\"Ja\",Invulblad!M1245*Invulblad!Q1245,0)","v":0},null,null,null,null,null,{"$f":"IF(Invulblad!P1245=\"Nee\",Invulblad!M1245,0)","v":0}]
[{"$f":"IF(Invulblad!P1246=\"Ja\",Invulblad!M1246*Invulblad!Q1246,0)","v":0},null,null,null,null,null,{"$f":"IF(Invulblad!P1246=\"Nee\",Invulblad!M1246,0)","v":0}]
[{"$f":"IF(Invulblad!P1247=\"Ja\",Invulblad!M1247*Invulblad!Q1247,0)","v":0},null,null,null,null,null,{"$f":"IF(Invulblad!P1247=\"Nee\",Invulblad!M1247,0)","v":0}]
[{"$f":"IF(Invulblad!P1248=\"Ja\",Invulblad!M1248*Invulblad!Q1248,0)","v":0},null,null,null,null,null,{"$f":"IF(Invulblad!P1248=\"Nee\",Invulblad!M1248,0)","v":0}]
[{"$f":"IF(Invulblad!P1249=\"Ja\",Invulblad!M1249*Invulblad!Q1249,0)","v":0},null,null,null,null,null,{"$f":"IF(Invulblad!P1249=\"Nee\",Invulblad!M1249,0)","v":0}]
[{"$f":"IF(Invulblad!P1250=\"Ja\",Invulblad!M1250*Invulblad!Q1250,0)","v":0},null,null,null,null,null,{"$f":"IF(Invulblad!P1250=\"Nee\",Invulblad!M1250,0)","v":0}]
[{"$f":"IF(Invulblad!P1251=\"Ja\",Invulblad!M1251*Invulblad!Q1251,0)","v":0},null,null,null,null,null,{"$f":"IF(Invulblad!P1251=\"Nee\",Invulblad!M1251,0)","v":0}]
[{"$f":"IF(Invulblad!P1252=\"Ja\",Invulblad!M1252*Invulblad!Q1252,0)","v":0},null,null,null,null,null,{"$f":"IF(Invulblad!P1252=\"Nee\",Invulblad!M1252,0)","v":0}]
[{"$f":"IF(Invulblad!P1253=\"Ja\",Invulblad!M1253*Invulblad!Q1253,0)","v":0},null,null,null,null,null,{"$f":"IF(Invulblad!P1253=\"Nee\",Invulblad!M1253,0)","v":0}]
[{"$f":"IF(Invulblad!P1254=\"Ja\",Invulblad!M1254*Invulblad!Q1254,0)","v":0},null,null,null,null,null,{"$f":"IF(Invulblad!P1254=\"Nee\",Invulblad!M1254,0)","v":0}]
[{"$f":"IF(Invulblad!P1255=\"Ja\",Invulblad!M1255*Invulblad!Q1255,0)","v":0},null,null,null,null,null,{"$f":"IF(Invulblad!P1255=\"Nee\",Invulblad!M1255,0)","v":0}]
[{"$f":"IF(Invulblad!P1256=\"Ja\",Invulblad!M1256*Invulblad!Q1256,0)","v":0},null,null,null,null,null,{"$f":"IF(Invulblad!P1256=\"Nee\",Invulblad!M1256,0)","v":0}]
[{"$f":"IF(Invulblad!P1257=\"Ja\",Invulblad!M1257*Invulblad!Q1257,0)","v":0},null,null,null,null,null,{"$f":"IF(Invulblad!P1257=\"Nee\",Invulblad!M1257,0)","v":0}]
[{"$f":"IF(Invulblad!P1258=\"Ja\",Invulblad!M1258*Invulblad!Q1258,0)","v":0},null,null,null,null,null,{"$f":"IF(Invulblad!P1258=\"Nee\",Invulblad!M1258,0)","v":0}]
[{"$f":"IF(Invulblad!P1259=\"Ja\",Invulblad!M1259*Invulblad!Q1259,0)","v":0},null,null,null,null,null,{"$f":"IF(Invulblad!P1259=\"Nee\",Invulblad!M1259,0)","v":0}]
[{"$f":"IF(Invulblad!P1260=\"Ja\",Invulblad!M1260*Invulblad!Q1260,0)","v":0},null,null,null,null,null,{"$f":"IF(Invulblad!P1260=\"Nee\",Invulblad!M1260,0)","v":0}]
[{"$f":"IF(Invulblad!P1261=\"Ja\",Invulblad!M1261*Invulblad!Q1261,0)","v":0},null,null,null,null,null,{"$f":"IF(Invulblad!P1261=\"Nee\",Invulblad!M1261,0)","v":0}]
[{"$f":"IF(Invulblad!P1262=\"Ja\",Invulblad!M1262*Invulblad!Q1262,0)","v":0},null,null,null,null,null,{"$f":"IF(Invulblad!P1262=\"Nee\",Invulblad!M1262,0)","v":0}]
[{"$f":"IF(Invulblad!P1263=\"Ja\",Invulblad!M1263*Invulblad!Q1263,0)","v":0},null,null,null,null,null,{"$f":"IF(Invulblad!P1263=\"Nee\",Invulblad!M1263,0)","v":0}]
[{"$f":"IF(Invulblad!P1264=\"Ja\",Invulblad!M1264*Invulblad!Q1264,0)","v":0},null,null,null,null,null,{"$f":"IF(Invulblad!P1264=\"Nee\",Invulblad!M1264,0)","v":0}]
[{"$f":"IF(Invulblad!P1265=\"Ja\",Invulblad!M1265*Invulblad!Q1265,0)","v":0},null,null,null,null,null,{"$f":"IF(Invulblad!P1265=\"Nee\",Invulblad!M1265,0)","v":0}]
[{"$f":"IF(Invulblad!P1266=\"Ja\",Invulblad!M1266*Invulblad!Q1266,0)","v":0},null,null,null,null,null,{"$f":"IF(Invulblad!P1266=\"Nee\",Invulblad!M1266,0)","v":0}]
[{"$f":"IF(Invulblad!P1267=\"Ja\",Invulblad!M1267*Invulblad!Q1267,0)","v":0},null,null,null,null,null,{"$f":"IF(Invulblad!P1267=\"Nee\",Invulblad!M1267,0)","v":0}]
[{"$f":"IF(Invulblad!P1268=\"Ja\",Invulblad!M1268*Invulblad!Q1268,0)","v":0},null,null,null,null,null,{"$f":"IF(Invulblad!P1268=\"Nee\",Invulblad!M1268,0)","v":0}]
[{"$f":"IF(Invulblad!P1269=\"Ja\",Invulblad!M1269*Invulblad!Q1269,0)","v":0},null,null,null,null,null,{"$f":"IF(Invulblad!P1269=\"Nee\",Invulblad!M1269,0)","v":0}]
[{"$f":"IF(Invulblad!P1270=\"Ja\",Invulblad!M1270*Invulblad!Q1270,0)","v":0},null,null,null,null,null,{"$f":"IF(Invulblad!P1270=\"Nee\",Invulblad!M1270,0)","v":0}]
[{"$f":"IF(Invulblad!P1271=\"Ja\",Invulblad!M1271*Invulblad!Q1271,0)","v":0},null,null,null,null,null,{"$f":"IF(Invulblad!P1271=\"Nee\",Invulblad!M1271,0)","v":0}]
[{"$f":"IF(Invulblad!P1272=\"Ja\",Invulblad!M1272*Invulblad!Q1272,0)","v":0},null,null,null,null,null,{"$f":"IF(Invulblad!P1272=\"Nee\",Invulblad!M1272,0)","v":0}]
[{"$f":"IF(Invulblad!P1273=\"Ja\",Invulblad!M1273*Invulblad!Q1273,0)","v":0},null,null,null,null,null,{"$f":"IF(Invulblad!P1273=\"Nee\",Invulblad!M1273,0)","v":0}]
[{"$f":"IF(Invulblad!P1274=\"Ja\",Invulblad!M1274*Invulblad!Q1274,0)","v":0},null,null,null,null,null,{"$f":"IF(Invulblad!P1274=\"Nee\",Invulblad!M1274,0)","v":0}]
[{"$f":"IF(Invulblad!P1275=\"Ja\",Invulblad!M1275*Invulblad!Q1275,0)","v":0},null,null,null,null,null,{"$f":"IF(Invulblad!P1275=\"Nee\",Invulblad!M1275,0)","v":0}]
[{"$f":"IF(Invulblad!P1276=\"Ja\",Invulblad!M1276*Invulblad!Q1276,0)","v":0},null,null,null,null,null,{"$f":"IF(Invulblad!P1276=\"Nee\",Invulblad!M1276,0)","v":0}]
[{"$f":"IF(Invulblad!P1277=\"Ja\",Invulblad!M1277*Invulblad!Q1277,0)","v":0},null,null,null,null,null,{"$f":"IF(Invulblad!P1277=\"Nee\",Invulblad!M1277,0)","v":0}]
[{"$f":"IF(Invulblad!P1278=\"Ja\",Invulblad!M1278*Invulblad!Q1278,0)","v":0},null,null,null,null,null,{"$f":"IF(Invulblad!P1278=\"Nee\",Invulblad!M1278,0)","v":0}]
[{"$f":"IF(Invulblad!P1279=\"Ja\",Invulblad!M1279*Invulblad!Q1279,0)","v":0},null,null,null,null,null,{"$f":"IF(Invulblad!P1279=\"Nee\",Invulblad!M1279,0)","v":0}]
[{"$f":"IF(Invulblad!P1280=\"Ja\",Invulblad!M1280*Invulblad!Q1280,0)","v":0},null,null,null,null,null,{"$f":"IF(Invulblad!P1280=\"Nee\",Invulblad!M1280,0)","v":0}]
[{"$f":"IF(Invulblad!P1281=\"Ja\",Invulblad!M1281*Invulblad!Q1281,0)","v":0},null,null,null,null,null,{"$f":"IF(Invulblad!P1281=\"Nee\",Invulblad!M1281,0)","v":0}]
[{"$f":"IF(Invulblad!P1282=\"Ja\",Invulblad!M1282*Invulblad!Q1282,0)","v":0},null,null,null,null,null,{"$f":"IF(Invulblad!P1282=\"Nee\",Invulblad!M1282,0)","v":0}]
[{"$f":"IF(Invulblad!P1283=\"Ja\",Invulblad!M1283*Invulblad!Q1283,0)","v":0},null,null,null,null,null,{"$f":"IF(Invulblad!P1283=\"Nee\",Invulblad!M1283,0)","v":0}]
[{"$f":"IF(Invulblad!P1284=\"Ja\",Invulblad!M1284*Invulblad!Q1284,0)","v":0},null,null,null,null,null,{"$f":"IF(Invulblad!P1284=\"Nee\",Invulblad!M1284,0)","v":0}]
[{"$f":"IF(Invulblad!P1285=\"Ja\",Invulblad!M1285*Invulblad!Q1285,0)","v":0},null,null,null,null,null,{"$f":"IF(Invulblad!P1285=\"Nee\",Invulblad!M1285,0)","v":0}]
[{"$f":"IF(Invulblad!P1286=\"Ja\",Invulblad!M1286*Invulblad!Q1286,0)","v":0},null,null,null,null,null,{"$f":"IF(Invulblad!P1286=\"Nee\",Invulblad!M1286,0)","v":0}]
[{"$f":"IF(Invulblad!P1287=\"Ja\",Invulblad!M1287*Invulblad!Q1287,0)","v":0},null,null,null,null,null,{"$f":"IF(Invulblad!P1287=\"Nee\",Invulblad!M1287,0)","v":0}]
[{"$f":"IF(Invulblad!P1288=\"Ja\",Invulblad!M1288*Invulblad!Q1288,0)","v":0},null,null,null,null,null,{"$f":"IF(Invulblad!P1288=\"Nee\",Invulblad!M1288,0)","v":0}]
[{"$f":"IF(Invulblad!P1289=\"Ja\",Invulblad!M1289*Invulblad!Q1289,0)","v":0},null,null,null,null,null,{"$f":"IF(Invulblad!P1289=\"Nee\",Invulblad!M1289,0)","v":0}]
[{"$f":"IF(Invulblad!P1290=\"Ja\",Invulblad!M1290*Invulblad!Q1290,0)","v":0},null,null,null,null,null,{"$f":"IF(Invulblad!P1290=\"Nee\",Invulblad!M1290,0)","v":0}]
[{"$f":"IF(Invulblad!P1291=\"Ja\",Invulblad!M1291*Invulblad!Q1291,0)","v":0},null,null,null,null,null,{"$f":"IF(Invulblad!P1291=\"Nee\",Invulblad!M1291,0)","v":0}]
[{"$f":"IF(Invulblad!P1292=\"Ja\",Invulblad!M1292*Invulblad!Q1292,0)","v":0},null,null,null,null,null,{"$f":"IF(Invulblad!P1292=\"Nee\",Invulblad!M1292,0)","v":0}]
[{"$f":"IF(Invulblad!P1293=\"Ja\",Invulblad!M1293*Invulblad!Q1293,0)","v":0},null,null,null,null,null,{"$f":"IF(Invulblad!P1293=\"Nee\",Invulblad!M1293,0)","v":0}]
[{"$f":"IF(Invulblad!P1294=\"Ja\",Invulblad!M1294*Invulblad!Q1294,0)","v":0},null,null,null,null,null,{"$f":"IF(Invulblad!P1294=\"Nee\",Invulblad!M1294,0)","v":0}]
[{"$f":"IF(Invulblad!P1295=\"Ja\",Invulblad!M1295*Invulblad!Q1295,0)","v":0},null,null,null,null,null,{"$f":"IF(Invulblad!P1295=\"Nee\",Invulblad!M1295,0)","v":0}]
[{"$f":"IF(Invulblad!P1296=\"Ja\",Invulblad!M1296*Invulblad!Q1296,0)","v":0},null,null,null,null,null,{"$f":"IF(Invulblad!P1296=\"Nee\",Invulblad!M1296,0)","v":0}]
[{"$f":"IF(Invulblad!P1297=\"Ja\",Invulblad!M1297*Invulblad!Q1297,0)","v":0},null,null,null,null,null,{"$f":"IF(Invulblad!P1297=\"Nee\",Invulblad!M1297,0)","v":0}]
[{"$f":"IF(Invulblad!P1298=\"Ja\",Invulblad!M1298*Invulblad!Q1298,0)","v":0},null,null,null,null,null,{"$f":"IF(Invulblad!P1298=\"Nee\",Invulblad!M1298,0)","v":0}]
[{"$f":"IF(Invulblad!P1299=\"Ja\",Invulblad!M1299*Invulblad!Q1299,0)","v":0},null,null,null,null,null,{"$f":"IF(Invulblad!P1299=\"Nee\",Invulblad!M1299,0)","v":0}]
[{"$f":"IF(Invulblad!P1300=\"Ja\",Invulblad!M1300*Invulblad!Q1300,0)","v":0},null,null,null,null,null,{"$f":"IF(Invulblad!P1300=\"Nee\",Invulblad!M1300,0)","v":0}]
[{"$f":"IF(Invulblad!P1301=\"Ja\",Invulblad!M1301*Invulblad!Q1301,0)","v":0},null,null,null,null,null,{"$f":"IF(Invulblad!P1301=\"Nee\",Invulblad!M1301,0)","v":0}]
[{"$f":"IF(Invulblad!P1302=\"Ja\",Invulblad!M1302*Invulblad!Q1302,0)","v":0},null,null,null,null,null,{"$f":"IF(Invulblad!P1302=\"Nee\",Invulblad!M1302,0)","v":0}]
[{"$f":"IF(Invulblad!P1303=\"Ja\",Invulblad!M1303*Invulblad!Q1303,0)","v":0},null,null,null,null,null,{"$f":"IF(Invulblad!P1303=\"Nee\",Invulblad!M1303,0)","v":0}]
[{"$f":"IF(Invulblad!P1304=\"Ja\",Invulblad!M1304*Invulblad!Q1304,0)","v":0},null,null,null,null,null,{"$f":"IF(Invulblad!P1304=\"Nee\",Invulblad!M1304,0)","v":0}]
[{"$f":"IF(Invulblad!P1305=\"Ja\",Invulblad!M1305*Invulblad!Q1305,0)","v":0},null,null,null,null,null,{"$f":"IF(Invulblad!P1305=\"Nee\",Invulblad!M1305,0)","v":0}]
[{"$f":"IF(Invulblad!P1306=\"Ja\",Invulblad!M1306*Invulblad!Q1306,0)","v":0},null,null,null,null,null,{"$f":"IF(Invulblad!P1306=\"Nee\",Invulblad!M1306,0)","v":0}]
[{"$f":"IF(Invulblad!P1307=\"Ja\",Invulblad!M1307*Invulblad!Q1307,0)","v":0},null,null,null,null,null,{"$f":"IF(Invulblad!P1307=\"Nee\",Invulblad!M1307,0)","v":0}]
[{"$f":"IF(Invulblad!P1308=\"Ja\",Invulblad!M1308*Invulblad!Q1308,0)","v":0},null,null,null,null,null,{"$f":"IF(Invulblad!P1308=\"Nee\",Invulblad!M1308,0)","v":0}]
[{"$f":"IF(Invulblad!P1309=\"Ja\",Invulblad!M1309*Invulblad!Q1309,0)","v":0},null,null,null,null,null,{"$f":"IF(Invulblad!P1309=\"Nee\",Invulblad!M1309,0)","v":0}]
[{"$f":"IF(Invulblad!P1310=\"Ja\",Invulblad!M1310*Invulblad!Q1310,0)","v":0},null,null,null,null,null,{"$f":"IF(Invulblad!P1310=\"Nee\",Invulblad!M1310,0)","v":0}]
[{"$f":"IF(Invulblad!P1311=\"Ja\",Invulblad!M1311*Invulblad!Q1311,0)","v":0},null,null,null,null,null,{"$f":"IF(Invulblad!P1311=\"Nee\",Invulblad!M1311,0)","v":0}]
[{"$f":"IF(Invulblad!P1312=\"Ja\",Invulblad!M1312*Invulblad!Q1312,0)","v":0},null,null,null,null,null,{"$f":"IF(Invulblad!P1312=\"Nee\",Invulblad!M1312,0)","v":0}]
[{"$f":"IF(Invulblad!P1313=\"Ja\",Invulblad!M1313*Invulblad!Q1313,0)","v":0},null,null,null,null,null,{"$f":"IF(Invulblad!P1313=\"Nee\",Invulblad!M1313,0)","v":0}]
[{"$f":"IF(Invulblad!P1314=\"Ja\",Invulblad!M1314*Invulblad!Q1314,0)","v":0},null,null,null,null,null,{"$f":"IF(Invulblad!P1314=\"Nee\",Invulblad!M1314,0)","v":0}]
[{"$f":"IF(Invulblad!P1315=\"Ja\",Invulblad!M1315*Invulblad!Q1315,0)","v":0},null,null,null,null,null,{"$f":"IF(Invulblad!P1315=\"Nee\",Invulblad!M1315,0)","v":0}]
[{"$f":"IF(Invulblad!P1316=\"Ja\",Invulblad!M1316*Invulblad!Q1316,0)","v":0},null,null,null,null,null,{"$f":"IF(Invulblad!P1316=\"Nee\",Invulblad!M1316,0)","v":0}]
[{"$f":"IF(Invulblad!P1317=\"Ja\",Invulblad!M1317*Invulblad!Q1317,0)","v":0},null,null,null,null,null,{"$f":"IF(Invulblad!P1317=\"Nee\",Invulblad!M1317,0)","v":0}]
[{"$f":"IF(Invulblad!P1318=\"Ja\",Invulblad!M1318*Invulblad!Q1318,0)","v":0},null,null,null,null,null,{"$f":"IF(Invulblad!P1318=\"Nee\",Invulblad!M1318,0)","v":0}]
[{"$f":"IF(Invulblad!P1319=\"Ja\",Invulblad!M1319*Invulblad!Q1319,0)","v":0},null,null,null,null,null,{"$f":"IF(Invulblad!P1319=\"Nee\",Invulblad!M1319,0)","v":0}]
[{"$f":"IF(Invulblad!P1320=\"Ja\",Invulblad!M1320*Invulblad!Q1320,0)","v":0},null,null,null,null,null,{"$f":"IF(Invulblad!P1320=\"Nee\",Invulblad!M1320,0)","v":0}]
[{"$f":"IF(Invulblad!P1321=\"Ja\",Invulblad!M1321*Invulblad!Q1321,0)","v":0},null,null,null,null,null,{"$f":"IF(Invulblad!P1321=\"Nee\",Invulblad!M1321,0)","v":0}]
[{"$f":"IF(Invulblad!P1322=\"Ja\",Invulblad!M1322*Invulblad!Q1322,0)","v":0},null,null,null,null,null,{"$f":"IF(Invulblad!P1322=\"Nee\",Invulblad!M1322,0)","v":0}]
[{"$f":"IF(Invulblad!P1323=\"Ja\",Invulblad!M1323*Invulblad!Q1323,0)","v":0},null,null,null,null,null,{"$f":"IF(Invulblad!P1323=\"Nee\",Invulblad!M1323,0)","v":0}]
[{"$f":"IF(Invulblad!P1324=\"Ja\",Invulblad!M1324*Invulblad!Q1324,0)","v":0},null,null,null,null,null,{"$f":"IF(Invulblad!P1324=\"Nee\",Invulblad!M1324,0)","v":0}]
[{"$f":"IF(Invulblad!P1325=\"Ja\",Invulblad!M1325*Invulblad!Q1325,0)","v":0},null,null,null,null,null,{"$f":"IF(Invulblad!P1325=\"Nee\",Invulblad!M1325,0)","v":0}]
[{"$f":"IF(Invulblad!P1326=\"Ja\",Invulblad!M1326*Invulblad!Q1326,0)","v":0},null,null,null,null,null,{"$f":"IF(Invulblad!P1326=\"Nee\",Invulblad!M1326,0)","v":0}]
[{"$f":"IF(Invulblad!P1327=\"Ja\",Invulblad!M1327*Invulblad!Q1327,0)","v":0},null,null,null,null,null,{"$f":"IF(Invulblad!P1327=\"Nee\",Invulblad!M1327,0)","v":0}]
[{"$f":"IF(Invulblad!P1328=\"Ja\",Invulblad!M1328*Invulblad!Q1328,0)","v":0},null,null,null,null,null,{"$f":"IF(Invulblad!P1328=\"Nee\",Invulblad!M1328,0)","v":0}]
[{"$f":"IF(Invulblad!P1329=\"Ja\",Invulblad!M1329*Invulblad!Q1329,0)","v":0},null,null,null,null,null,{"$f":"IF(Invulblad!P1329=\"Nee\",Invulblad!M1329,0)","v":0}]
[{"$f":"IF(Invulblad!P1330=\"Ja\",Invulblad!M1330*Invulblad!Q1330,0)","v":0},null,null,null,null,null,{"$f":"IF(Invulblad!P1330=\"Nee\",Invulblad!M1330,0)","v":0}]
[{"$f":"IF(Invulblad!P1331=\"Ja\",Invulblad!M1331*Invulblad!Q1331,0)","v":0},null,null,null,null,null,{"$f":"IF(Invulblad!P1331=\"Nee\",Invulblad!M1331,0)","v":0}]
[{"$f":"IF(Invulblad!P1332=\"Ja\",Invulblad!M1332*Invulblad!Q1332,0)","v":0},null,null,null,null,null,{"$f":"IF(Invulblad!P1332=\"Nee\",Invulblad!M1332,0)","v":0}]
[{"$f":"IF(Invulblad!P1333=\"Ja\",Invulblad!M1333*Invulblad!Q1333,0)","v":0},null,null,null,null,null,{"$f":"IF(Invulblad!P1333=\"Nee\",Invulblad!M1333,0)","v":0}]
[{"$f":"IF(Invulblad!P1334=\"Ja\",Invulblad!M1334*Invulblad!Q1334,0)","v":0},null,null,null,null,null,{"$f":"IF(Invulblad!P1334=\"Nee\",Invulblad!M1334,0)","v":0}]
[{"$f":"IF(Invulblad!P1335=\"Ja\",Invulblad!M1335*Invulblad!Q1335,0)","v":0},null,null,null,null,null,{"$f":"IF(Invulblad!P1335=\"Nee\",Invulblad!M1335,0)","v":0}]
[{"$f":"IF(Invulblad!P1336=\"Ja\",Invulblad!M1336*Invulblad!Q1336,0)","v":0},null,null,null,null,null,{"$f":"IF(Invulblad!P1336=\"Nee\",Invulblad!M1336,0)","v":0}]
[{"$f":"IF(Invulblad!P1337=\"Ja\",Invulblad!M1337*Invulblad!Q1337,0)","v":0},null,null,null,null,null,{"$f":"IF(Invulblad!P1337=\"Nee\",Invulblad!M1337,0)","v":0}]
[{"$f":"IF(Invulblad!P1338=\"Ja\",Invulblad!M1338*Invulblad!Q1338,0)","v":0},null,null,null,null,null,{"$f":"IF(Invulblad!P1338=\"Nee\",Invulblad!M1338,0)","v":0}]
[{"$f":"IF(Invulblad!P1339=\"Ja\",Invulblad!M1339*Invulblad!Q1339,0)","v":0},null,null,null,null,null,{"$f":"IF(Invulblad!P1339=\"Nee\",Invulblad!M1339,0)","v":0}]
[{"$f":"IF(Invulblad!P1340=\"Ja\",Invulblad!M1340*Invulblad!Q1340,0)","v":0},null,null,null,null,null,{"$f":"IF(Invulblad!P1340=\"Nee\",Invulblad!M1340,0)","v":0}]
[{"$f":"IF(Invulblad!P1341=\"Ja\",Invulblad!M1341*Invulblad!Q1341,0)","v":0},null,null,null,null,null,{"$f":"IF(Invulblad!P1341=\"Nee\",Invulblad!M1341,0)","v":0}]
[{"$f":"IF(Invulblad!P1342=\"Ja\",Invulblad!M1342*Invulblad!Q1342,0)","v":0},null,null,null,null,null,{"$f":"IF(Invulblad!P1342=\"Nee\",Invulblad!M1342,0)","v":0}]
[{"$f":"IF(Invulblad!P1343=\"Ja\",Invulblad!M1343*Invulblad!Q1343,0)","v":0},null,null,null,null,null,{"$f":"IF(Invulblad!P1343=\"Nee\",Invulblad!M1343,0)","v":0}]
[{"$f":"IF(Invulblad!P1344=\"Ja\",Invulblad!M1344*Invulblad!Q1344,0)","v":0},null,null,null,null,null,{"$f":"IF(Invulblad!P1344=\"Nee\",Invulblad!M1344,0)","v":0}]
[{"$f":"IF(Invulblad!P1345=\"Ja\",Invulblad!M1345*Invulblad!Q1345,0)","v":0},null,null,null,null,null,{"$f":"IF(Invulblad!P1345=\"Nee\",Invulblad!M1345,0)","v":0}]
[{"$f":"IF(Invulblad!P1346=\"Ja\",Invulblad!M1346*Invulblad!Q1346,0)","v":0},null,null,null,null,null,{"$f":"IF(Invulblad!P1346=\"Nee\",Invulblad!M1346,0)","v":0}]
[{"$f":"IF(Invulblad!P1347=\"Ja\",Invulblad!M1347*Invulblad!Q1347,0)","v":0},null,null,null,null,null,{"$f":"IF(Invulblad!P1347=\"Nee\",Invulblad!M1347,0)","v":0}]
[{"$f":"IF(Invulblad!P1348=\"Ja\",Invulblad!M1348*Invulblad!Q1348,0)","v":0},null,null,null,null,null,{"$f":"IF(Invulblad!P1348=\"Nee\",Invulblad!M1348,0)","v":0}]
[{"$f":"IF(Invulblad!P1349=\"Ja\",Invulblad!M1349*Invulblad!Q1349,0)","v":0},null,null,null,null,null,{"$f":"IF(Invulblad!P1349=\"Nee\",Invulblad!M1349,0)","v":0}]
[{"$f":"IF(Invulblad!P1350=\"Ja\",Invulblad!M1350*Invulblad!Q1350,0)","v":0},null,null,null,null,null,{"$f":"IF(Invulblad!P1350=\"Nee\",Invulblad!M1350,0)","v":0}]
[{"$f":"IF(Invulblad!P1351=\"Ja\",Invulblad!M1351*Invulblad!Q1351,0)","v":0},null,null,null,null,null,{"$f":"IF(Invulblad!P1351=\"Nee\",Invulblad!M1351,0)","v":0}]
[{"$f":"IF(Invulblad!P1352=\"Ja\",Invulblad!M1352*Invulblad!Q1352,0)","v":0},null,null,null,null,null,{"$f":"IF(Invulblad!P1352=\"Nee\",Invulblad!M1352,0)","v":0}]
[{"$f":"IF(Invulblad!P1353=\"Ja\",Invulblad!M1353*Invulblad!Q1353,0)","v":0},null,null,null,null,null,{"$f":"IF(Invulblad!P1353=\"Nee\",Invulblad!M1353,0)","v":0}]
[{"$f":"IF(Invulblad!P1354=\"Ja\",Invulblad!M1354*Invulblad!Q1354,0)","v":0},null,null,null,null,null,{"$f":"IF(Invulblad!P1354=\"Nee\",Invulblad!M1354,0)","v":0}]
[{"$f":"IF(Invulblad!P1355=\"Ja\",Invulblad!M1355*Invulblad!Q1355,0)","v":0},null,null,null,null,null,{"$f":"IF(Invulblad!P1355=\"Nee\",Invulblad!M1355,0)","v":0}]
[{"$f":"IF(Invulblad!P1356=\"Ja\",Invulblad!M1356*Invulblad!Q1356,0)","v":0},null,null,null,null,null,{"$f":"IF(Invulblad!P1356=\"Nee\",Invulblad!M1356,0)","v":0}]
[{"$f":"IF(Invulblad!P1357=\"Ja\",Invulblad!M1357*Invulblad!Q1357,0)","v":0},null,null,null,null,null,{"$f":"IF(Invulblad!P1357=\"Nee\",Invulblad!M1357,0)","v":0}]
[{"$f":"IF(Invulblad!P1358=\"Ja\",Invulblad!M1358*Invulblad!Q1358,0)","v":0},null,null,null,null,null,{"$f":"IF(Invulblad!P1358=\"Nee\",Invulblad!M1358,0)","v":0}]
[{"$f":"IF(Invulblad!P1359=\"Ja\",Invulblad!M1359*Invulblad!Q1359,0)","v":0},null,null,null,null,null,{"$f":"IF(Invulblad!P1359=\"Nee\",Invulblad!M1359,0)","v":0}]
[{"$f":"IF(Invulblad!P1360=\"Ja\",Invulblad!M1360*Invulblad!Q1360,0)","v":0},null,null,null,null,null,{"$f":"IF(Invulblad!P1360=\"Nee\",Invulblad!M1360,0)","v":0}]
[{"$f":"IF(Invulblad!P1361=\"Ja\",Invulblad!M1361*Invulblad!Q1361,0)","v":0},null,null,null,null,null,{"$f":"IF(Invulblad!P1361=\"Nee\",Invulblad!M1361,0)","v":0}]
[{"$f":"IF(Invulblad!P1362=\"Ja\",Invulblad!M1362*Invulblad!Q1362,0)","v":0},null,null,null,null,null,{"$f":"IF(Invulblad!P1362=\"Nee\",Invulblad!M1362,0)","v":0}]
[{"$f":"IF(Invulblad!P1363=\"Ja\",Invulblad!M1363*Invulblad!Q1363,0)","v":0},null,null,null,null,null,{"$f":"IF(Invulblad!P1363=\"Nee\",Invulblad!M1363,0)","v":0}]
[{"$f":"IF(Invulblad!P1364=\"Ja\",Invulblad!M1364*Invulblad!Q1364,0)","v":0},null,null,null,null,null,{"$f":"IF(Invulblad!P1364=\"Nee\",Invulblad!M1364,0)","v":0}]
[{"$f":"IF(Invulblad!P1365=\"Ja\",Invulblad!M1365*Invulblad!Q1365,0)","v":0},null,null,null,null,null,{"$f":"IF(Invulblad!P1365=\"Nee\",Invulblad!M1365,0)","v":0}]
[{"$f":"IF(Invulblad!P1366=\"Ja\",Invulblad!M1366*Invulblad!Q1366,0)","v":0},null,null,null,null,null,{"$f":"IF(Invulblad!P1366=\"Nee\",Invulblad!M1366,0)","v":0}]
[{"$f":"IF(Invulblad!P1367=\"Ja\",Invulblad!M1367*Invulblad!Q1367,0)","v":0},null,null,null,null,null,{"$f":"IF(Invulblad!P1367=\"Nee\",Invulblad!M1367,0)","v":0}]
[{"$f":"IF(Invulblad!P1368=\"Ja\",Invulblad!M1368*Invulblad!Q1368,0)","v":0},null,null,null,null,null,{"$f":"IF(Invulblad!P1368=\"Nee\",Invulblad!M1368,0)","v":0}]
[{"$f":"IF(Invulblad!P1369=\"Ja\",Invulblad!M1369*Invulblad!Q1369,0)","v":0},null,null,null,null,null,{"$f":"IF(Invulblad!P1369=\"Nee\",Invulblad!M1369,0)","v":0}]
[{"$f":"IF(Invulblad!P1370=\"Ja\",Invulblad!M1370*Invulblad!Q1370,0)","v":0},null,null,null,null,null,{"$f":"IF(Invulblad!P1370=\"Nee\",Invulblad!M1370,0)","v":0}]
[{"$f":"IF(Invulblad!P1371=\"Ja\",Invulblad!M1371*Invulblad!Q1371,0)","v":0},null,null,null,null,null,{"$f":"IF(Invulblad!P1371=\"Nee\",Invulblad!M1371,0)","v":0}]
[{"$f":"IF(Invulblad!P1372=\"Ja\",Invulblad!M1372*Invulblad!Q1372,0)","v":0},null,null,null,null,null,{"$f":"IF(Invulblad!P1372=\"Nee\",Invulblad!M1372,0)","v":0}]
[{"$f":"IF(Invulblad!P1373=\"Ja\",Invulblad!M1373*Invulblad!Q1373,0)","v":0},null,null,null,null,null,{"$f":"IF(Invulblad!P1373=\"Nee\",Invulblad!M1373,0)","v":0}]
[{"$f":"IF(Invulblad!P1374=\"Ja\",Invulblad!M1374*Invulblad!Q1374,0)","v":0},null,null,null,null,null,{"$f":"IF(Invulblad!P1374=\"Nee\",Invulblad!M1374,0)","v":0}]
[{"$f":"IF(Invulblad!P1375=\"Ja\",Invulblad!M1375*Invulblad!Q1375,0)","v":0},null,null,null,null,null,{"$f":"IF(Invulblad!P1375=\"Nee\",Invulblad!M1375,0)","v":0}]
[{"$f":"IF(Invulblad!P1376=\"Ja\",Invulblad!M1376*Invulblad!Q1376,0)","v":0},null,null,null,null,null,{"$f":"IF(Invulblad!P1376=\"Nee\",Invulblad!M1376,0)","v":0}]
[{"$f":"IF(Invulblad!P1377=\"Ja\",Invulblad!M1377*Invulblad!Q1377,0)","v":0},null,null,null,null,null,{"$f":"IF(Invulblad!P1377=\"Nee\",Invulblad!M1377,0)","v":0}]
[{"$f":"IF(Invulblad!P1378=\"Ja\",Invulblad!M1378*Invulblad!Q1378,0)","v":0},null,null,null,null,null,{"$f":"IF(Invulblad!P1378=\"Nee\",Invulblad!M1378,0)","v":0}]
[{"$f":"IF(Invulblad!P1379=\"Ja\",Invulblad!M1379*Invulblad!Q1379,0)","v":0},null,null,null,null,null,{"$f":"IF(Invulblad!P1379=\"Nee\",Invulblad!M1379,0)","v":0}]
[{"$f":"IF(Invulblad!P1380=\"Ja\",Invulblad!M1380*Invulblad!Q1380,0)","v":0},null,null,null,null,null,{"$f":"IF(Invulblad!P1380=\"Nee\",Invulblad!M1380,0)","v":0}]
[{"$f":"IF(Invulblad!P1381=\"Ja\",Invulblad!M1381*Invulblad!Q1381,0)","v":0},null,null,null,null,null,{"$f":"IF(Invulblad!P1381=\"Nee\",Invulblad!M1381,0)","v":0}]
[{"$f":"IF(Invulblad!P1382=\"Ja\",Invulblad!M1382*Invulblad!Q1382,0)","v":0},null,null,null,null,null,{"$f":"IF(Invulblad!P1382=\"Nee\",Invulblad!M1382,0)","v":0}]
[{"$f":"IF(Invulblad!P1383=\"Ja\",Invulblad!M1383*Invulblad!Q1383,0)","v":0},null,null,null,null,null,{"$f":"IF(Invulblad!P1383=\"Nee\",Invulblad!M1383,0)","v":0}]
[{"$f":"IF(Invulblad!P1384=\"Ja\",Invulblad!M1384*Invulblad!Q1384,0)","v":0},null,null,null,null,null,{"$f":"IF(Invulblad!P1384=\"Nee\",Invulblad!M1384,0)","v":0}]
[{"$f":"IF(Invulblad!P1385=\"Ja\",Invulblad!M1385*Invulblad!Q1385,0)","v":0},null,null,null,null,null,{"$f":"IF(Invulblad!P1385=\"Nee\",Invulblad!M1385,0)","v":0}]
[{"$f":"IF(Invulblad!P1386=\"Ja\",Invulblad!M1386*Invulblad!Q1386,0)","v":0},null,null,null,null,null,{"$f":"IF(Invulblad!P1386=\"Nee\",Invulblad!M1386,0)","v":0}]
[{"$f":"IF(Invulblad!P1387=\"Ja\",Invulblad!M1387*Invulblad!Q1387,0)","v":0},null,null,null,null,null,{"$f":"IF(Invulblad!P1387=\"Nee\",Invulblad!M1387,0)","v":0}]
[{"$f":"IF(Invulblad!P1388=\"Ja\",Invulblad!M1388*Invulblad!Q1388,0)","v":0},null,null,null,null,null,{"$f":"IF(Invulblad!P1388=\"Nee\",Invulblad!M1388,0)","v":0}]
[{"$f":"IF(Invulblad!P1389=\"Ja\",Invulblad!M1389*Invulblad!Q1389,0)","v":0},null,null,null,null,null,{"$f":"IF(Invulblad!P1389=\"Nee\",Invulblad!M1389,0)","v":0}]
[{"$f":"IF(Invulblad!P1390=\"Ja\",Invulblad!M1390*Invulblad!Q1390,0)","v":0},null,null,null,null,null,{"$f":"IF(Invulblad!P1390=\"Nee\",Invulblad!M1390,0)","v":0}]
[{"$f":"IF(Invulblad!P1391=\"Ja\",Invulblad!M1391*Invulblad!Q1391,0)","v":0},null,null,null,null,null,{"$f":"IF(Invulblad!P1391=\"Nee\",Invulblad!M1391,0)","v":0}]
[{"$f":"IF(Invulblad!P1392=\"Ja\",Invulblad!M1392*Invulblad!Q1392,0)","v":0},null,null,null,null,null,{"$f":"IF(Invulblad!P1392=\"Nee\",Invulblad!M1392,0)","v":0}]
[{"$f":"IF(Invulblad!P1393=\"Ja\",Invulblad!M1393*Invulblad!Q1393,0)","v":0},null,null,null,null,null,{"$f":"IF(Invulblad!P1393=\"Nee\",Invulblad!M1393,0)","v":0}]
[{"$f":"IF(Invulblad!P1394=\"Ja\",Invulblad!M1394*Invulblad!Q1394,0)","v":0},null,null,null,null,null,{"$f":"IF(Invulblad!P1394=\"Nee\",Invulblad!M1394,0)","v":0}]
[{"$f":"IF(Invulblad!P1395=\"Ja\",Invulblad!M1395*Invulblad!Q1395,0)","v":0},null,null,null,null,null,{"$f":"IF(Invulblad!P1395=\"Nee\",Invulblad!M1395,0)","v":0}]
[{"$f":"IF(Invulblad!P1396=\"Ja\",Invulblad!M1396*Invulblad!Q1396,0)","v":0},null,null,null,null,null,{"$f":"IF(Invulblad!P1396=\"Nee\",Invulblad!M1396,0)","v":0}]
[{"$f":"IF(Invulblad!P1397=\"Ja\",Invulblad!M1397*Invulblad!Q1397,0)","v":0},null,null,null,null,null,{"$f":"IF(Invulblad!P1397=\"Nee\",Invulblad!M1397,0)","v":0}]
[{"$f":"IF(Invulblad!P1398=\"Ja\",Invulblad!M1398*Invulblad!Q1398,0)","v":0},null,null,null,null,null,{"$f":"IF(Invulblad!P1398=\"Nee\",Invulblad!M1398,0)","v":0}]
[{"$f":"IF(Invulblad!P1399=\"Ja\",Invulblad!M1399*Invulblad!Q1399,0)","v":0},null,null,null,null,null,{"$f":"IF(Invulblad!P1399=\"Nee\",Invulblad!M1399,0)","v":0}]
[{"$f":"IF(Invulblad!P1400=\"Ja\",Invulblad!M1400*Invulblad!Q1400,0)","v":0},null,null,null,null,null,{"$f":"IF(Invulblad!P1400=\"Nee\",Invulblad!M1400,0)","v":0}]
[{"$f":"IF(Invulblad!P1401=\"Ja\",Invulblad!M1401*Invulblad!Q1401,0)","v":0},null,null,null,null,null,{"$f":"IF(Invulblad!P1401=\"Nee\",Invulblad!M1401,0)","v":0}]
[{"$f":"IF(Invulblad!P1402=\"Ja\",Invulblad!M1402*Invulblad!Q1402,0)","v":0},null,null,null,null,null,{"$f":"IF(Invulblad!P1402=\"Nee\",Invulblad!M1402,0)","v":0}]
[{"$f":"IF(Invulblad!P1403=\"Ja\",Invulblad!M1403*Invulblad!Q1403,0)","v":0},null,null,null,null,null,{"$f":"IF(Invulblad!P1403=\"Nee\",Invulblad!M1403,0)","v":0}]
[{"$f":"IF(Invulblad!P1404=\"Ja\",Invulblad!M1404*Invulblad!Q1404,0)","v":0},null,null,null,null,null,{"$f":"IF(Invulblad!P1404=\"Nee\",Invulblad!M1404,0)","v":0}]
[{"$f":"IF(Invulblad!P1405=\"Ja\",Invulblad!M1405*Invulblad!Q1405,0)","v":0},null,null,null,null,null,{"$f":"IF(Invulblad!P1405=\"Nee\",Invulblad!M1405,0)","v":0}]
[{"$f":"IF(Invulblad!P1406=\"Ja\",Invulblad!M1406*Invulblad!Q1406,0)","v":0},null,null,null,null,null,{"$f":"IF(Invulblad!P1406=\"Nee\",Invulblad!M1406,0)","v":0}]
[{"$f":"IF(Invulblad!P1407=\"Ja\",Invulblad!M1407*Invulblad!Q1407,0)","v":0},null,null,null,null,null,{"$f":"IF(Invulblad!P1407=\"Nee\",Invulblad!M1407,0)","v":0}]
[{"$f":"IF(Invulblad!P1408=\"Ja\",Invulblad!M1408*Invulblad!Q1408,0)","v":0},null,null,null,null,null,{"$f":"IF(Invulblad!P1408=\"Nee\",Invulblad!M1408,0)","v":0}]
[{"$f":"IF(Invulblad!P1409=\"Ja\",Invulblad!M1409*Invulblad!Q1409,0)","v":0},null,null,null,null,null,{"$f":"IF(Invulblad!P1409=\"Nee\",Invulblad!M1409,0)","v":0}]
[{"$f":"IF(Invulblad!P1410=\"Ja\",Invulblad!M1410*Invulblad!Q1410,0)","v":0},null,null,null,null,null,{"$f":"IF(Invulblad!P1410=\"Nee\",Invulblad!M1410,0)","v":0}]
[{"$f":"IF(Invulblad!P1411=\"Ja\",Invulblad!M1411*Invulblad!Q1411,0)","v":0},null,null,null,null,null,{"$f":"IF(Invulblad!P1411=\"Nee\",Invulblad!M1411,0)","v":0}]
[{"$f":"IF(Invulblad!P1412=\"Ja\",Invulblad!M1412*Invulblad!Q1412,0)","v":0},null,null,null,null,null,{"$f":"IF(Invulblad!P1412=\"Nee\",Invulblad!M1412,0)","v":0}]
[{"$f":"IF(Invulblad!P1413=\"Ja\",Invulblad!M1413*Invulblad!Q1413,0)","v":0},null,null,null,null,null,{"$f":"IF(Invulblad!P1413=\"Nee\",Invulblad!M1413,0)","v":0}]
[{"$f":"IF(Invulblad!P1414=\"Ja\",Invulblad!M1414*Invulblad!Q1414,0)","v":0},null,null,null,null,null,{"$f":"IF(Invulblad!P1414=\"Nee\",Invulblad!M1414,0)","v":0}]
[{"$f":"IF(Invulblad!P1415=\"Ja\",Invulblad!M1415*Invulblad!Q1415,0)","v":0},null,null,null,null,null,{"$f":"IF(Invulblad!P1415=\"Nee\",Invulblad!M1415,0)","v":0}]
[{"$f":"IF(Invulblad!P1416=\"Ja\",Invulblad!M1416*Invulblad!Q1416,0)","v":0},null,null,null,null,null,{"$f":"IF(Invulblad!P1416=\"Nee\",Invulblad!M1416,0)","v":0}]
[{"$f":"IF(Invulblad!P1417=\"Ja\",Invulblad!M1417*Invulblad!Q1417,0)","v":0},null,null,null,null,null,{"$f":"IF(Invulblad!P1417=\"Nee\",Invulblad!M1417,0)","v":0}]
[{"$f":"IF(Invulblad!P1418=\"Ja\",Invulblad!M1418*Invulblad!Q1418,0)","v":0},null,null,null,null,null,{"$f":"IF(Invulblad!P1418=\"Nee\",Invulblad!M1418,0)","v":0}]
[{"$f":"IF(Invulblad!P1419=\"Ja\",Invulblad!M1419*Invulblad!Q1419,0)","v":0},null,null,null,null,null,{"$f":"IF(Invulblad!P1419=\"Nee\",Invulblad!M1419,0)","v":0}]
[{"$f":"IF(Invulblad!P1420=\"Ja\",Invulblad!M1420*Invulblad!Q1420,0)","v":0},null,null,null,null,null,{"$f":"IF(Invulblad!P1420=\"Nee\",Invulblad!M1420,0)","v":0}]
[{"$f":"IF(Invulblad!P1421=\"Ja\",Invulblad!M1421*Invulblad!Q1421,0)","v":0},null,null,null,null,null,{"$f":"IF(Invulblad!P1421=\"Nee\",Invulblad!M1421,0)","v":0}]
[{"$f":"IF(Invulblad!P1422=\"Ja\",Invulblad!M1422*Invulblad!Q1422,0)","v":0},null,null,null,null,null,{"$f":"IF(Invulblad!P1422=\"Nee\",Invulblad!M1422,0)","v":0}]
[{"$f":"IF(Invulblad!P1423=\"Ja\",Invulblad!M1423*Invulblad!Q1423,0)","v":0},null,null,null,null,null,{"$f":"IF(Invulblad!P1423=\"Nee\",Invulblad!M1423,0)","v":0}]
[{"$f":"IF(Invulblad!P1424=\"Ja\",Invulblad!M1424*Invulblad!Q1424,0)","v":0},null,null,null,null,null,{"$f":"IF(Invulblad!P1424=\"Nee\",Invulblad!M1424,0)","v":0}]
[{"$f":"IF(Invulblad!P1425=\"Ja\",Invulblad!M1425*Invulblad!Q1425,0)","v":0},null,null,null,null,null,{"$f":"IF(Invulblad!P1425=\"Nee\",Invulblad!M1425,0)","v":0}]
[{"$f":"IF(Invulblad!P1426=\"Ja\",Invulblad!M1426*Invulblad!Q1426,0)","v":0},null,null,null,null,null,{"$f":"IF(Invulblad!P1426=\"Nee\",Invulblad!M1426,0)","v":0}]
[{"$f":"IF(Invulblad!P1427=\"Ja\",Invulblad!M1427*Invulblad!Q1427,0)","v":0},null,null,null,null,null,{"$f":"IF(Invulblad!P1427=\"Nee\",Invulblad!M1427,0)","v":0}]
[{"$f":"IF(Invulblad!P1428=\"Ja\",Invulblad!M1428*Invulblad!Q1428,0)","v":0},null,null,null,null,null,{"$f":"IF(Invulblad!P1428=\"Nee\",Invulblad!M1428,0)","v":0}]
[{"$f":"IF(Invulblad!P1429=\"Ja\",Invulblad!M1429*Invulblad!Q1429,0)","v":0},null,null,null,null,null,{"$f":"IF(Invulblad!P1429=\"Nee\",Invulblad!M1429,0)","v":0}]
[{"$f":"IF(Invulblad!P1430=\"Ja\",Invulblad!M1430*Invulblad!Q1430,0)","v":0},null,null,null,null,null,{"$f":"IF(Invulblad!P1430=\"Nee\",Invulblad!M1430,0)","v":0}]
[{"$f":"IF(Invulblad!P1431=\"Ja\",Invulblad!M1431*Invulblad!Q1431,0)","v":0},null,null,null,null,null,{"$f":"IF(Invulblad!P1431=\"Nee\",Invulblad!M1431,0)","v":0}]
[{"$f":"IF(Invulblad!P1432=\"Ja\",Invulblad!M1432*Invulblad!Q1432,0)","v":0},null,null,null,null,null,{"$f":"IF(Invulblad!P1432=\"Nee\",Invulblad!M1432,0)","v":0}]
[{"$f":"IF(Invulblad!P1433=\"Ja\",Invulblad!M1433*Invulblad!Q1433,0)","v":0},null,null,null,null,null,{"$f":"IF(Invulblad!P1433=\"Nee\",Invulblad!M1433,0)","v":0}]
[{"$f":"IF(Invulblad!P1434=\"Ja\",Invulblad!M1434*Invulblad!Q1434,0)","v":0},null,null,null,null,null,{"$f":"IF(Invulblad!P1434=\"Nee\",Invulblad!M1434,0)","v":0}]
[{"$f":"IF(Invulblad!P1435=\"Ja\",Invulblad!M1435*Invulblad!Q1435,0)","v":0},null,null,null,null,null,{"$f":"IF(Invulblad!P1435=\"Nee\",Invulblad!M1435,0)","v":0}]
[{"$f":"IF(Invulblad!P1436=\"Ja\",Invulblad!M1436*Invulblad!Q1436,0)","v":0},null,null,null,null,null,{"$f":"IF(Invulblad!P1436=\"Nee\",Invulblad!M1436,0)","v":0}]
[{"$f":"IF(Invulblad!P1437=\"Ja\",Invulblad!M1437*Invulblad!Q1437,0)","v":0},null,null,null,null,null,{"$f":"IF(Invulblad!P1437=\"Nee\",Invulblad!M1437,0)","v":0}]
[{"$f":"IF(Invulblad!P1438=\"Ja\",Invulblad!M1438*Invulblad!Q1438,0)","v":0},null,null,null,null,null,{"$f":"IF(Invulblad!P1438=\"Nee\",Invulblad!M1438,0)","v":0}]
[{"$f":"IF(Invulblad!P1439=\"Ja\",Invulblad!M1439*Invulblad!Q1439,0)","v":0},null,null,null,null,null,{"$f":"IF(Invulblad!P1439=\"Nee\",Invulblad!M1439,0)","v":0}]
[{"$f":"IF(Invulblad!P1440=\"Ja\",Invulblad!M1440*Invulblad!Q1440,0)","v":0},null,null,null,null,null,{"$f":"IF(Invulblad!P1440=\"Nee\",Invulblad!M1440,0)","v":0}]
[{"$f":"IF(Invulblad!P1441=\"Ja\",Invulblad!M1441*Invulblad!Q1441,0)","v":0},null,null,null,null,null,{"$f":"IF(Invulblad!P1441=\"Nee\",Invulblad!M1441,0)","v":0}]
[{"$f":"IF(Invulblad!P1442=\"Ja\",Invulblad!M1442*Invulblad!Q1442,0)","v":0},null,null,null,null,null,{"$f":"IF(Invulblad!P1442=\"Nee\",Invulblad!M1442,0)","v":0}]
[{"$f":"IF(Invulblad!P1443=\"Ja\",Invulblad!M1443*Invulblad!Q1443,0)","v":0},null,null,null,null,null,{"$f":"IF(Invulblad!P1443=\"Nee\",Invulblad!M1443,0)","v":0}]
[{"$f":"IF(Invulblad!P1444=\"Ja\",Invulblad!M1444*Invulblad!Q1444,0)","v":0},null,null,null,null,null,{"$f":"IF(Invulblad!P1444=\"Nee\",Invulblad!M1444,0)","v":0}]
[{"$f":"IF(Invulblad!P1445=\"Ja\",Invulblad!M1445*Invulblad!Q1445,0)","v":0},null,null,null,null,null,{"$f":"IF(Invulblad!P1445=\"Nee\",Invulblad!M1445,0)","v":0}]
[{"$f":"IF(Invulblad!P1446=\"Ja\",Invulblad!M1446*Invulblad!Q1446,0)","v":0},null,null,null,null,null,{"$f":"IF(Invulblad!P1446=\"Nee\",Invulblad!M1446,0)","v":0}]
[{"$f":"IF(Invulblad!P1447=\"Ja\",Invulblad!M1447*Invulblad!Q1447,0)","v":0},null,null,null,null,null,{"$f":"IF(Invulblad!P1447=\"Nee\",Invulblad!M1447,0)","v":0}]
[{"$f":"IF(Invulblad!P1448=\"Ja\",Invulblad!M1448*Invulblad!Q1448,0)","v":0},null,null,null,null,null,{"$f":"IF(Invulblad!P1448=\"Nee\",Invulblad!M1448,0)","v":0}]
[{"$f":"IF(Invulblad!P1449=\"Ja\",Invulblad!M1449*Invulblad!Q1449,0)","v":0},null,null,null,null,null,{"$f":"IF(Invulblad!P1449=\"Nee\",Invulblad!M1449,0)","v":0}]
[{"$f":"IF(Invulblad!P1450=\"Ja\",Invulblad!M1450*Invulblad!Q1450,0)","v":0},null,null,null,null,null,{"$f":"IF(Invulblad!P1450=\"Nee\",Invulblad!M1450,0)","v":0}]
[{"$f":"IF(Invulblad!P1451=\"Ja\",Invulblad!M1451*Invulblad!Q1451,0)","v":0},null,null,null,null,null,{"$f":"IF(Invulblad!P1451=\"Nee\",Invulblad!M1451,0)","v":0}]
[{"$f":"IF(Invulblad!P1452=\"Ja\",Invulblad!M1452*Invulblad!Q1452,0)","v":0},null,null,null,null,null,{"$f":"IF(Invulblad!P1452=\"Nee\",Invulblad!M1452,0)","v":0}]
[{"$f":"IF(Invulblad!P1453=\"Ja\",Invulblad!M1453*Invulblad!Q1453,0)","v":0},null,null,null,null,null,{"$f":"IF(Invulblad!P1453=\"Nee\",Invulblad!M1453,0)","v":0}]
[{"$f":"IF(Invulblad!P1454=\"Ja\",Invulblad!M1454*Invulblad!Q1454,0)","v":0},null,null,null,null,null,{"$f":"IF(Invulblad!P1454=\"Nee\",Invulblad!M1454,0)","v":0}]
[{"$f":"IF(Invulblad!P1455=\"Ja\",Invulblad!M1455*Invulblad!Q1455,0)","v":0},null,null,null,null,null,{"$f":"IF(Invulblad!P1455=\"Nee\",Invulblad!M1455,0)","v":0}]
[{"$f":"IF(Invulblad!P1456=\"Ja\",Invulblad!M1456*Invulblad!Q1456,0)","v":0},null,null,null,null,null,{"$f":"IF(Invulblad!P1456=\"Nee\",Invulblad!M1456,0)","v":0}]
[{"$f":"IF(Invulblad!P1457=\"Ja\",Invulblad!M1457*Invulblad!Q1457,0)","v":0},null,null,null,null,null,{"$f":"IF(Invulblad!P1457=\"Nee\",Invulblad!M1457,0)","v":0}]
[{"$f":"IF(Invulblad!P1458=\"Ja\",Invulblad!M1458*Invulblad!Q1458,0)","v":0},null,null,null,null,null,{"$f":"IF(Invulblad!P1458=\"Nee\",Invulblad!M1458,0)","v":0}]
[{"$f":"IF(Invulblad!P1459=\"Ja\",Invulblad!M1459*Invulblad!Q1459,0)","v":0},null,null,null,null,null,{"$f":"IF(Invulblad!P1459=\"Nee\",Invulblad!M1459,0)","v":0}]
[{"$f":"IF(Invulblad!P1460=\"Ja\",Invulblad!M1460*Invulblad!Q1460,0)","v":0},null,null,null,null,null,{"$f":"IF(Invulblad!P1460=\"Nee\",Invulblad!M1460,0)","v":0}]
[{"$f":"IF(Invulblad!P1461=\"Ja\",Invulblad!M1461*Invulblad!Q1461,0)","v":0},null,null,null,null,null,{"$f":"IF(Invulblad!P1461=\"Nee\",Invulblad!M1461,0)","v":0}]
[{"$f":"IF(Invulblad!P1462=\"Ja\",Invulblad!M1462*Invulblad!Q1462,0)","v":0},null,null,null,null,null,{"$f":"IF(Invulblad!P1462=\"Nee\",Invulblad!M1462,0)","v":0}]
[{"$f":"IF(Invulblad!P1463=\"Ja\",Invulblad!M1463*Invulblad!Q1463,0)","v":0},null,null,null,null,null,{"$f":"IF(Invulblad!P1463=\"Nee\",Invulblad!M1463,0)","v":0}]
[{"$f":"IF(Invulblad!P1464=\"Ja\",Invulblad!M1464*Invulblad!Q1464,0)","v":0},null,null,null,null,null,{"$f":"IF(Invulblad!P1464=\"Nee\",Invulblad!M1464,0)","v":0}]
[{"$f":"IF(Invulblad!P1465=\"Ja\",Invulblad!M1465*Invulblad!Q1465,0)","v":0},null,null,null,null,null,{"$f":"IF(Invulblad!P1465=\"Nee\",Invulblad!M1465,0)","v":0}]
[{"$f":"IF(Invulblad!P1466=\"Ja\",Invulblad!M1466*Invulblad!Q1466,0)","v":0},null,null,null,null,null,{"$f":"IF(Invulblad!P1466=\"Nee\",Invulblad!M1466,0)","v":0}]
[{"$f":"IF(Invulblad!P1467=\"Ja\",Invulblad!M1467*Invulblad!Q1467,0)","v":0},null,null,null,null,null,{"$f":"IF(Invulblad!P1467=\"Nee\",Invulblad!M1467,0)","v":0}]
[{"$f":"IF(Invulblad!P1468=\"Ja\",Invulblad!M1468*Invulblad!Q1468,0)","v":0},null,null,null,null,null,{"$f":"IF(Invulblad!P1468=\"Nee\",Invulblad!M1468,0)","v":0}]
[{"$f":"IF(Invulblad!P1469=\"Ja\",Invulblad!M1469*Invulblad!Q1469,0)","v":0},null,null,null,null,null,{"$f":"IF(Invulblad!P1469=\"Nee\",Invulblad!M1469,0)","v":0}]
[{"$f":"IF(Invulblad!P1470=\"Ja\",Invulblad!M1470*Invulblad!Q1470,0)","v":0},null,null,null,null,null,{"$f":"IF(Invulblad!P1470=\"Nee\",Invulblad!M1470,0)","v":0}]
[{"$f":"IF(Invulblad!P1471=\"Ja\",Invulblad!M1471*Invulblad!Q1471,0)","v":0},null,null,null,null,null,{"$f":"IF(Invulblad!P1471=\"Nee\",Invulblad!M1471,0)","v":0}]
[{"$f":"IF(Invulblad!P1472=\"Ja\",Invulblad!M1472*Invulblad!Q1472,0)","v":0},null,null,null,null,null,{"$f":"IF(Invulblad!P1472=\"Nee\",Invulblad!M1472,0)","v":0}]
[{"$f":"IF(Invulblad!P1473=\"Ja\",Invulblad!M1473*Invulblad!Q1473,0)","v":0},null,null,null,null,null,{"$f":"IF(Invulblad!P1473=\"Nee\",Invulblad!M1473,0)","v":0}]
[{"$f":"IF(Invulblad!P1474=\"Ja\",Invulblad!M1474*Invulblad!Q1474,0)","v":0},null,null,null,null,null,{"$f":"IF(Invulblad!P1474=\"Nee\",Invulblad!M1474,0)","v":0}]
[{"$f":"IF(Invulblad!P1475=\"Ja\",Invulblad!M1475*Invulblad!Q1475,0)","v":0},null,null,null,null,null,{"$f":"IF(Invulblad!P1475=\"Nee\",Invulblad!M1475,0)","v":0}]
[{"$f":"IF(Invulblad!P1476=\"Ja\",Invulblad!M1476*Invulblad!Q1476,0)","v":0},null,null,null,null,null,{"$f":"IF(Invulblad!P1476=\"Nee\",Invulblad!M1476,0)","v":0}]
[{"$f":"IF(Invulblad!P1477=\"Ja\",Invulblad!M1477*Invulblad!Q1477,0)","v":0},null,null,null,null,null,{"$f":"IF(Invulblad!P1477=\"Nee\",Invulblad!M1477,0)","v":0}]
[{"$f":"IF(Invulblad!P1478=\"Ja\",Invulblad!M1478*Invulblad!Q1478,0)","v":0},null,null,null,null,null,{"$f":"IF(Invulblad!P1478=\"Nee\",Invulblad!M1478,0)","v":0}]
[{"$f":"IF(Invulblad!P1479=\"Ja\",Invulblad!M1479*Invulblad!Q1479,0)","v":0},null,null,null,null,null,{"$f":"IF(Invulblad!P1479=\"Nee\",Invulblad!M1479,0)","v":0}]
[{"$f":"IF(Invulblad!P1480=\"Ja\",Invulblad!M1480*Invulblad!Q1480,0)","v":0},null,null,null,null,null,{"$f":"IF(Invulblad!P1480=\"Nee\",Invulblad!M1480,0)","v":0}]
[{"$f":"IF(Invulblad!P1481=\"Ja\",Invulblad!M1481*Invulblad!Q1481,0)","v":0},null,null,null,null,null,{"$f":"IF(Invulblad!P1481=\"Nee\",Invulblad!M1481,0)","v":0}]
[{"$f":"IF(Invulblad!P1482=\"Ja\",Invulblad!M1482*Invulblad!Q1482,0)","v":0},null,null,null,null,null,{"$f":"IF(Invulblad!P1482=\"Nee\",Invulblad!M1482,0)","v":0}]
[{"$f":"IF(Invulblad!P1483=\"Ja\",Invulblad!M1483*Invulblad!Q1483,0)","v":0},null,null,null,null,null,{"$f":"IF(Invulblad!P1483=\"Nee\",Invulblad!M1483,0)","v":0}]
[{"$f":"IF(Invulblad!P1484=\"Ja\",Invulblad!M1484*Invulblad!Q1484,0)","v":0},null,null,null,null,null,{"$f":"IF(Invulblad!P1484=\"Nee\",Invulblad!M1484,0)","v":0}]
[{"$f":"IF(Invulblad!P1485=\"Ja\",Invulblad!M1485*Invulblad!Q1485,0)","v":0},null,null,null,null,null,{"$f":"IF(Invulblad!P1485=\"Nee\",Invulblad!M1485,0)","v":0}]
[{"$f":"IF(Invulblad!P1486=\"Ja\",Invulblad!M1486*Invulblad!Q1486,0)","v":0},null,null,null,null,null,{"$f":"IF(Invulblad!P1486=\"Nee\",Invulblad!M1486,0)","v":0}]
[{"$f":"IF(Invulblad!P1487=\"Ja\",Invulblad!M1487*Invulblad!Q1487,0)","v":0},null,null,null,null,null,{"$f":"IF(Invulblad!P1487=\"Nee\",Invulblad!M1487,0)","v":0}]
[{"$f":"IF(Invulblad!P1488=\"Ja\",Invulblad!M1488*Invulblad!Q1488,0)","v":0},null,null,null,null,null,{"$f":"IF(Invulblad!P1488=\"Nee\",Invulblad!M1488,0)","v":0}]
[{"$f":"IF(Invulblad!P1489=\"Ja\",Invulblad!M1489*Invulblad!Q1489,0)","v":0},null,null,null,null,null,{"$f":"IF(Invulblad!P1489=\"Nee\",Invulblad!M1489,0)","v":0}]
[{"$f":"IF(Invulblad!P1490=\"Ja\",Invulblad!M1490*Invulblad!Q1490,0)","v":0},null,null,null,null,null,{"$f":"IF(Invulblad!P1490=\"Nee\",Invulblad!M1490,0)","v":0}]
[{"$f":"IF(Invulblad!P1491=\"Ja\",Invulblad!M1491*Invulblad!Q1491,0)","v":0},null,null,null,null,null,{"$f":"IF(Invulblad!P1491=\"Nee\",Invulblad!M1491,0)","v":0}]
[{"$f":"IF(Invulblad!P1492=\"Ja\",Invulblad!M1492*Invulblad!Q1492,0)","v":0},null,null,null,null,null,{"$f":"IF(Invulblad!P1492=\"Nee\",Invulblad!M1492,0)","v":0}]
[{"$f":"IF(Invulblad!P1493=\"Ja\",Invulblad!M1493*Invulblad!Q1493,0)","v":0},null,null,null,null,null,{"$f":"IF(Invulblad!P1493=\"Nee\",Invulblad!M1493,0)","v":0}]
[{"$f":"IF(Invulblad!P1494=\"Ja\",Invulblad!M1494*Invulblad!Q1494,0)","v":0},null,null,null,null,null,{"$f":"IF(Invulblad!P1494=\"Nee\",Invulblad!M1494,0)","v":0}]
[{"$f":"IF(Invulblad!P1495=\"Ja\",Invulblad!M1495*Invulblad!Q1495,0)","v":0},null,null,null,null,null,{"$f":"IF(Invulblad!P1495=\"Nee\",Invulblad!M1495,0)","v":0}]
[{"$f":"IF(Invulblad!P1496=\"Ja\",Invulblad!M1496*Invulblad!Q1496,0)","v":0},null,null,null,null,null,{"$f":"IF(Invulblad!P1496=\"Nee\",Invulblad!M1496,0)","v":0}]
[{"$f":"IF(Invulblad!P1497=\"Ja\",Invulblad!M1497*Invulblad!Q1497,0)","v":0},null,null,null,null,null,{"$f":"IF(Invulblad!P1497=\"Nee\",Invulblad!M1497,0)","v":0}]
[{"$f":"IF(Invulblad!P1498=\"Ja\",Invulblad!M1498*Invulblad!Q1498,0)","v":0},null,null,null,null,null,{"$f":"IF(Invulblad!P1498=\"Nee\",Invulblad!M1498,0)","v":0}]
[{"$f":"IF(Invulblad!P1499=\"Ja\",Invulblad!M1499*Invulblad!Q1499,0)","v":0},null,null,null,null,null,{"$f":"IF(Invulblad!P1499=\"Nee\",Invulblad!M1499,0)","v":0}]
[{"$f":"IF(Invulblad!P1500=\"Ja\",Invulblad!M1500*Invulblad!Q1500,0)","v":0},null,null,null,null,null,{"$f":"IF(Invulblad!P1500=\"Nee\",Invulblad!M1500,0)","v":0}]
[{"$f":"IF(Invulblad!P1501=\"Ja\",Invulblad!M1501*Invulblad!Q1501,0)","v":0},null,null,null,null,null,{"$f":"IF(Invulblad!P1501=\"Nee\",Invulblad!M1501,0)","v":0}]
[{"$f":"IF(Invulblad!P1502=\"Ja\",Invulblad!M1502*Invulblad!Q1502,0)","v":0},null,null,null,null,null,{"$f":"IF(Invulblad!P1502=\"Nee\",Invulblad!M1502,0)","v":0}]
[{"$f":"IF(Invulblad!P1503=\"Ja\",Invulblad!M1503*Invulblad!Q1503,0)","v":0},null,null,null,null,null,{"$f":"IF(Invulblad!P1503=\"Nee\",Invulblad!M1503,0)","v":0}]
[{"$f":"IF(Invulblad!P1504=\"Ja\",Invulblad!M1504*Invulblad!Q1504,0)","v":0},null,null,null,null,null,{"$f":"IF(Invulblad!P1504=\"Nee\",Invulblad!M1504,0)","v":0}]
[{"$f":"IF(Invulblad!P1505=\"Ja\",Invulblad!M1505*Invulblad!Q1505,0)","v":0},null,null,null,null,null,{"$f":"IF(Invulblad!P1505=\"Nee\",Invulblad!M1505,0)","v":0}]
[{"$f":"IF(Invulblad!P1506=\"Ja\",Invulblad!M1506*Invulblad!Q1506,0)","v":0},null,null,null,null,null,{"$f":"IF(Invulblad!P1506=\"Nee\",Invulblad!M1506,0)","v":0}]
[{"$f":"IF(Invulblad!P1507=\"Ja\",Invulblad!M1507*Invulblad!Q1507,0)","v":0},null,null,null,null,null,{"$f":"IF(Invulblad!P1507=\"Nee\",Invulblad!M1507,0)","v":0}]
[{"$f":"IF(Invulblad!P1508=\"Ja\",Invulblad!M1508*Invulblad!Q1508,0)","v":0},null,null,null,null,null,{"$f":"IF(Invulblad!P1508=\"Nee\",Invulblad!M1508,0)","v":0}]
[{"$f":"IF(Invulblad!P1509=\"Ja\",Invulblad!M1509*Invulblad!Q1509,0)","v":0},null,null,null,null,null,{"$f":"IF(Invulblad!P1509=\"Nee\",Invulblad!M1509,0)","v":0}]
[{"$f":"IF(Invulblad!P1510=\"Ja\",Invulblad!M1510*Invulblad!Q1510,0)","v":0},null,null,null,null,null,{"$f":"IF(Invulblad!P1510=\"Nee\",Invulblad!M1510,0)","v":0}]
[{"$f":"IF(Invulblad!P1511=\"Ja\",Invulblad!M1511*Invulblad!Q1511,0)","v":0},null,null,null,null,null,{"$f":"IF(Invulblad!P1511=\"Nee\",Invulblad!M1511,0)","v":0}]
[{"$f":"IF(Invulblad!P1512=\"Ja\",Invulblad!M1512*Invulblad!Q1512,0)","v":0},null,null,null,null,null,{"$f":"IF(Invulblad!P1512=\"Nee\",Invulblad!M1512,0)","v":0}]
[{"$f":"IF(Invulblad!P1513=\"Ja\",Invulblad!M1513*Invulblad!Q1513,0)","v":0},null,null,null,null,null,{"$f":"IF(Invulblad!P1513=\"Nee\",Invulblad!M1513,0)","v":0}]
[{"$f":"IF(Invulblad!P1514=\"Ja\",Invulblad!M1514*Invulblad!Q1514,0)","v":0},null,null,null,null,null,{"$f":"IF(Invulblad!P1514=\"Nee\",Invulblad!M1514,0)","v":0}]
[{"$f":"IF(Invulblad!P1515=\"Ja\",Invulblad!M1515*Invulblad!Q1515,0)","v":0},null,null,null,null,null,{"$f":"IF(Invulblad!P1515=\"Nee\",Invulblad!M1515,0)","v":0}]
[{"$f":"IF(Invulblad!P1516=\"Ja\",Invulblad!M1516*Invulblad!Q1516,0)","v":0},null,null,null,null,null,{"$f":"IF(Invulblad!P1516=\"Nee\",Invulblad!M1516,0)","v":0}]
[{"$f":"IF(Invulblad!P1517=\"Ja\",Invulblad!M1517*Invulblad!Q1517,0)","v":0},null,null,null,null,null,{"$f":"IF(Invulblad!P1517=\"Nee\",Invulblad!M1517,0)","v":0}]
[{"$f":"IF(Invulblad!P1518=\"Ja\",Invulblad!M1518*Invulblad!Q1518,0)","v":0},null,null,null,null,null,{"$f":"IF(Invulblad!P1518=\"Nee\",Invulblad!M1518,0)","v":0}]
[{"$f":"IF(Invulblad!P1519=\"Ja\",Invulblad!M1519*Invulblad!Q1519,0)","v":0},null,null,null,null,null,{"$f":"IF(Invulblad!P1519=\"Nee\",Invulblad!M1519,0)","v":0}]
[{"$f":"IF(Invulblad!P1520=\"Ja\",Invulblad!M1520*Invulblad!Q1520,0)","v":0},null,null,null,null,null,{"$f":"IF(Invulblad!P1520=\"Nee\",Invulblad!M1520,0)","v":0}]
[{"$f":"IF(Invulblad!P1521=\"Ja\",Invulblad!M1521*Invulblad!Q1521,0)","v":0},null,null,null,null,null,{"$f":"IF(Invulblad!P1521=\"Nee\",Invulblad!M1521,0)","v":0}]
[{"$f":"IF(Invulblad!P1522=\"Ja\",Invulblad!M1522*Invulblad!Q1522,0)","v":0},null,null,null,null,null,{"$f":"IF(Invulblad!P1522=\"Nee\",Invulblad!M1522,0)","v":0}]
[{"$f":"IF(Invulblad!P1523=\"Ja\",Invulblad!M1523*Invulblad!Q1523,0)","v":0},null,null,null,null,null,{"$f":"IF(Invulblad!P1523=\"Nee\",Invulblad!M1523,0)","v":0}]
[{"$f":"IF(Invulblad!P1524=\"Ja\",Invulblad!M1524*Invulblad!Q1524,0)","v":0},null,null,null,null,null,{"$f":"IF(Invulblad!P1524=\"Nee\",Invulblad!M1524,0)","v":0}]
[{"$f":"IF(Invulblad!P1525=\"Ja\",Invulblad!M1525*Invulblad!Q1525,0)","v":0},null,null,null,null,null,{"$f":"IF(Invulblad!P1525=\"Nee\",Invulblad!M1525,0)","v":0}]
[{"$f":"IF(Invulblad!P1526=\"Ja\",Invulblad!M1526*Invulblad!Q1526,0)","v":0},null,null,null,null,null,{"$f":"IF(Invulblad!P1526=\"Nee\",Invulblad!M1526,0)","v":0}]
[{"$f":"IF(Invulblad!P1527=\"Ja\",Invulblad!M1527*Invulblad!Q1527,0)","v":0},null,null,null,null,null,{"$f":"IF(Invulblad!P1527=\"Nee\",Invulblad!M1527,0)","v":0}]
[{"$f":"IF(Invulblad!P1528=\"Ja\",Invulblad!M1528*Invulblad!Q1528,0)","v":0},null,null,null,null,null,{"$f":"IF(Invulblad!P1528=\"Nee\",Invulblad!M1528,0)","v":0}]
[{"$f":"IF(Invulblad!P1529=\"Ja\",Invulblad!M1529*Invulblad!Q1529,0)","v":0},null,null,null,null,null,{"$f":"IF(Invulblad!P1529=\"Nee\",Invulblad!M1529,0)","v":0}]
[{"$f":"IF(Invulblad!P1530=\"Ja\",Invulblad!M1530*Invulblad!Q1530,0)","v":0},null,null,null,null,null,{"$f":"IF(Invulblad!P1530=\"Nee\",Invulblad!M1530,0)","v":0}]
[{"$f":"IF(Invulblad!P1531=\"Ja\",Invulblad!M1531*Invulblad!Q1531,0)","v":0},null,null,null,null,null,{"$f":"IF(Invulblad!P1531=\"Nee\",Invulblad!M1531,0)","v":0}]
[{"$f":"IF(Invulblad!P1532=\"Ja\",Invulblad!M1532*Invulblad!Q1532,0)","v":0},null,null,null,null,null,{"$f":"IF(Invulblad!P1532=\"Nee\",Invulblad!M1532,0)","v":0}]
[{"$f":"IF(Invulblad!P1533=\"Ja\",Invulblad!M1533*Invulblad!Q1533,0)","v":0},null,null,null,null,null,{"$f":"IF(Invulblad!P1533=\"Nee\",Invulblad!M1533,0)","v":0}]
[{"$f":"IF(Invulblad!P1534=\"Ja\",Invulblad!M1534*Invulblad!Q1534,0)","v":0},null,null,null,null,null,{"$f":"IF(Invulblad!P1534=\"Nee\",Invulblad!M1534,0)","v":0}]
[{"$f":"IF(Invulblad!P1535=\"Ja\",Invulblad!M1535*Invulblad!Q1535,0)","v":0},null,null,null,null,null,{"$f":"IF(Invulblad!P1535=\"Nee\",Invulblad!M1535,0)","v":0}]
[{"$f":"IF(Invulblad!P1536=\"Ja\",Invulblad!M1536*Invulblad!Q1536,0)","v":0},null,null,null,null,null,{"$f":"IF(Invulblad!P1536=\"Nee\",Invulblad!M1536,0)","v":0}]
[{"$f":"IF(Invulblad!P1537=\"Ja\",Invulblad!M1537*Invulblad!Q1537,0)","v":0},null,null,null,null,null,{"$f":"IF(Invulblad!P1537=\"Nee\",Invulblad!M1537,0)","v":0}]
[{"$f":"IF(Invulblad!P1538=\"Ja\",Invulblad!M1538*Invulblad!Q1538,0)","v":0},null,null,null,null,null,{"$f":"IF(Invulblad!P1538=\"Nee\",Invulblad!M1538,0)","v":0}]
[{"$f":"IF(Invulblad!P1539=\"Ja\",Invulblad!M1539*Invulblad!Q1539,0)","v":0},null,null,null,null,null,{"$f":"IF(Invulblad!P1539=\"Nee\",Invulblad!M1539,0)","v":0}]
[{"$f":"IF(Invulblad!P1540=\"Ja\",Invulblad!M1540*Invulblad!Q1540,0)","v":0},null,null,null,null,null,{"$f":"IF(Invulblad!P1540=\"Nee\",Invulblad!M1540,0)","v":0}]
[{"$f":"IF(Invulblad!P1541=\"Ja\",Invulblad!M1541*Invulblad!Q1541,0)","v":0},null,null,null,null,null,{"$f":"IF(Invulblad!P1541=\"Nee\",Invulblad!M1541,0)","v":0}]
[{"$f":"IF(Invulblad!P1542=\"Ja\",Invulblad!M1542*Invulblad!Q1542,0)","v":0},null,null,null,null,null,{"$f":"IF(Invulblad!P1542=\"Nee\",Invulblad!M1542,0)","v":0}]
[{"$f":"IF(Invulblad!P1543=\"Ja\",Invulblad!M1543*Invulblad!Q1543,0)","v":0},null,null,null,null,null,{"$f":"IF(Invulblad!P1543=\"Nee\",Invulblad!M1543,0)","v":0}]
[{"$f":"IF(Invulblad!P1544=\"Ja\",Invulblad!M1544*Invulblad!Q1544,0)","v":0},null,null,null,null,null,{"$f":"IF(Invulblad!P1544=\"Nee\",Invulblad!M1544,0)","v":0}]
[{"$f":"IF(Invulblad!P1545=\"Ja\",Invulblad!M1545*Invulblad!Q1545,0)","v":0},null,null,null,null,null,{"$f":"IF(Invulblad!P1545=\"Nee\",Invulblad!M1545,0)","v":0}]
[{"$f":"IF(Invulblad!P1546=\"Ja\",Invulblad!M1546*Invulblad!Q1546,0)","v":0},null,null,null,null,null,{"$f":"IF(Invulblad!P1546=\"Nee\",Invulblad!M1546,0)","v":0}]
[{"$f":"IF(Invulblad!P1547=\"Ja\",Invulblad!M1547*Invulblad!Q1547,0)","v":0},null,null,null,null,null,{"$f":"IF(Invulblad!P1547=\"Nee\",Invulblad!M1547,0)","v":0}]
[{"$f":"IF(Invulblad!P1548=\"Ja\",Invulblad!M1548*Invulblad!Q1548,0)","v":0},null,null,null,null,null,{"$f":"IF(Invulblad!P1548=\"Nee\",Invulblad!M1548,0)","v":0}]
[{"$f":"IF(Invulblad!P1549=\"Ja\",Invulblad!M1549*Invulblad!Q1549,0)","v":0},null,null,null,null,null,{"$f":"IF(Invulblad!P1549=\"Nee\",Invulblad!M1549,0)","v":0}]
[{"$f":"IF(Invulblad!P1550=\"Ja\",Invulblad!M1550*Invulblad!Q1550,0)","v":0},null,null,null,null,null,{"$f":"IF(Invulblad!P1550=\"Nee\",Invulblad!M1550,0)","v":0}]
[{"$f":"IF(Invulblad!P1551=\"Ja\",Invulblad!M1551*Invulblad!Q1551,0)","v":0},null,null,null,null,null,{"$f":"IF(Invulblad!P1551=\"Nee\",Invulblad!M1551,0)","v":0}]
[{"$f":"IF(Invulblad!P1552=\"Ja\",Invulblad!M1552*Invulblad!Q1552,0)","v":0},null,null,null,null,null,{"$f":"IF(Invulblad!P1552=\"Nee\",Invulblad!M1552,0)","v":0}]
[{"$f":"IF(Invulblad!P1553=\"Ja\",Invulblad!M1553*Invulblad!Q1553,0)","v":0},null,null,null,null,null,{"$f":"IF(Invulblad!P1553=\"Nee\",Invulblad!M1553,0)","v":0}]
[{"$f":"IF(Invulblad!P1554=\"Ja\",Invulblad!M1554*Invulblad!Q1554,0)","v":0},null,null,null,null,null,{"$f":"IF(Invulblad!P1554=\"Nee\",Invulblad!M1554,0)","v":0}]
[{"$f":"IF(Invulblad!P1555=\"Ja\",Invulblad!M1555*Invulblad!Q1555,0)","v":0},null,null,null,null,null,{"$f":"IF(Invulblad!P1555=\"Nee\",Invulblad!M1555,0)","v":0}]
[{"$f":"IF(Invulblad!P1556=\"Ja\",Invulblad!M1556*Invulblad!Q1556,0)","v":0},null,null,null,null,null,{"$f":"IF(Invulblad!P1556=\"Nee\",Invulblad!M1556,0)","v":0}]
[{"$f":"IF(Invulblad!P1557=\"Ja\",Invulblad!M1557*Invulblad!Q1557,0)","v":0},null,null,null,null,null,{"$f":"IF(Invulblad!P1557=\"Nee\",Invulblad!M1557,0)","v":0}]
[{"$f":"IF(Invulblad!P1558=\"Ja\",Invulblad!M1558*Invulblad!Q1558,0)","v":0},null,null,null,null,null,{"$f":"IF(Invulblad!P1558=\"Nee\",Invulblad!M1558,0)","v":0}]
[{"$f":"IF(Invulblad!P1559=\"Ja\",Invulblad!M1559*Invulblad!Q1559,0)","v":0},null,null,null,null,null,{"$f":"IF(Invulblad!P1559=\"Nee\",Invulblad!M1559,0)","v":0}]
[{"$f":"IF(Invulblad!P1560=\"Ja\",Invulblad!M1560*Invulblad!Q1560,0)","v":0},null,null,null,null,null,{"$f":"IF(Invulblad!P1560=\"Nee\",Invulblad!M1560,0)","v":0}]
[{"$f":"IF(Invulblad!P1561=\"Ja\",Invulblad!M1561*Invulblad!Q1561,0)","v":0},null,null,null,null,null,{"$f":"IF(Invulblad!P1561=\"Nee\",Invulblad!M1561,0)","v":0}]
[{"$f":"IF(Invulblad!P1562=\"Ja\",Invulblad!M1562*Invulblad!Q1562,0)","v":0},null,null,null,null,null,{"$f":"IF(Invulblad!P1562=\"Nee\",Invulblad!M1562,0)","v":0}]
[{"$f":"IF(Invulblad!P1563=\"Ja\",Invulblad!M1563*Invulblad!Q1563,0)","v":0},null,null,null,null,null,{"$f":"IF(Invulblad!P1563=\"Nee\",Invulblad!M1563,0)","v":0}]
[{"$f":"IF(Invulblad!P1564=\"Ja\",Invulblad!M1564*Invulblad!Q1564,0)","v":0},null,null,null,null,null,{"$f":"IF(Invulblad!P1564=\"Nee\",Invulblad!M1564,0)","v":0}]
[{"$f":"IF(Invulblad!P1565=\"Ja\",Invulblad!M1565*Invulblad!Q1565,0)","v":0},null,null,null,null,null,{"$f":"IF(Invulblad!P1565=\"Nee\",Invulblad!M1565,0)","v":0}]
[{"$f":"IF(Invulblad!P1566=\"Ja\",Invulblad!M1566*Invulblad!Q1566,0)","v":0},null,null,null,null,null,{"$f":"IF(Invulblad!P1566=\"Nee\",Invulblad!M1566,0)","v":0}]
[{"$f":"IF(Invulblad!P1567=\"Ja\",Invulblad!M1567*Invulblad!Q1567,0)","v":0},null,null,null,null,null,{"$f":"IF(Invulblad!P1567=\"Nee\",Invulblad!M1567,0)","v":0}]
[{"$f":"IF(Invulblad!P1568=\"Ja\",Invulblad!M1568*Invulblad!Q1568,0)","v":0},null,null,null,null,null,{"$f":"IF(Invulblad!P1568=\"Nee\",Invulblad!M1568,0)","v":0}]
[{"$f":"IF(Invulblad!P1569=\"Ja\",Invulblad!M1569*Invulblad!Q1569,0)","v":0},null,null,null,null,null,{"$f":"IF(Invulblad!P1569=\"Nee\",Invulblad!M1569,0)","v":0}]
[{"$f":"IF(Invulblad!P1570=\"Ja\",Invulblad!M1570*Invulblad!Q1570,0)","v":0},null,null,null,null,null,{"$f":"IF(Invulblad!P1570=\"Nee\",Invulblad!M1570,0)","v":0}]
[{"$f":"IF(Invulblad!P1571=\"Ja\",Invulblad!M1571*Invulblad!Q1571,0)","v":0},null,null,null,null,null,{"$f":"IF(Invulblad!P1571=\"Nee\",Invulblad!M1571,0)","v":0}]
[{"$f":"IF(Invulblad!P1572=\"Ja\",Invulblad!M1572*Invulblad!Q1572,0)","v":0},null,null,null,null,null,{"$f":"IF(Invulblad!P1572=\"Nee\",Invulblad!M1572,0)","v":0}]
[{"$f":"IF(Invulblad!P1573=\"Ja\",Invulblad!M1573*Invulblad!Q1573,0)","v":0},null,null,null,null,null,{"$f":"IF(Invulblad!P1573=\"Nee\",Invulblad!M1573,0)","v":0}]
[{"$f":"IF(Invulblad!P1574=\"Ja\",Invulblad!M1574*Invulblad!Q1574,0)","v":0},null,null,null,null,null,{"$f":"IF(Invulblad!P1574=\"Nee\",Invulblad!M1574,0)","v":0}]
[{"$f":"IF(Invulblad!P1575=\"Ja\",Invulblad!M1575*Invulblad!Q1575,0)","v":0},null,null,null,null,null,{"$f":"IF(Invulblad!P1575=\"Nee\",Invulblad!M1575,0)","v":0}]
[{"$f":"IF(Invulblad!P1576=\"Ja\",Invulblad!M1576*Invulblad!Q1576,0)","v":0},null,null,null,null,null,{"$f":"IF(Invulblad!P1576=\"Nee\",Invulblad!M1576,0)","v":0}]
[{"$f":"IF(Invulblad!P1577=\"Ja\",Invulblad!M1577*Invulblad!Q1577,0)","v":0},null,null,null,null,null,{"$f":"IF(Invulblad!P1577=\"Nee\",Invulblad!M1577,0)","v":0}]
[{"$f":"IF(Invulblad!P1578=\"Ja\",Invulblad!M1578*Invulblad!Q1578,0)","v":0},null,null,null,null,null,{"$f":"IF(Invulblad!P1578=\"Nee\",Invulblad!M1578,0)","v":0}]
[{"$f":"IF(Invulblad!P1579=\"Ja\",Invulblad!M1579*Invulblad!Q1579,0)","v":0},null,null,null,null,null,{"$f":"IF(Invulblad!P1579=\"Nee\",Invulblad!M1579,0)","v":0}]
[{"$f":"IF(Invulblad!P1580=\"Ja\",Invulblad!M1580*Invulblad!Q1580,0)","v":0},null,null,null,null,null,{"$f":"IF(Invulblad!P1580=\"Nee\",Invulblad!M1580,0)","v":0}]
[{"$f":"IF(Invulblad!P1581=\"Ja\",Invulblad!M1581*Invulblad!Q1581,0)","v":0},null,null,null,null,null,{"$f":"IF(Invulblad!P1581=\"Nee\",Invulblad!M1581,0)","v":0}]
[{"$f":"IF(Invulblad!P1582=\"Ja\",Invulblad!M1582*Invulblad!Q1582,0)","v":0},null,null,null,null,null,{"$f":"IF(Invulblad!P1582=\"Nee\",Invulblad!M1582,0)","v":0}]
[{"$f":"IF(Invulblad!P1583=\"Ja\",Invulblad!M1583*Invulblad!Q1583,0)","v":0},null,null,null,null,null,{"$f":"IF(Invulblad!P1583=\"Nee\",Invulblad!M1583,0)","v":0}]
[{"$f":"IF(Invulblad!P1584=\"Ja\",Invulblad!M1584*Invulblad!Q1584,0)","v":0},null,null,null,null,null,{"$f":"IF(Invulblad!P1584=\"Nee\",Invulblad!M1584,0)","v":0}]
[{"$f":"IF(Invulblad!P1585=\"Ja\",Invulblad!M1585*Invulblad!Q1585,0)","v":0},null,null,null,null,null,{"$f":"IF(Invulblad!P1585=\"Nee\",Invulblad!M1585,0)","v":0}]
[{"$f":"IF(Invulblad!P1586=\"Ja\",Invulblad!M1586*Invulblad!Q1586,0)","v":0},null,null,null,null,null,{"$f":"IF(Invulblad!P1586=\"Nee\",Invulblad!M1586,0)","v":0}]
[{"$f":"IF(Invulblad!P1587=\"Ja\",Invulblad!M1587*Invulblad!Q1587,0)","v":0},null,null,null,null,null,{"$f":"IF(Invulblad!P1587=\"Nee\",Invulblad!M1587,0)","v":0}]
[{"$f":"IF(Invulblad!P1588=\"Ja\",Invulblad!M1588*Invulblad!Q1588,0)","v":0},null,null,null,null,null,{"$f":"IF(Invulblad!P1588=\"Nee\",Invulblad!M1588,0)","v":0}]
[{"$f":"IF(Invulblad!P1589=\"Ja\",Invulblad!M1589*Invulblad!Q1589,0)","v":0},null,null,null,null,null,{"$f":"IF(Invulblad!P1589=\"Nee\",Invulblad!M1589,0)","v":0}]
[{"$f":"IF(Invulblad!P1590=\"Ja\",Invulblad!M1590*Invulblad!Q1590,0)","v":0},null,null,null,null,null,{"$f":"IF(Invulblad!P1590=\"Nee\",Invulblad!M1590,0)","v":0}]
[{"$f":"IF(Invulblad!P1591=\"Ja\",Invulblad!M1591*Invulblad!Q1591,0)","v":0},null,null,null,null,null,{"$f":"IF(Invulblad!P1591=\"Nee\",Invulblad!M1591,0)","v":0}]
[{"$f":"IF(Invulblad!P1592=\"Ja\",Invulblad!M1592*Invulblad!Q1592,0)","v":0},null,null,null,null,null,{"$f":"IF(Invulblad!P1592=\"Nee\",Invulblad!M1592,0)","v":0}]
[{"$f":"IF(Invulblad!P1593=\"Ja\",Invulblad!M1593*Invulblad!Q1593,0)","v":0},null,null,null,null,null,{"$f":"IF(Invulblad!P1593=\"Nee\",Invulblad!M1593,0)","v":0}]
[{"$f":"IF(Invulblad!P1594=\"Ja\",Invulblad!M1594*Invulblad!Q1594,0)","v":0},null,null,null,null,null,{"$f":"IF(Invulblad!P1594=\"Nee\",Invulblad!M1594,0)","v":0}]
[{"$f":"IF(Invulblad!P1595=\"Ja\",Invulblad!M1595*Invulblad!Q1595,0)","v":0},null,null,null,null,null,{"$f":"IF(Invulblad!P1595=\"Nee\",Invulblad!M1595,0)","v":0}]
[{"$f":"IF(Invulblad!P1596=\"Ja\",Invulblad!M1596*Invulblad!Q1596,0)","v":0},null,null,null,null,null,{"$f":"IF(Invulblad!P1596=\"Nee\",Invulblad!M1596,0)","v":0}]
[{"$f":"IF(Invulblad!P1597=\"Ja\",Invulblad!M1597*Invulblad!Q1597,0)","v":0},null,null,null,null,null,{"$f":"IF(Invulblad!P1597=\"Nee\",Invulblad!M1597,0)","v":0}]
[{"$f":"IF(Invulblad!P1598=\"Ja\",Invulblad!M1598*Invulblad!Q1598,0)","v":0},null,null,null,null,null,{"$f":"IF(Invulblad!P1598=\"Nee\",Invulblad!M1598,0)","v":0}]
[{"$f":"IF(Invulblad!P1599=\"Ja\",Invulblad!M1599*Invulblad!Q1599,0)","v":0},null,null,null,null,null,{"$f":"IF(Invulblad!P1599=\"Nee\",Invulblad!M1599,0)","v":0}]
[{"$f":"IF(Invulblad!P1600=\"Ja\",Invulblad!M1600*Invulblad!Q1600,0)","v":0},null,null,null,null,null,{"$f":"IF(Invulblad!P1600=\"Nee\",Invulblad!M1600,0)","v":0}]
[{"$f":"IF(Invulblad!P1601=\"Ja\",Invulblad!M1601*Invulblad!Q1601,0)","v":0},null,null,null,null,null,{"$f":"IF(Invulblad!P1601=\"Nee\",Invulblad!M1601,0)","v":0}]
[{"$f":"IF(Invulblad!P1602=\"Ja\",Invulblad!M1602*Invulblad!Q1602,0)","v":0},null,null,null,null,null,{"$f":"IF(Invulblad!P1602=\"Nee\",Invulblad!M1602,0)","v":0}]
[{"$f":"IF(Invulblad!P1603=\"Ja\",Invulblad!M1603*Invulblad!Q1603,0)","v":0},null,null,null,null,null,{"$f":"IF(Invulblad!P1603=\"Nee\",Invulblad!M1603,0)","v":0}]
[{"$f":"IF(Invulblad!P1604=\"Ja\",Invulblad!M1604*Invulblad!Q1604,0)","v":0},null,null,null,null,null,{"$f":"IF(Invulblad!P1604=\"Nee\",Invulblad!M1604,0)","v":0}]
[{"$f":"IF(Invulblad!P1605=\"Ja\",Invulblad!M1605*Invulblad!Q1605,0)","v":0},null,null,null,null,null,{"$f":"IF(Invulblad!P1605=\"Nee\",Invulblad!M1605,0)","v":0}]
[{"$f":"IF(Invulblad!P1606=\"Ja\",Invulblad!M1606*Invulblad!Q1606,0)","v":0},null,null,null,null,null,{"$f":"IF(Invulblad!P1606=\"Nee\",Invulblad!M1606,0)","v":0}]
[{"$f":"IF(Invulblad!P1607=\"Ja\",Invulblad!M1607*Invulblad!Q1607,0)","v":0},null,null,null,null,null,{"$f":"IF(Invulblad!P1607=\"Nee\",Invulblad!M1607,0)","v":0}]
[{"$f":"IF(Invulblad!P1608=\"Ja\",Invulblad!M1608*Invulblad!Q1608,0)","v":0},null,null,null,null,null,{"$f":"IF(Invulblad!P1608=\"Nee\",Invulblad!M1608,0)","v":0}]
[{"$f":"IF(Invulblad!P1609=\"Ja\",Invulblad!M1609*Invulblad!Q1609,0)","v":0},null,null,null,null,null,{"$f":"IF(Invulblad!P1609=\"Nee\",Invulblad!M1609,0)","v":0}]
[{"$f":"IF(Invulblad!P1610=\"Ja\",Invulblad!M1610*Invulblad!Q1610,0)","v":0},null,null,null,null,null,{"$f":"IF(Invulblad!P1610=\"Nee\",Invulblad!M1610,0)","v":0}]
[{"$f":"IF(Invulblad!P1611=\"Ja\",Invulblad!M1611*Invulblad!Q1611,0)","v":0},null,null,null,null,null,{"$f":"IF(Invulblad!P1611=\"Nee\",Invulblad!M1611,0)","v":0}]
[{"$f":"IF(Invulblad!P1612=\"Ja\",Invulblad!M1612*Invulblad!Q1612,0)","v":0},null,null,null,null,null,{"$f":"IF(Invulblad!P1612=\"Nee\",Invulblad!M1612,0)","v":0}]
[{"$f":"IF(Invulblad!P1613=\"Ja\",Invulblad!M1613*Invulblad!Q1613,0)","v":0},null,null,null,null,null,{"$f":"IF(Invulblad!P1613=\"Nee\",Invulblad!M1613,0)","v":0}]
[{"$f":"IF(Invulblad!P1614=\"Ja\",Invulblad!M1614*Invulblad!Q1614,0)","v":0},null,null,null,null,null,{"$f":"IF(Invulblad!P1614=\"Nee\",Invulblad!M1614,0)","v":0}]
[{"$f":"IF(Invulblad!P1615=\"Ja\",Invulblad!M1615*Invulblad!Q1615,0)","v":0},null,null,null,null,null,{"$f":"IF(Invulblad!P1615=\"Nee\",Invulblad!M1615,0)","v":0}]
[{"$f":"IF(Invulblad!P1616=\"Ja\",Invulblad!M1616*Invulblad!Q1616,0)","v":0},null,null,null,null,null,{"$f":"IF(Invulblad!P1616=\"Nee\",Invulblad!M1616,0)","v":0}]
[{"$f":"IF(Invulblad!P1617=\"Ja\",Invulblad!M1617*Invulblad!Q1617,0)","v":0},null,null,null,null,null,{"$f":"IF(Invulblad!P1617=\"Nee\",Invulblad!M1617,0)","v":0}]
[{"$f":"IF(Invulblad!P1618=\"Ja\",Invulblad!M1618*Invulblad!Q1618,0)","v":0},null,null,null,null,null,{"$f":"IF(Invulblad!P1618=\"Nee\",Invulblad!M1618,0)","v":0}]
[{"$f":"IF(Invulblad!P1619=\"Ja\",Invulblad!M1619*Invulblad!Q1619,0)","v":0},null,null,null,null,null,{"$f":"IF(Invulblad!P1619=\"Nee\",Invulblad!M1619,0)","v":0}]
[{"$f":"IF(Invulblad!P1620=\"Ja\",Invulblad!M1620*Invulblad!Q1620,0)","v":0},null,null,null,null,null,{"$f":"IF(Invulblad!P1620=\"Nee\",Invulblad!M1620,0)","v":0}]
[{"$f":"IF(Invulblad!P1621=\"Ja\",Invulblad!M1621*Invulblad!Q1621,0)","v":0},null,null,null,null,null,{"$f":"IF(Invulblad!P1621=\"Nee\",Invulblad!M1621,0)","v":0}]
[{"$f":"IF(Invulblad!P1622=\"Ja\",Invulblad!M1622*Invulblad!Q1622,0)","v":0},null,null,null,null,null,{"$f":"IF(Invulblad!P1622=\"Nee\",Invulblad!M1622,0)","v":0}]
[{"$f":"IF(Invulblad!P1623=\"Ja\",Invulblad!M1623*Invulblad!Q1623,0)","v":0},null,null,null,null,null,{"$f":"IF(Invulblad!P1623=\"Nee\",Invulblad!M1623,0)","v":0}]
[{"$f":"IF(Invulblad!P1624=\"Ja\",Invulblad!M1624*Invulblad!Q1624,0)","v":0},null,null,null,null,null,{"$f":"IF(Invulblad!P1624=\"Nee\",Invulblad!M1624,0)","v":0}]
[{"$f":"IF(Invulblad!P1625=\"Ja\",Invulblad!M1625*Invulblad!Q1625,0)","v":0},null,null,null,null,null,{"$f":"IF(Invulblad!P1625=\"Nee\",Invulblad!M1625,0)","v":0}]
[{"$f":"IF(Invulblad!P1626=\"Ja\",Invulblad!M1626*Invulblad!Q1626,0)","v":0},null,null,null,null,null,{"$f":"IF(Invulblad!P1626=\"Nee\",Invulblad!M1626,0)","v":0}]
[{"$f":"IF(Invulblad!P1627=\"Ja\",Invulblad!M1627*Invulblad!Q1627,0)","v":0},null,null,null,null,null,{"$f":"IF(Invulblad!P1627=\"Nee\",Invulblad!M1627,0)","v":0}]
[{"$f":"IF(Invulblad!P1628=\"Ja\",Invulblad!M1628*Invulblad!Q1628,0)","v":0},null,null,null,null,null,{"$f":"IF(Invulblad!P1628=\"Nee\",Invulblad!M1628,0)","v":0}]
[{"$f":"IF(Invulblad!P1629=\"Ja\",Invulblad!M1629*Invulblad!Q1629,0)","v":0},null,null,null,null,null,{"$f":"IF(Invulblad!P1629=\"Nee\",Invulblad!M1629,0)","v":0}]
[{"$f":"IF(Invulblad!P1630=\"Ja\",Invulblad!M1630*Invulblad!Q1630,0)","v":0},null,null,null,null,null,{"$f":"IF(Invulblad!P1630=\"Nee\",Invulblad!M1630,0)","v":0}]
[{"$f":"IF(Invulblad!P1631=\"Ja\",Invulblad!M1631*Invulblad!Q1631,0)","v":0},null,null,null,null,null,{"$f":"IF(Invulblad!P1631=\"Nee\",Invulblad!M1631,0)","v":0}]
[{"$f":"IF(Invulblad!P1632=\"Ja\",Invulblad!M1632*Invulblad!Q1632,0)","v":0},null,null,null,null,null,{"$f":"IF(Invulblad!P1632=\"Nee\",Invulblad!M1632,0)","v":0}]
[{"$f":"IF(Invulblad!P1633=\"Ja\",Invulblad!M1633*Invulblad!Q1633,0)","v":0},null,null,null,null,null,{"$f":"IF(Invulblad!P1633=\"Nee\",Invulblad!M1633,0)","v":0}]
[{"$f":"IF(Invulblad!P1634=\"Ja\",Invulblad!M1634*Invulblad!Q1634,0)","v":0},null,null,null,null,null,{"$f":"IF(Invulblad!P1634=\"Nee\",Invulblad!M1634,0)","v":0}]
[{"$f":"IF(Invulblad!P1635=\"Ja\",Invulblad!M1635*Invulblad!Q1635,0)","v":0},null,null,null,null,null,{"$f":"IF(Invulblad!P1635=\"Nee\",Invulblad!M1635,0)","v":0}]
[{"$f":"IF(Invulblad!P1636=\"Ja\",Invulblad!M1636*Invulblad!Q1636,0)","v":0},null,null,null,null,null,{"$f":"IF(Invulblad!P1636=\"Nee\",Invulblad!M1636,0)","v":0}]
[{"$f":"IF(Invulblad!P1637=\"Ja\",Invulblad!M1637*Invulblad!Q1637,0)","v":0},null,null,null,null,null,{"$f":"IF(Invulblad!P1637=\"Nee\",Invulblad!M1637,0)","v":0}]
[{"$f":"IF(Invulblad!P1638=\"Ja\",Invulblad!M1638*Invulblad!Q1638,0)","v":0},null,null,null,null,null,{"$f":"IF(Invulblad!P1638=\"Nee\",Invulblad!M1638,0)","v":0}]
[{"$f":"IF(Invulblad!P1639=\"Ja\",Invulblad!M1639*Invulblad!Q1639,0)","v":0},null,null,null,null,null,{"$f":"IF(Invulblad!P1639=\"Nee\",Invulblad!M1639,0)","v":0}]
[{"$f":"IF(Invulblad!P1640=\"Ja\",Invulblad!M1640*Invulblad!Q1640,0)","v":0},null,null,null,null,null,{"$f":"IF(Invulblad!P1640=\"Nee\",Invulblad!M1640,0)","v":0}]
[{"$f":"IF(Invulblad!P1641=\"Ja\",Invulblad!M1641*Invulblad!Q1641,0)","v":0},null,null,null,null,null,{"$f":"IF(Invulblad!P1641=\"Nee\",Invulblad!M1641,0)","v":0}]
[{"$f":"IF(Invulblad!P1642=\"Ja\",Invulblad!M1642*Invulblad!Q1642,0)","v":0},null,null,null,null,null,{"$f":"IF(Invulblad!P1642=\"Nee\",Invulblad!M1642,0)","v":0}]
[{"$f":"IF(Invulblad!P1643=\"Ja\",Invulblad!M1643*Invulblad!Q1643,0)","v":0},null,null,null,null,null,{"$f":"IF(Invulblad!P1643=\"Nee\",Invulblad!M1643,0)","v":0}]
[{"$f":"IF(Invulblad!P1644=\"Ja\",Invulblad!M1644*Invulblad!Q1644,0)","v":0},null,null,null,null,null,{"$f":"IF(Invulblad!P1644=\"Nee\",Invulblad!M1644,0)","v":0}]
[{"$f":"IF(Invulblad!P1645=\"Ja\",Invulblad!M1645*Invulblad!Q1645,0)","v":0},null,null,null,null,null,{"$f":"IF(Invulblad!P1645=\"Nee\",Invulblad!M1645,0)","v":0}]
[{"$f":"IF(Invulblad!P1646=\"Ja\",Invulblad!M1646*Invulblad!Q1646,0)","v":0},null,null,null,null,null,{"$f":"IF(Invulblad!P1646=\"Nee\",Invulblad!M1646,0)","v":0}]
[{"$f":"IF(Invulblad!P1647=\"Ja\",Invulblad!M1647*Invulblad!Q1647,0)","v":0},null,null,null,null,null,{"$f":"IF(Invulblad!P1647=\"Nee\",Invulblad!M1647,0)","v":0}]
[{"$f":"IF(Invulblad!P1648=\"Ja\",Invulblad!M1648*Invulblad!Q1648,0)","v":0},null,null,null,null,null,{"$f":"IF(Invulblad!P1648=\"Nee\",Invulblad!M1648,0)","v":0}]
[{"$f":"IF(Invulblad!P1649=\"Ja\",Invulblad!M1649*Invulblad!Q1649,0)","v":0},null,null,null,null,null,{"$f":"IF(Invulblad!P1649=\"Nee\",Invulblad!M1649,0)","v":0}]
[{"$f":"IF(Invulblad!P1650=\"Ja\",Invulblad!M1650*Invulblad!Q1650,0)","v":0},null,null,null,null,null,{"$f":"IF(Invulblad!P1650=\"Nee\",Invulblad!M1650,0)","v":0}]
[{"$f":"IF(Invulblad!P1651=\"Ja\",Invulblad!M1651*Invulblad!Q1651,0)","v":0},null,null,null,null,null,{"$f":"IF(Invulblad!P1651=\"Nee\",Invulblad!M1651,0)","v":0}]
[{"$f":"IF(Invulblad!P1652=\"Ja\",Invulblad!M1652*Invulblad!Q1652,0)","v":0},null,null,null,null,null,{"$f":"IF(Invulblad!P1652=\"Nee\",Invulblad!M1652,0)","v":0}]
[{"$f":"IF(Invulblad!P1653=\"Ja\",Invulblad!M1653*Invulblad!Q1653,0)","v":0},null,null,null,null,null,{"$f":"IF(Invulblad!P1653=\"Nee\",Invulblad!M1653,0)","v":0}]
[{"$f":"IF(Invulblad!P1654=\"Ja\",Invulblad!M1654*Invulblad!Q1654,0)","v":0},null,null,null,null,null,{"$f":"IF(Invulblad!P1654=\"Nee\",Invulblad!M1654,0)","v":0}]
[{"$f":"IF(Invulblad!P1655=\"Ja\",Invulblad!M1655*Invulblad!Q1655,0)","v":0},null,null,null,null,null,{"$f":"IF(Invulblad!P1655=\"Nee\",Invulblad!M1655,0)","v":0}]
[{"$f":"IF(Invulblad!P1656=\"Ja\",Invulblad!M1656*Invulblad!Q1656,0)","v":0},null,null,null,null,null,{"$f":"IF(Invulblad!P1656=\"Nee\",Invulblad!M1656,0)","v":0}]
[{"$f":"IF(Invulblad!P1657=\"Ja\",Invulblad!M1657*Invulblad!Q1657,0)","v":0},null,null,null,null,null,{"$f":"IF(Invulblad!P1657=\"Nee\",Invulblad!M1657,0)","v":0}]
[{"$f":"IF(Invulblad!P1658=\"Ja\",Invulblad!M1658*Invulblad!Q1658,0)","v":0},null,null,null,null,null,{"$f":"IF(Invulblad!P1658=\"Nee\",Invulblad!M1658,0)","v":0}]
[{"$f":"IF(Invulblad!P1659=\"Ja\",Invulblad!M1659*Invulblad!Q1659,0)","v":0},null,null,null,null,null,{"$f":"IF(Invulblad!P1659=\"Nee\",Invulblad!M1659,0)","v":0}]
[{"$f":"IF(Invulblad!P1660=\"Ja\",Invulblad!M1660*Invulblad!Q1660,0)","v":0},null,null,null,null,null,{"$f":"IF(Invulblad!P1660=\"Nee\",Invulblad!M1660,0)","v":0}]
[{"$f":"IF(Invulblad!P1661=\"Ja\",Invulblad!M1661*Invulblad!Q1661,0)","v":0},null,null,null,null,null,{"$f":"IF(Invulblad!P1661=\"Nee\",Invulblad!M1661,0)","v":0}]
[{"$f":"IF(Invulblad!P1662=\"Ja\",Invulblad!M1662*Invulblad!Q1662,0)","v":0},null,null,null,null,null,{"$f":"IF(Invulblad!P1662=\"Nee\",Invulblad!M1662,0)","v":0}]
[{"$f":"IF(Invulblad!P1663=\"Ja\",Invulblad!M1663*Invulblad!Q1663,0)","v":0},null,null,null,null,null,{"$f":"IF(Invulblad!P1663=\"Nee\",Invulblad!M1663,0)","v":0}]
[{"$f":"IF(Invulblad!P1664=\"Ja\",Invulblad!M1664*Invulblad!Q1664,0)","v":0},null,null,null,null,null,{"$f":"IF(Invulblad!P1664=\"Nee\",Invulblad!M1664,0)","v":0}]
[{"$f":"IF(Invulblad!P1665=\"Ja\",Invulblad!M1665*Invulblad!Q1665,0)","v":0},null,null,null,null,null,{"$f":"IF(Invulblad!P1665=\"Nee\",Invulblad!M1665,0)","v":0}]
[{"$f":"IF(Invulblad!P1666=\"Ja\",Invulblad!M1666*Invulblad!Q1666,0)","v":0},null,null,null,null,null,{"$f":"IF(Invulblad!P1666=\"Nee\",Invulblad!M1666,0)","v":0}]
[{"$f":"IF(Invulblad!P1667=\"Ja\",Invulblad!M1667*Invulblad!Q1667,0)","v":0},null,null,null,null,null,{"$f":"IF(Invulblad!P1667=\"Nee\",Invulblad!M1667,0)","v":0}]
[{"$f":"IF(Invulblad!P1668=\"Ja\",Invulblad!M1668*Invulblad!Q1668,0)","v":0},null,null,null,null,null,{"$f":"IF(Invulblad!P1668=\"Nee\",Invulblad!M1668,0)","v":0}]
[{"$f":"IF(Invulblad!P1669=\"Ja\",Invulblad!M1669*Invulblad!Q1669,0)","v":0},null,null,null,null,null,{"$f":"IF(Invulblad!P1669=\"Nee\",Invulblad!M1669,0)","v":0}]
[{"$f":"IF(Invulblad!P1670=\"Ja\",Invulblad!M1670*Invulblad!Q1670,0)","v":0},null,null,null,null,null,{"$f":"IF(Invulblad!P1670=\"Nee\",Invulblad!M1670,0)","v":0}]
[{"$f":"IF(Invulblad!P1671=\"Ja\",Invulblad!M1671*Invulblad!Q1671,0)","v":0},null,null,null,null,null,{"$f":"IF(Invulblad!P1671=\"Nee\",Invulblad!M1671,0)","v":0}]
[{"$f":"IF(Invulblad!P1672=\"Ja\",Invulblad!M1672*Invulblad!Q1672,0)","v":0},null,null,null,null,null,{"$f":"IF(Invulblad!P1672=\"Nee\",Invulblad!M1672,0)","v":0}]
[{"$f":"IF(Invulblad!P1673=\"Ja\",Invulblad!M1673*Invulblad!Q1673,0)","v":0},null,null,null,null,null,{"$f":"IF(Invulblad!P1673=\"Nee\",Invulblad!M1673,0)","v":0}]
[{"$f":"IF(Invulblad!P1674=\"Ja\",Invulblad!M1674*Invulblad!Q1674,0)","v":0},null,null,null,null,null,{"$f":"IF(Invulblad!P1674=\"Nee\",Invulblad!M1674,0)","v":0}]
[{"$f":"IF(Invulblad!P1675=\"Ja\",Invulblad!M1675*Invulblad!Q1675,0)","v":0},null,null,null,null,null,{"$f":"IF(Invulblad!P1675=\"Nee\",Invulblad!M1675,0)","v":0}]
[{"$f":"IF(Invulblad!P1676=\"Ja\",Invulblad!M1676*Invulblad!Q1676,0)","v":0},null,null,null,null,null,{"$f":"IF(Invulblad!P1676=\"Nee\",Invulblad!M1676,0)","v":0}]
[{"$f":"IF(Invulblad!P1677=\"Ja\",Invulblad!M1677*Invulblad!Q1677,0)","v":0},null,null,null,null,null,{"$f":"IF(Invulblad!P1677=\"Nee\",Invulblad!M1677,0)","v":0}]
[{"$f":"IF(Invulblad!P1678=\"Ja\",Invulblad!M1678*Invulblad!Q1678,0)","v":0},null,null,null,null,null,{"$f":"IF(Invulblad!P1678=\"Nee\",Invulblad!M1678,0)","v":0}]
[{"$f":"IF(Invulblad!P1679=\"Ja\",Invulblad!M1679*Invulblad!Q1679,0)","v":0},null,null,null,null,null,{"$f":"IF(Invulblad!P1679=\"Nee\",Invulblad!M1679,0)","v":0}]
[{"$f":"IF(Invulblad!P1680=\"Ja\",Invulblad!M1680*Invulblad!Q1680,0)","v":0},null,null,null,null,null,{"$f":"IF(Invulblad!P1680=\"Nee\",Invulblad!M1680,0)","v":0}]
[{"$f":"IF(Invulblad!P1681=\"Ja\",Invulblad!M1681*Invulblad!Q1681,0)","v":0},null,null,null,null,null,{"$f":"IF(Invulblad!P1681=\"Nee\",Invulblad!M1681,0)","v":0}]
[{"$f":"IF(Invulblad!P1682=\"Ja\",Invulblad!M1682*Invulblad!Q1682,0)","v":0},null,null,null,null,null,{"$f":"IF(Invulblad!P1682=\"Nee\",Invulblad!M1682,0)","v":0}]
[{"$f":"IF(Invulblad!P1683=\"Ja\",Invulblad!M1683*Invulblad!Q1683,0)","v":0},null,null,null,null,null,{"$f":"IF(Invulblad!P1683=\"Nee\",Invulblad!M1683,0)","v":0}]
[{"$f":"IF(Invulblad!P1684=\"Ja\",Invulblad!M1684*Invulblad!Q1684,0)","v":0},null,null,null,null,null,{"$f":"IF(Invulblad!P1684=\"Nee\",Invulblad!M1684,0)","v":0}]
[{"$f":"IF(Invulblad!P1685=\"Ja\",Invulblad!M1685*Invulblad!Q1685,0)","v":0},null,null,null,null,null,{"$f":"IF(Invulblad!P1685=\"Nee\",Invulblad!M1685,0)","v":0}]
[{"$f":"IF(Invulblad!P1686=\"Ja\",Invulblad!M1686*Invulblad!Q1686,0)","v":0},null,null,null,null,null,{"$f":"IF(Invulblad!P1686=\"Nee\",Invulblad!M1686,0)","v":0}]
[{"$f":"IF(Invulblad!P1687=\"Ja\",Invulblad!M1687*Invulblad!Q1687,0)","v":0},null,null,null,null,null,{"$f":"IF(Invulblad!P1687=\"Nee\",Invulblad!M1687,0)","v":0}]
[{"$f":"IF(Invulblad!P1688=\"Ja\",Invulblad!M1688*Invulblad!Q1688,0)","v":0},null,null,null,null,null,{"$f":"IF(Invulblad!P1688=\"Nee\",Invulblad!M1688,0)","v":0}]
[{"$f":"IF(Invulblad!P1689=\"Ja\",Invulblad!M1689*Invulblad!Q1689,0)","v":0},null,null,null,null,null,{"$f":"IF(Invulblad!P1689=\"Nee\",Invulblad!M1689,0)","v":0}]
[{"$f":"IF(Invulblad!P1690=\"Ja\",Invulblad!M1690*Invulblad!Q1690,0)","v":0},null,null,null,null,null,{"$f":"IF(Invulblad!P1690=\"Nee\",Invulblad!M1690,0)","v":0}]
[{"$f":"IF(Invulblad!P1691=\"Ja\",Invulblad!M1691*Invulblad!Q1691,0)","v":0},null,null,null,null,null,{"$f":"IF(Invulblad!P1691=\"Nee\",Invulblad!M1691,0)","v":0}]
[{"$f":"IF(Invulblad!P1692=\"Ja\",Invulblad!M1692*Invulblad!Q1692,0)","v":0},null,null,null,null,null,{"$f":"IF(Invulblad!P1692=\"Nee\",Invulblad!M1692,0)","v":0}]
[{"$f":"IF(Invulblad!P1693=\"Ja\",Invulblad!M1693*Invulblad!Q1693,0)","v":0},null,null,null,null,null,{"$f":"IF(Invulblad!P1693=\"Nee\",Invulblad!M1693,0)","v":0}]
[{"$f":"IF(Invulblad!P1694=\"Ja\",Invulblad!M1694*Invulblad!Q1694,0)","v":0},null,null,null,null,null,{"$f":"IF(Invulblad!P1694=\"Nee\",Invulblad!M1694,0)","v":0}]
[{"$f":"IF(Invulblad!P1695=\"Ja\",Invulblad!M1695*Invulblad!Q1695,0)","v":0},null,null,null,null,null,{"$f":"IF(Invulblad!P1695=\"Nee\",Invulblad!M1695,0)","v":0}]
[{"$f":"IF(Invulblad!P1696=\"Ja\",Invulblad!M1696*Invulblad!Q1696,0)","v":0},null,null,null,null,null,{"$f":"IF(Invulblad!P1696=\"Nee\",Invulblad!M1696,0)","v":0}]
[{"$f":"IF(Invulblad!P1697=\"Ja\",Invulblad!M1697*Invulblad!Q1697,0)","v":0},null,null,null,null,null,{"$f":"IF(Invulblad!P1697=\"Nee\",Invulblad!M1697,0)","v":0}]
[{"$f":"IF(Invulblad!P1698=\"Ja\",Invulblad!M1698*Invulblad!Q1698,0)","v":0},null,null,null,null,null,{"$f":"IF(Invulblad!P1698=\"Nee\",Invulblad!M1698,0)","v":0}]
[{"$f":"IF(Invulblad!P1699=\"Ja\",Invulblad!M1699*Invulblad!Q1699,0)","v":0},null,null,null,null,null,{"$f":"IF(Invulblad!P1699=\"Nee\",Invulblad!M1699,0)","v":0}]
[{"$f":"IF(Invulblad!P1700=\"Ja\",Invulblad!M1700*Invulblad!Q1700,0)","v":0},null,null,null,null,null,{"$f":"IF(Invulblad!P1700=\"Nee\",Invulblad!M1700,0)","v":0}]
[{"$f":"IF(Invulblad!P1701=\"Ja\",Invulblad!M1701*Invulblad!Q1701,0)","v":0},null,null,null,null,null,{"$f":"IF(Invulblad!P1701=\"Nee\",Invulblad!M1701,0)","v":0}]
[{"$f":"IF(Invulblad!P1702=\"Ja\",Invulblad!M1702*Invulblad!Q1702,0)","v":0},null,null,null,null,null,{"$f":"IF(Invulblad!P1702=\"Nee\",Invulblad!M1702,0)","v":0}]
[{"$f":"IF(Invulblad!P1703=\"Ja\",Invulblad!M1703*Invulblad!Q1703,0)","v":0},null,null,null,null,null,{"$f":"IF(Invulblad!P1703=\"Nee\",Invulblad!M1703,0)","v":0}]
[{"$f":"IF(Invulblad!P1704=\"Ja\",Invulblad!M1704*Invulblad!Q1704,0)","v":0},null,null,null,null,null,{"$f":"IF(Invulblad!P1704=\"Nee\",Invulblad!M1704,0)","v":0}]
[{"$f":"IF(Invulblad!P1705=\"Ja\",Invulblad!M1705*Invulblad!Q1705,0)","v":0},null,null,null,null,null,{"$f":"IF(Invulblad!P1705=\"Nee\",Invulblad!M1705,0)","v":0}]
[{"$f":"IF(Invulblad!P1706=\"Ja\",Invulblad!M1706*Invulblad!Q1706,0)","v":0},null,null,null,null,null,{"$f":"IF(Invulblad!P1706=\"Nee\",Invulblad!M1706,0)","v":0}]
[{"$f":"IF(Invulblad!P1707=\"Ja\",Invulblad!M1707*Invulblad!Q1707,0)","v":0},null,null,null,null,null,{"$f":"IF(Invulblad!P1707=\"Nee\",Invulblad!M1707,0)","v":0}]
[{"$f":"IF(Invulblad!P1708=\"Ja\",Invulblad!M1708*Invulblad!Q1708,0)","v":0},null,null,null,null,null,{"$f":"IF(Invulblad!P1708=\"Nee\",Invulblad!M1708,0)","v":0}]
[{"$f":"IF(Invulblad!P1709=\"Ja\",Invulblad!M1709*Invulblad!Q1709,0)","v":0},null,null,null,null,null,{"$f":"IF(Invulblad!P1709=\"Nee\",Invulblad!M1709,0)","v":0}]
[{"$f":"IF(Invulblad!P1710=\"Ja\",Invulblad!M1710*Invulblad!Q1710,0)","v":0},null,null,null,null,null,{"$f":"IF(Invulblad!P1710=\"Nee\",Invulblad!M1710,0)","v":0}]
[{"$f":"IF(Invulblad!P1711=\"Ja\",Invulblad!M1711*Invulblad!Q1711,0)","v":0},null,null,null,null,null,{"$f":"IF(Invulblad!P1711=\"Nee\",Invulblad!M1711,0)","v":0}]
[{"$f":"IF(Invulblad!P1712=\"Ja\",Invulblad!M1712*Invulblad!Q1712,0)","v":0},null,null,null,null,null,{"$f":"IF(Invulblad!P1712=\"Nee\",Invulblad!M1712,0)","v":0}]
[{"$f":"IF(Invulblad!P1713=\"Ja\",Invulblad!M1713*Invulblad!Q1713,0)","v":0},null,null,null,null,null,{"$f":"IF(Invulblad!P1713=\"Nee\",Invulblad!M1713,0)","v":0}]
[{"$f":"IF(Invulblad!P1714=\"Ja\",Invulblad!M1714*Invulblad!Q1714,0)","v":0},null,null,null,null,null,{"$f":"IF(Invulblad!P1714=\"Nee\",Invulblad!M1714,0)","v":0}]
[{"$f":"IF(Invulblad!P1715=\"Ja\",Invulblad!M1715*Invulblad!Q1715,0)","v":0},null,null,null,null,null,{"$f":"IF(Invulblad!P1715=\"Nee\",Invulblad!M1715,0)","v":0}]
[{"$f":"IF(Invulblad!P1716=\"Ja\",Invulblad!M1716*Invulblad!Q1716,0)","v":0},null,null,null,null,null,{"$f":"IF(Invulblad!P1716=\"Nee\",Invulblad!M1716,0)","v":0}]
[{"$f":"IF(Invulblad!P1717=\"Ja\",Invulblad!M1717*Invulblad!Q1717,0)","v":0},null,null,null,null,null,{"$f":"IF(Invulblad!P1717=\"Nee\",Invulblad!M1717,0)","v":0}]
[{"$f":"IF(Invulblad!P1718=\"Ja\",Invulblad!M1718*Invulblad!Q1718,0)","v":0},null,null,null,null,null,{"$f":"IF(Invulblad!P1718=\"Nee\",Invulblad!M1718,0)","v":0}]
[{"$f":"IF(Invulblad!P1719=\"Ja\",Invulblad!M1719*Invulblad!Q1719,0)","v":0},null,null,null,null,null,{"$f":"IF(Invulblad!P1719=\"Nee\",Invulblad!M1719,0)","v":0}]
[{"$f":"IF(Invulblad!P1720=\"Ja\",Invulblad!M1720*Invulblad!Q1720,0)","v":0},null,null,null,null,null,{"$f":"IF(Invulblad!P1720=\"Nee\",Invulblad!M1720,0)","v":0}]
[{"$f":"IF(Invulblad!P1721=\"Ja\",Invulblad!M1721*Invulblad!Q1721,0)","v":0},null,null,null,null,null,{"$f":"IF(Invulblad!P1721=\"Nee\",Invulblad!M1721,0)","v":0}]
[{"$f":"IF(Invulblad!P1722=\"Ja\",Invulblad!M1722*Invulblad!Q1722,0)","v":0},null,null,null,null,null,{"$f":"IF(Invulblad!P1722=\"Nee\",Invulblad!M1722,0)","v":0}]
[{"$f":"IF(Invulblad!P1723=\"Ja\",Invulblad!M1723*Invulblad!Q1723,0)","v":0},null,null,null,null,null,{"$f":"IF(Invulblad!P1723=\"Nee\",Invulblad!M1723,0)","v":0}]
[{"$f":"IF(Invulblad!P1724=\"Ja\",Invulblad!M1724*Invulblad!Q1724,0)","v":0},null,null,null,null,null,{"$f":"IF(Invulblad!P1724=\"Nee\",Invulblad!M1724,0)","v":0}]
[{"$f":"IF(Invulblad!P1725=\"Ja\",Invulblad!M1725*Invulblad!Q1725,0)","v":0},null,null,null,null,null,{"$f":"IF(Invulblad!P1725=\"Nee\",Invulblad!M1725,0)","v":0}]
[{"$f":"IF(Invulblad!P1726=\"Ja\",Invulblad!M1726*Invulblad!Q1726,0)","v":0},null,null,null,null,null,{"$f":"IF(Invulblad!P1726=\"Nee\",Invulblad!M1726,0)","v":0}]
[{"$f":"IF(Invulblad!P1727=\"Ja\",Invulblad!M1727*Invulblad!Q1727,0)","v":0},null,null,null,null,null,{"$f":"IF(Invulblad!P1727=\"Nee\",Invulblad!M1727,0)","v":0}]
[{"$f":"IF(Invulblad!P1728=\"Ja\",Invulblad!M1728*Invulblad!Q1728,0)","v":0},null,null,null,null,null,{"$f":"IF(Invulblad!P1728=\"Nee\",Invulblad!M1728,0)","v":0}]
[{"$f":"IF(Invulblad!P1729=\"Ja\",Invulblad!M1729*Invulblad!Q1729,0)","v":0},null,null,null,null,null,{"$f":"IF(Invulblad!P1729=\"Nee\",Invulblad!M1729,0)","v":0}]
[{"$f":"IF(Invulblad!P1730=\"Ja\",Invulblad!M1730*Invulblad!Q1730,0)","v":0},null,null,null,null,null,{"$f":"IF(Invulblad!P1730=\"Nee\",Invulblad!M1730,0)","v":0}]
[{"$f":"IF(Invulblad!P1731=\"Ja\",Invulblad!M1731*Invulblad!Q1731,0)","v":0},null,null,null,null,null,{"$f":"IF(Invulblad!P1731=\"Nee\",Invulblad!M1731,0)","v":0}]
[{"$f":"IF(Invulblad!P1732=\"Ja\",Invulblad!M1732*Invulblad!Q1732,0)","v":0},null,null,null,null,null,{"$f":"IF(Invulblad!P1732=\"Nee\",Invulblad!M1732,0)","v":0}]
[{"$f":"IF(Invulblad!P1733=\"Ja\",Invulblad!M1733*Invulblad!Q1733,0)","v":0},null,null,null,null,null,{"$f":"IF(Invulblad!P1733=\"Nee\",Invulblad!M1733,0)","v":0}]
[{"$f":"IF(Invulblad!P1734=\"Ja\",Invulblad!M1734*Invulblad!Q1734,0)","v":0},null,null,null,null,null,{"$f":"IF(Invulblad!P1734=\"Nee\",Invulblad!M1734,0)","v":0}]
[{"$f":"IF(Invulblad!P1735=\"Ja\",Invulblad!M1735*Invulblad!Q1735,0)","v":0},null,null,null,null,null,{"$f":"IF(Invulblad!P1735=\"Nee\",Invulblad!M1735,0)","v":0}]
[{"$f":"IF(Invulblad!P1736=\"Ja\",Invulblad!M1736*Invulblad!Q1736,0)","v":0},null,null,null,null,null,{"$f":"IF(Invulblad!P1736=\"Nee\",Invulblad!M1736,0)","v":0}]
[{"$f":"IF(Invulblad!P1737=\"Ja\",Invulblad!M1737*Invulblad!Q1737,0)","v":0},null,null,null,null,null,{"$f":"IF(Invulblad!P1737=\"Nee\",Invulblad!M1737,0)","v":0}]
[{"$f":"IF(Invulblad!P1738=\"Ja\",Invulblad!M1738*Invulblad!Q1738,0)","v":0},null,null,null,null,null,{"$f":"IF(Invulblad!P1738=\"Nee\",Invulblad!M1738,0)","v":0}]
[{"$f":"IF(Invulblad!P1739=\"Ja\",Invulblad!M1739*Invulblad!Q1739,0)","v":0},null,null,null,null,null,{"$f":"IF(Invulblad!P1739=\"Nee\",Invulblad!M1739,0)","v":0}]
[{"$f":"IF(Invulblad!P1740=\"Ja\",Invulblad!M1740*Invulblad!Q1740,0)","v":0},null,null,null,null,null,{"$f":"IF(Invulblad!P1740=\"Nee\",Invulblad!M1740,0)","v":0}]
[{"$f":"IF(Invulblad!P1741=\"Ja\",Invulblad!M1741*Invulblad!Q1741,0)","v":0},null,null,null,null,null,{"$f":"IF(Invulblad!P1741=\"Nee\",Invulblad!M1741,0)","v":0}]
[{"$f":"IF(Invulblad!P1742=\"Ja\",Invulblad!M1742*Invulblad!Q1742,0)","v":0},null,null,null,null,null,{"$f":"IF(Invulblad!P1742=\"Nee\",Invulblad!M1742,0)","v":0}]
[{"$f":"IF(Invulblad!P1743=\"Ja\",Invulblad!M1743*Invulblad!Q1743,0)","v":0},null,null,null,null,null,{"$f":"IF(Invulblad!P1743=\"Nee\",Invulblad!M1743,0)","v":0}]
[{"$f":"IF(Invulblad!P1744=\"Ja\",Invulblad!M1744*Invulblad!Q1744,0)","v":0},null,null,null,null,null,{"$f":"IF(Invulblad!P1744=\"Nee\",Invulblad!M1744,0)","v":0}]
[{"$f":"IF(Invulblad!P1745=\"Ja\",Invulblad!M1745*Invulblad!Q1745,0)","v":0},null,null,null,null,null,{"$f":"IF(Invulblad!P1745=\"Nee\",Invulblad!M1745,0)","v":0}]
[{"$f":"IF(Invulblad!P1746=\"Ja\",Invulblad!M1746*Invulblad!Q1746,0)","v":0},null,null,null,null,null,{"$f":"IF(Invulblad!P1746=\"Nee\",Invulblad!M1746,0)","v":0}]
[{"$f":"IF(Invulblad!P1747=\"Ja\",Invulblad!M1747*Invulblad!Q1747,0)","v":0},null,null,null,null,null,{"$f":"IF(Invulblad!P1747=\"Nee\",Invulblad!M1747,0)","v":0}]
[{"$f":"IF(Invulblad!P1748=\"Ja\",Invulblad!M1748*Invulblad!Q1748,0)","v":0},null,null,null,null,null,{"$f":"IF(Invulblad!P1748=\"Nee\",Invulblad!M1748,0)","v":0}]
[{"$f":"IF(Invulblad!P1749=\"Ja\",Invulblad!M1749*Invulblad!Q1749,0)","v":0},null,null,null,null,null,{"$f":"IF(Invulblad!P1749=\"Nee\",Invulblad!M1749,0)","v":0}]
[{"$f":"IF(Invulblad!P1750=\"Ja\",Invulblad!M1750*Invulblad!Q1750,0)","v":0},null,null,null,null,null,{"$f":"IF(Invulblad!P1750=\"Nee\",Invulblad!M1750,0)","v":0}]
[{"$f":"IF(Invulblad!P1751=\"Ja\",Invulblad!M1751*Invulblad!Q1751,0)","v":0},null,null,null,null,null,{"$f":"IF(Invulblad!P1751=\"Nee\",Invulblad!M1751,0)","v":0}]
[{"$f":"IF(Invulblad!P1752=\"Ja\",Invulblad!M1752*Invulblad!Q1752,0)","v":0},null,null,null,null,null,{"$f":"IF(Invulblad!P1752=\"Nee\",Invulblad!M1752,0)","v":0}]
[{"$f":"IF(Invulblad!P1753=\"Ja\",Invulblad!M1753*Invulblad!Q1753,0)","v":0},null,null,null,null,null,{"$f":"IF(Invulblad!P1753=\"Nee\",Invulblad!M1753,0)","v":0}]
[{"$f":"IF(Invulblad!P1754=\"Ja\",Invulblad!M1754*Invulblad!Q1754,0)","v":0},null,null,null,null,null,{"$f":"IF(Invulblad!P1754=\"Nee\",Invulblad!M1754,0)","v":0}]
[{"$f":"IF(Invulblad!P1755=\"Ja\",Invulblad!M1755*Invulblad!Q1755,0)","v":0},null,null,null,null,null,{"$f":"IF(Invulblad!P1755=\"Nee\",Invulblad!M1755,0)","v":0}]
[{"$f":"IF(Invulblad!P1756=\"Ja\",Invulblad!M1756*Invulblad!Q1756,0)","v":0},null,null,null,null,null,{"$f":"IF(Invulblad!P1756=\"Nee\",Invulblad!M1756,0)","v":0}]
[{"$f":"IF(Invulblad!P1757=\"Ja\",Invulblad!M1757*Invulblad!Q1757,0)","v":0},null,null,null,null,null,{"$f":"IF(Invulblad!P1757=\"Nee\",Invulblad!M1757,0)","v":0}]
[{"$f":"IF(Invulblad!P1758=\"Ja\",Invulblad!M1758*Invulblad!Q1758,0)","v":0},null,null,null,null,null,{"$f":"IF(Invulblad!P1758=\"Nee\",Invulblad!M1758,0)","v":0}]
[{"$f":"IF(Invulblad!P1759=\"Ja\",Invulblad!M1759*Invulblad!Q1759,0)","v":0},null,null,null,null,null,{"$f":"IF(Invulblad!P1759=\"Nee\",Invulblad!M1759,0)","v":0}]
[{"$f":"IF(Invulblad!P1760=\"Ja\",Invulblad!M1760*Invulblad!Q1760,0)","v":0},null,null,null,null,null,{"$f":"IF(Invulblad!P1760=\"Nee\",Invulblad!M1760,0)","v":0}]
[{"$f":"IF(Invulblad!P1761=\"Ja\",Invulblad!M1761*Invulblad!Q1761,0)","v":0},null,null,null,null,null,{"$f":"IF(Invulblad!P1761=\"Nee\",Invulblad!M1761,0)","v":0}]
[{"$f":"IF(Invulblad!P1762=\"Ja\",Invulblad!M1762*Invulblad!Q1762,0)","v":0},null,null,null,null,null,{"$f":"IF(Invulblad!P1762=\"Nee\",Invulblad!M1762,0)","v":0}]
[{"$f":"IF(Invulblad!P1763=\"Ja\",Invulblad!M1763*Invulblad!Q1763,0)","v":0},null,null,null,null,null,{"$f":"IF(Invulblad!P1763=\"Nee\",Invulblad!M1763,0)","v":0}]
[{"$f":"IF(Invulblad!P1764=\"Ja\",Invulblad!M1764*Invulblad!Q1764,0)","v":0},null,null,null,null,null,{"$f":"IF(Invulblad!P1764=\"Nee\",Invulblad!M1764,0)","v":0}]
[{"$f":"IF(Invulblad!P1765=\"Ja\",Invulblad!M1765*Invulblad!Q1765,0)","v":0},null,null,null,null,null,{"$f":"IF(Invulblad!P1765=\"Nee\",Invulblad!M1765,0)","v":0}]
[{"$f":"IF(Invulblad!P1766=\"Ja\",Invulblad!M1766*Invulblad!Q1766,0)","v":0},null,null,null,null,null,{"$f":"IF(Invulblad!P1766=\"Nee\",Invulblad!M1766,0)","v":0}]
[{"$f":"IF(Invulblad!P1767=\"Ja\",Invulblad!M1767*Invulblad!Q1767,0)","v":0},null,null,null,null,null,{"$f":"IF(Invulblad!P1767=\"Nee\",Invulblad!M1767,0)","v":0}]
[{"$f":"IF(Invulblad!P1768=\"Ja\",Invulblad!M1768*Invulblad!Q1768,0)","v":0},null,null,null,null,null,{"$f":"IF(Invulblad!P1768=\"Nee\",Invulblad!M1768,0)","v":0}]
[{"$f":"IF(Invulblad!P1769=\"Ja\",Invulblad!M1769*Invulblad!Q1769,0)","v":0},null,null,null,null,null,{"$f":"IF(Invulblad!P1769=\"Nee\",Invulblad!M1769,0)","v":0}]
[{"$f":"IF(Invulblad!P1770=\"Ja\",Invulblad!M1770*Invulblad!Q1770,0)","v":0},null,null,null,null,null,{"$f":"IF(Invulblad!P1770=\"Nee\",Invulblad!M1770,0)","v":0}]
[{"$f":"IF(Invulblad!P1771=\"Ja\",Invulblad!M1771*Invulblad!Q1771,0)","v":0},null,null,null,null,null,{"$f":"IF(Invulblad!P1771=\"Nee\",Invulblad!M1771,0)","v":0}]
[{"$f":"IF(Invulblad!P1772=\"Ja\",Invulblad!M1772*Invulblad!Q1772,0)","v":0},null,null,null,null,null,{"$f":"IF(Invulblad!P1772=\"Nee\",Invulblad!M1772,0)","v":0}]
[{"$f":"IF(Invulblad!P1773=\"Ja\",Invulblad!M1773*Invulblad!Q1773,0)","v":0},null,null,null,null,null,{"$f":"IF(Invulblad!P1773=\"Nee\",Invulblad!M1773,0)","v":0}]
[{"$f":"IF(Invulblad!P1774=\"Ja\",Invulblad!M1774*Invulblad!Q1774,0)","v":0},null,null,null,null,null,{"$f":"IF(Invulblad!P1774=\"Nee\",Invulblad!M1774,0)","v":0}]
[{"$f":"IF(Invulblad!P1775=\"Ja\",Invulblad!M1775*Invulblad!Q1775,0)","v":0},null,null,null,null,null,{"$f":"IF(Invulblad!P1775=\"Nee\",Invulblad!M1775,0)","v":0}]
[{"$f":"IF(Invulblad!P1776=\"Ja\",Invulblad!M1776*Invulblad!Q1776,0)","v":0},null,null,null,null,null,{"$f":"IF(Invulblad!P1776=\"Nee\",Invulblad!M1776,0)","v":0}]
[{"$f":"IF(Invulblad!P1777=\"Ja\",Invulblad!M1777*Invulblad!Q1777,0)","v":0},null,null,null,null,null,{"$f":"IF(Invulblad!P1777=\"Nee\",Invulblad!M1777,0)","v":0}]
[{"$f":"IF(Invulblad!P1778=\"Ja\",Invulblad!M1778*Invulblad!Q1778,0)","v":0},null,null,null,null,null,{"$f":"IF(Invulblad!P1778=\"Nee\",Invulblad!M1778,0)","v":0}]
[{"$f":"IF(Invulblad!P1779=\"Ja\",Invulblad!M1779*Invulblad!Q1779,0)","v":0},null,null,null,null,null,{"$f":"IF(Invulblad!P1779=\"Nee\",Invulblad!M1779,0)","v":0}]
[{"$f":"IF(Invulblad!P1780=\"Ja\",Invulblad!M1780*Invulblad!Q1780,0)","v":0},null,null,null,null,null,{"$f":"IF(Invulblad!P1780=\"Nee\",Invulblad!M1780,0)","v":0}]
[{"$f":"IF(Invulblad!P1781=\"Ja\",Invulblad!M1781*Invulblad!Q1781,0)","v":0},null,null,null,null,null,{"$f":"IF(Invulblad!P1781=\"Nee\",Invulblad!M1781,0)","v":0}]
[{"$f":"IF(Invulblad!P1782=\"Ja\",Invulblad!M1782*Invulblad!Q1782,0)","v":0},null,null,null,null,null,{"$f":"IF(Invulblad!P1782=\"Nee\",Invulblad!M1782,0)","v":0}]
[{"$f":"IF(Invulblad!P1783=\"Ja\",Invulblad!M1783*Invulblad!Q1783,0)","v":0},null,null,null,null,null,{"$f":"IF(Invulblad!P1783=\"Nee\",Invulblad!M1783,0)","v":0}]
[{"$f":"IF(Invulblad!P1784=\"Ja\",Invulblad!M1784*Invulblad!Q1784,0)","v":0},null,null,null,null,null,{"$f":"IF(Invulblad!P1784=\"Nee\",Invulblad!M1784,0)","v":0}]
[{"$f":"IF(Invulblad!P1785=\"Ja\",Invulblad!M1785*Invulblad!Q1785,0)","v":0},null,null,null,null,null,{"$f":"IF(Invulblad!P1785=\"Nee\",Invulblad!M1785,0)","v":0}]
[{"$f":"IF(Invulblad!P1786=\"Ja\",Invulblad!M1786*Invulblad!Q1786,0)","v":0},null,null,null,null,null,{"$f":"IF(Invulblad!P1786=\"Nee\",Invulblad!M1786,0)","v":0}]
[{"$f":"IF(Invulblad!P1787=\"Ja\",Invulblad!M1787*Invulblad!Q1787,0)","v":0},null,null,null,null,null,{"$f":"IF(Invulblad!P1787=\"Nee\",Invulblad!M1787,0)","v":0}]
[{"$f":"IF(Invulblad!P1788=\"Ja\",Invulblad!M1788*Invulblad!Q1788,0)","v":0},null,null,null,null,null,{"$f":"IF(Invulblad!P1788=\"Nee\",Invulblad!M1788,0)","v":0}]
[{"$f":"IF(Invulblad!P1789=\"Ja\",Invulblad!M1789*Invulblad!Q1789,0)","v":0},null,null,null,null,null,{"$f":"IF(Invulblad!P1789=\"Nee\",Invulblad!M1789,0)","v":0}]
[{"$f":"IF(Invulblad!P1790=\"Ja\",Invulblad!M1790*Invulblad!Q1790,0)","v":0},null,null,null,null,null,{"$f":"IF(Invulblad!P1790=\"Nee\",Invulblad!M1790,0)","v":0}]
[{"$f":"IF(Invulblad!P1791=\"Ja\",Invulblad!M1791*Invulblad!Q1791,0)","v":0},null,null,null,null,null,{"$f":"IF(Invulblad!P1791=\"Nee\",Invulblad!M1791,0)","v":0}]
[{"$f":"IF(Invulblad!P1792=\"Ja\",Invulblad!M1792*Invulblad!Q1792,0)","v":0},null,null,null,null,null,{"$f":"IF(Invulblad!P1792=\"Nee\",Invulblad!M1792,0)","v":0}]
[{"$f":"IF(Invulblad!P1793=\"Ja\",Invulblad!M1793*Invulblad!Q1793,0)","v":0},null,null,null,null,null,{"$f":"IF(Invulblad!P1793=\"Nee\",Invulblad!M1793,0)","v":0}]
[{"$f":"IF(Invulblad!P1794=\"Ja\",Invulblad!M1794*Invulblad!Q1794,0)","v":0},null,null,null,null,null,{"$f":"IF(Invulblad!P1794=\"Nee\",Invulblad!M1794,0)","v":0}]
[{"$f":"IF(Invulblad!P1795=\"Ja\",Invulblad!M1795*Invulblad!Q1795,0)","v":0},null,null,null,null,null,{"$f":"IF(Invulblad!P1795=\"Nee\",Invulblad!M1795,0)","v":0}]
[{"$f":"IF(Invulblad!P1796=\"Ja\",Invulblad!M1796*Invulblad!Q1796,0)","v":0},null,null,null,null,null,{"$f":"IF(Invulblad!P1796=\"Nee\",Invulblad!M1796,0)","v":0}]
[{"$f":"IF(Invulblad!P1797=\"Ja\",Invulblad!M1797*Invulblad!Q1797,0)","v":0},null,null,null,null,null,{"$f":"IF(Invulblad!P1797=\"Nee\",Invulblad!M1797,0)","v":0}]
[{"$f":"IF(Invulblad!P1798=\"Ja\",Invulblad!M1798*Invulblad!Q1798,0)","v":0},null,null,null,null,null,{"$f":"IF(Invulblad!P1798=\"Nee\",Invulblad!M1798,0)","v":0}]
[{"$f":"IF(Invulblad!P1799=\"Ja\",Invulblad!M1799*Invulblad!Q1799,0)","v":0},null,null,null,null,null,{"$f":"IF(Invulblad!P1799=\"Nee\",Invulblad!M1799,0)","v":0}]
[{"$f":"IF(Invulblad!P1800=\"Ja\",Invulblad!M1800*Invulblad!Q1800,0)","v":0},null,null,null,null,null,{"$f":"IF(Invulblad!P1800=\"Nee\",Invulblad!M1800,0)","v":0}]
[{"$f":"IF(Invulblad!P1801=\"Ja\",Invulblad!M1801*Invulblad!Q1801,0)","v":0},null,null,null,null,null,{"$f":"IF(Invulblad!P1801=\"Nee\",Invulblad!M1801,0)","v":0}]
[{"$f":"IF(Invulblad!P1802=\"Ja\",Invulblad!M1802*Invulblad!Q1802,0)","v":0},null,null,null,null,null,{"$f":"IF(Invulblad!P1802=\"Nee\",Invulblad!M1802,0)","v":0}]
[{"$f":"IF(Invulblad!P1803=\"Ja\",Invulblad!M1803*Invulblad!Q1803,0)","v":0},null,null,null,null,null,{"$f":"IF(Invulblad!P1803=\"Nee\",Invulblad!M1803,0)","v":0}]
[{"$f":"IF(Invulblad!P1804=\"Ja\",Invulblad!M1804*Invulblad!Q1804,0)","v":0},null,null,null,null,null,{"$f":"IF(Invulblad!P1804=\"Nee\",Invulblad!M1804,0)","v":0}]
[{"$f":"IF(Invulblad!P1805=\"Ja\",Invulblad!M1805*Invulblad!Q1805,0)","v":0},null,null,null,null,null,{"$f":"IF(Invulblad!P1805=\"Nee\",Invulblad!M1805,0)","v":0}]
[{"$f":"IF(Invulblad!P1806=\"Ja\",Invulblad!M1806*Invulblad!Q1806,0)","v":0},null,null,null,null,null,{"$f":"IF(Invulblad!P1806=\"Nee\",Invulblad!M1806,0)","v":0}]
[{"$f":"IF(Invulblad!P1807=\"Ja\",Invulblad!M1807*Invulblad!Q1807,0)","v":0},null,null,null,null,null,{"$f":"IF(Invulblad!P1807=\"Nee\",Invulblad!M1807,0)","v":0}]
[{"$f":"IF(Invulblad!P1808=\"Ja\",Invulblad!M1808*Invulblad!Q1808,0)","v":0},null,null,null,null,null,{"$f":"IF(Invulblad!P1808=\"Nee\",Invulblad!M1808,0)","v":0}]
[{"$f":"IF(Invulblad!P1809=\"Ja\",Invulblad!M1809*Invulblad!Q1809,0)","v":0},null,null,null,null,null,{"$f":"IF(Invulblad!P1809=\"Nee\",Invulblad!M1809,0)","v":0}]
[{"$f":"IF(Invulblad!P1810=\"Ja\",Invulblad!M1810*Invulblad!Q1810,0)","v":0},null,null,null,null,null,{"$f":"IF(Invulblad!P1810=\"Nee\",Invulblad!M1810,0)","v":0}]
[{"$f":"IF(Invulblad!P1811=\"Ja\",Invulblad!M1811*Invulblad!Q1811,0)","v":0},null,null,null,null,null,{"$f":"IF(Invulblad!P1811=\"Nee\",Invulblad!M1811,0)","v":0}]
[{"$f":"IF(Invulblad!P1812=\"Ja\",Invulblad!M1812*Invulblad!Q1812,0)","v":0},null,null,null,null,null,{"$f":"IF(Invulblad!P1812=\"Nee\",Invulblad!M1812,0)","v":0}]
[{"$f":"IF(Invulblad!P1813=\"Ja\",Invulblad!M1813*Invulblad!Q1813,0)","v":0},null,null,null,null,null,{"$f":"IF(Invulblad!P1813=\"Nee\",Invulblad!M1813,0)","v":0}]
[{"$f":"IF(Invulblad!P1814=\"Ja\",Invulblad!M1814*Invulblad!Q1814,0)","v":0},null,null,null,null,null,{"$f":"IF(Invulblad!P1814=\"Nee\",Invulblad!M1814,0)","v":0}]
[{"$f":"IF(Invulblad!P1815=\"Ja\",Invulblad!M1815*Invulblad!Q1815,0)","v":0},null,null,null,null,null,{"$f":"IF(Invulblad!P1815=\"Nee\",Invulblad!M1815,0)","v":0}]
[{"$f":"IF(Invulblad!P1816=\"Ja\",Invulblad!M1816*Invulblad!Q1816,0)","v":0},null,null,null,null,null,{"$f":"IF(Invulblad!P1816=\"Nee\",Invulblad!M1816,0)","v":0}]
[{"$f":"IF(Invulblad!P1817=\"Ja\",Invulblad!M1817*Invulblad!Q1817,0)","v":0},null,null,null,null,null,{"$f":"IF(Invulblad!P1817=\"Nee\",Invulblad!M1817,0)","v":0}]
[{"$f":"IF(Invulblad!P1818=\"Ja\",Invulblad!M1818*Invulblad!Q1818,0)","v":0},null,null,null,null,null,{"$f":"IF(Invulblad!P1818=\"Nee\",Invulblad!M1818,0)","v":0}]
[{"$f":"IF(Invulblad!P1819=\"Ja\",Invulblad!M1819*Invulblad!Q1819,0)","v":0},null,null,null,null,null,{"$f":"IF(Invulblad!P1819=\"Nee\",Invulblad!M1819,0)","v":0}]
[{"$f":"IF(Invulblad!P1820=\"Ja\",Invulblad!M1820*Invulblad!Q1820,0)","v":0},null,null,null,null,null,{"$f":"IF(Invulblad!P1820=\"Nee\",Invulblad!M1820,0)","v":0}]
[{"$f":"IF(Invulblad!P1821=\"Ja\",Invulblad!M1821*Invulblad!Q1821,0)","v":0},null,null,null,null,null,{"$f":"IF(Invulblad!P1821=\"Nee\",Invulblad!M1821,0)","v":0}]
[{"$f":"IF(Invulblad!P1822=\"Ja\",Invulblad!M1822*Invulblad!Q1822,0)","v":0},null,null,null,null,null,{"$f":"IF(Invulblad!P1822=\"Nee\",Invulblad!M1822,0)","v":0}]
[{"$f":"IF(Invulblad!P1823=\"Ja\",Invulblad!M1823*Invulblad!Q1823,0)","v":0},null,null,null,null,null,{"$f":"IF(Invulblad!P1823=\"Nee\",Invulblad!M1823,0)","v":0}]
[{"$f":"IF(Invulblad!P1824=\"Ja\",Invulblad!M1824*Invulblad!Q1824,0)","v":0},null,null,null,null,null,{"$f":"IF(Invulblad!P1824=\"Nee\",Invulblad!M1824,0)","v":0}]
[{"$f":"IF(Invulblad!P1825=\"Ja\",Invulblad!M1825*Invulblad!Q1825,0)","v":0},null,null,null,null,null,{"$f":"IF(Invulblad!P1825=\"Nee\",Invulblad!M1825,0)","v":0}]
[{"$f":"IF(Invulblad!P1826=\"Ja\",Invulblad!M1826*Invulblad!Q1826,0)","v":0},null,null,null,null,null,{"$f":"IF(Invulblad!P1826=\"Nee\",Invulblad!M1826,0)","v":0}]
[{"$f":"IF(Invulblad!P1827=\"Ja\",Invulblad!M1827*Invulblad!Q1827,0)","v":0},null,null,null,null,null,{"$f":"IF(Invulblad!P1827=\"Nee\",Invulblad!M1827,0)","v":0}]
[{"$f":"IF(Invulblad!P1828=\"Ja\",Invulblad!M1828*Invulblad!Q1828,0)","v":0},null,null,null,null,null,{"$f":"IF(Invulblad!P1828=\"Nee\",Invulblad!M1828,0)","v":0}]
[{"$f":"IF(Invulblad!P1829=\"Ja\",Invulblad!M1829*Invulblad!Q1829,0)","v":0},null,null,null,null,null,{"$f":"IF(Invulblad!P1829=\"Nee\",Invulblad!M1829,0)","v":0}]
[{"$f":"IF(Invulblad!P1830=\"Ja\",Invulblad!M1830*Invulblad!Q1830,0)","v":0},null,null,null,null,null,{"$f":"IF(Invulblad!P1830=\"Nee\",Invulblad!M1830,0)","v":0}]
[{"$f":"IF(Invulblad!P1831=\"Ja\",Invulblad!M1831*Invulblad!Q1831,0)","v":0},null,null,null,null,null,{"$f":"IF(Invulblad!P1831=\"Nee\",Invulblad!M1831,0)","v":0}]
[{"$f":"IF(Invulblad!P1832=\"Ja\",Invulblad!M1832*Invulblad!Q1832,0)","v":0},null,null,null,null,null,{"$f":"IF(Invulblad!P1832=\"Nee\",Invulblad!M1832,0)","v":0}]
[{"$f":"IF(Invulblad!P1833=\"Ja\",Invulblad!M1833*Invulblad!Q1833,0)","v":0},null,null,null,null,null,{"$f":"IF(Invulblad!P1833=\"Nee\",Invulblad!M1833,0)","v":0}]
[{"$f":"IF(Invulblad!P1834=\"Ja\",Invulblad!M1834*Invulblad!Q1834,0)","v":0},null,null,null,null,null,{"$f":"IF(Invulblad!P1834=\"Nee\",Invulblad!M1834,0)","v":0}]
[{"$f":"IF(Invulblad!P1835=\"Ja\",Invulblad!M1835*Invulblad!Q1835,0)","v":0},null,null,null,null,null,{"$f":"IF(Invulblad!P1835=\"Nee\",Invulblad!M1835,0)","v":0}]
[{"$f":"IF(Invulblad!P1836=\"Ja\",Invulblad!M1836*Invulblad!Q1836,0)","v":0},null,null,null,null,null,{"$f":"IF(Invulblad!P1836=\"Nee\",Invulblad!M1836,0)","v":0}]
[{"$f":"IF(Invulblad!P1837=\"Ja\",Invulblad!M1837*Invulblad!Q1837,0)","v":0},null,null,null,null,null,{"$f":"IF(Invulblad!P1837=\"Nee\",Invulblad!M1837,0)","v":0}]
[{"$f":"IF(Invulblad!P1838=\"Ja\",Invulblad!M1838*Invulblad!Q1838,0)","v":0},null,null,null,null,null,{"$f":"IF(Invulblad!P1838=\"Nee\",Invulblad!M1838,0)","v":0}]
[{"$f":"IF(Invulblad!P1839=\"Ja\",Invulblad!M1839*Invulblad!Q1839,0)","v":0},null,null,null,null,null,{"$f":"IF(Invulblad!P1839=\"Nee\",Invulblad!M1839,0)","v":0}]
[{"$f":"IF(Invulblad!P1840=\"Ja\",Invulblad!M1840*Invulblad!Q1840,0)","v":0},null,null,null,null,null,{"$f":"IF(Invulblad!P1840=\"Nee\",Invulblad!M1840,0)","v":0}]
[{"$f":"IF(Invulblad!P1841=\"Ja\",Invulblad!M1841*Invulblad!Q1841,0)","v":0},null,null,null,null,null,{"$f":"IF(Invulblad!P1841=\"Nee\",Invulblad!M1841,0)","v":0}]
[{"$f":"IF(Invulblad!P1842=\"Ja\",Invulblad!M1842*Invulblad!Q1842,0)","v":0},null,null,null,null,null,{"$f":"IF(Invulblad!P1842=\"Nee\",Invulblad!M1842,0)","v":0}]
[{"$f":"IF(Invulblad!P1843=\"Ja\",Invulblad!M1843*Invulblad!Q1843,0)","v":0},null,null,null,null,null,{"$f":"IF(Invulblad!P1843=\"Nee\",Invulblad!M1843,0)","v":0}]
[{"$f":"IF(Invulblad!P1844=\"Ja\",Invulblad!M1844*Invulblad!Q1844,0)","v":0},null,null,null,null,null,{"$f":"IF(Invulblad!P1844=\"Nee\",Invulblad!M1844,0)","v":0}]
[{"$f":"IF(Invulblad!P1845=\"Ja\",Invulblad!M1845*Invulblad!Q1845,0)","v":0},null,null,null,null,null,{"$f":"IF(Invulblad!P1845=\"Nee\",Invulblad!M1845,0)","v":0}]
[{"$f":"IF(Invulblad!P1846=\"Ja\",Invulblad!M1846*Invulblad!Q1846,0)","v":0},null,null,null,null,null,{"$f":"IF(Invulblad!P1846=\"Nee\",Invulblad!M1846,0)","v":0}]
[{"$f":"IF(Invulblad!P1847=\"Ja\",Invulblad!M1847*Invulblad!Q1847,0)","v":0},null,null,null,null,null,{"$f":"IF(Invulblad!P1847=\"Nee\",Invulblad!M1847,0)","v":0}]
[{"$f":"IF(Invulblad!P1848=\"Ja\",Invulblad!M1848*Invulblad!Q1848,0)","v":0},null,null,null,null,null,{"$f":"IF(Invulblad!P1848=\"Nee\",Invulblad!M1848,0)","v":0}]
[{"$f":"IF(Invulblad!P1849=\"Ja\",Invulblad!M1849*Invulblad!Q1849,0)","v":0},null,null,null,null,null,{"$f":"IF(Invulblad!P1849=\"Nee\",Invulblad!M1849,0)","v":0}]
[{"$f":"IF(Invulblad!P1850=\"Ja\",Invulblad!M1850*Invulblad!Q1850,0)","v":0},null,null,null,null,null,{"$f":"IF(Invulblad!P1850=\"Nee\",Invulblad!M1850,0)","v":0}]
[{"$f":"IF(Invulblad!P1851=\"Ja\",Invulblad!M1851*Invulblad!Q1851,0)","v":0},null,null,null,null,null,{"$f":"IF(Invulblad!P1851=\"Nee\",Invulblad!M1851,0)","v":0}]
[{"$f":"IF(Invulblad!P1852=\"Ja\",Invulblad!M1852*Invulblad!Q1852,0)","v":0},null,null,null,null,null,{"$f":"IF(Invulblad!P1852=\"Nee\",Invulblad!M1852,0)","v":0}]
[{"$f":"IF(Invulblad!P1853=\"Ja\",Invulblad!M1853*Invulblad!Q1853,0)","v":0},null,null,null,null,null,{"$f":"IF(Invulblad!P1853=\"Nee\",Invulblad!M1853,0)","v":0}]
[{"$f":"IF(Invulblad!P1854=\"Ja\",Invulblad!M1854*Invulblad!Q1854,0)","v":0},null,null,null,null,null,{"$f":"IF(Invulblad!P1854=\"Nee\",Invulblad!M1854,0)","v":0}]
[{"$f":"IF(Invulblad!P1855=\"Ja\",Invulblad!M1855*Invulblad!Q1855,0)","v":0},null,null,null,null,null,{"$f":"IF(Invulblad!P1855=\"Nee\",Invulblad!M1855,0)","v":0}]
[{"$f":"IF(Invulblad!P1856=\"Ja\",Invulblad!M1856*Invulblad!Q1856,0)","v":0},null,null,null,null,null,{"$f":"IF(Invulblad!P1856=\"Nee\",Invulblad!M1856,0)","v":0}]
[{"$f":"IF(Invulblad!P1857=\"Ja\",Invulblad!M1857*Invulblad!Q1857,0)","v":0},null,null,null,null,null,{"$f":"IF(Invulblad!P1857=\"Nee\",Invulblad!M1857,0)","v":0}]
[{"$f":"IF(Invulblad!P1858=\"Ja\",Invulblad!M1858*Invulblad!Q1858,0)","v":0},null,null,null,null,null,{"$f":"IF(Invulblad!P1858=\"Nee\",Invulblad!M1858,0)","v":0}]
[{"$f":"IF(Invulblad!P1859=\"Ja\",Invulblad!M1859*Invulblad!Q1859,0)","v":0},null,null,null,null,null,{"$f":"IF(Invulblad!P1859=\"Nee\",Invulblad!M1859,0)","v":0}]
[{"$f":"IF(Invulblad!P1860=\"Ja\",Invulblad!M1860*Invulblad!Q1860,0)","v":0},null,null,null,null,null,{"$f":"IF(Invulblad!P1860=\"Nee\",Invulblad!M1860,0)","v":0}]
[{"$f":"IF(Invulblad!P1861=\"Ja\",Invulblad!M1861*Invulblad!Q1861,0)","v":0},null,null,null,null,null,{"$f":"IF(Invulblad!P1861=\"Nee\",Invulblad!M1861,0)","v":0}]
[{"$f":"IF(Invulblad!P1862=\"Ja\",Invulblad!M1862*Invulblad!Q1862,0)","v":0},null,null,null,null,null,{"$f":"IF(Invulblad!P1862=\"Nee\",Invulblad!M1862,0)","v":0}]
[{"$f":"IF(Invulblad!P1863=\"Ja\",Invulblad!M1863*Invulblad!Q1863,0)","v":0},null,null,null,null,null,{"$f":"IF(Invulblad!P1863=\"Nee\",Invulblad!M1863,0)","v":0}]
[{"$f":"IF(Invulblad!P1864=\"Ja\",Invulblad!M1864*Invulblad!Q1864,0)","v":0},null,null,null,null,null,{"$f":"IF(Invulblad!P1864=\"Nee\",Invulblad!M1864,0)","v":0}]
[{"$f":"IF(Invulblad!P1865=\"Ja\",Invulblad!M1865*Invulblad!Q1865,0)","v":0},null,null,null,null,null,{"$f":"IF(Invulblad!P1865=\"Nee\",Invulblad!M1865,0)","v":0}]
[{"$f":"IF(Invulblad!P1866=\"Ja\",Invulblad!M1866*Invulblad!Q1866,0)","v":0},null,null,null,null,null,{"$f":"IF(Invulblad!P1866=\"Nee\",Invulblad!M1866,0)","v":0}]
[{"$f":"IF(Invulblad!P1867=\"Ja\",Invulblad!M1867*Invulblad!Q1867,0)","v":0},null,null,null,null,null,{"$f":"IF(Invulblad!P1867=\"Nee\",Invulblad!M1867,0)","v":0}]
[{"$f":"IF(Invulblad!P1868=\"Ja\",Invulblad!M1868*Invulblad!Q1868,0)","v":0},null,null,null,null,null,{"$f":"IF(Invulblad!P1868=\"Nee\",Invulblad!M1868,0)","v":0}]
[{"$f":"IF(Invulblad!P1869=\"Ja\",Invulblad!M1869*Invulblad!Q1869,0)","v":0},null,null,null,null,null,{"$f":"IF(Invulblad!P1869=\"Nee\",Invulblad!M1869,0)","v":0}]
[{"$f":"IF(Invulblad!P1870=\"Ja\",Invulblad!M1870*Invulblad!Q1870,0)","v":0},null,null,null,null,null,{"$f":"IF(Invulblad!P1870=\"Nee\",Invulblad!M1870,0)","v":0}]
[{"$f":"IF(Invulblad!P1871=\"Ja\",Invulblad!M1871*Invulblad!Q1871,0)","v":0},null,null,null,null,null,{"$f":"IF(Invulblad!P1871=\"Nee\",Invulblad!M1871,0)","v":0}]
[{"$f":"IF(Invulblad!P1872=\"Ja\",Invulblad!M1872*Invulblad!Q1872,0)","v":0},null,null,null,null,null,{"$f":"IF(Invulblad!P1872=\"Nee\",Invulblad!M1872,0)","v":0}]
[{"$f":"IF(Invulblad!P1873=\"Ja\",Invulblad!M1873*Invulblad!Q1873,0)","v":0},null,null,null,null,null,{"$f":"IF(Invulblad!P1873=\"Nee\",Invulblad!M1873,0)","v":0}]
[{"$f":"IF(Invulblad!P1874=\"Ja\",Invulblad!M1874*Invulblad!Q1874,0)","v":0},null,null,null,null,null,{"$f":"IF(Invulblad!P1874=\"Nee\",Invulblad!M1874,0)","v":0}]
[{"$f":"IF(Invulblad!P1875=\"Ja\",Invulblad!M1875*Invulblad!Q1875,0)","v":0},null,null,null,null,null,{"$f":"IF(Invulblad!P1875=\"Nee\",Invulblad!M1875,0)","v":0}]
[{"$f":"IF(Invulblad!P1876=\"Ja\",Invulblad!M1876*Invulblad!Q1876,0)","v":0},null,null,null,null,null,{"$f":"IF(Invulblad!P1876=\"Nee\",Invulblad!M1876,0)","v":0}]
[{"$f":"IF(Invulblad!P1877=\"Ja\",Invulblad!M1877*Invulblad!Q1877,0)","v":0},null,null,null,null,null,{"$f":"IF(Invulblad!P1877=\"Nee\",Invulblad!M1877,0)","v":0}]
[{"$f":"IF(Invulblad!P1878=\"Ja\",Invulblad!M1878*Invulblad!Q1878,0)","v":0},null,null,null,null,null,{"$f":"IF(Invulblad!P1878=\"Nee\",Invulblad!M1878,0)","v":0}]
[{"$f":"IF(Invulblad!P1879=\"Ja\",Invulblad!M1879*Invulblad!Q1879,0)","v":0},null,null,null,null,null,{"$f":"IF(Invulblad!P1879=\"Nee\",Invulblad!M1879,0)","v":0}]
[{"$f":"IF(Invulblad!P1880=\"Ja\",Invulblad!M1880*Invulblad!Q1880,0)","v":0},null,null,null,null,null,{"$f":"IF(Invulblad!P1880=\"Nee\",Invulblad!M1880,0)","v":0}]
[{"$f":"IF(Invulblad!P1881=\"Ja\",Invulblad!M1881*Invulblad!Q1881,0)","v":0},null,null,null,null,null,{"$f":"IF(Invulblad!P1881=\"Nee\",Invulblad!M1881,0)","v":0}]
[{"$f":"IF(Invulblad!P1882=\"Ja\",Invulblad!M1882*Invulblad!Q1882,0)","v":0},null,null,null,null,null,{"$f":"IF(Invulblad!P1882=\"Nee\",Invulblad!M1882,0)","v":0}]
[{"$f":"IF(Invulblad!P1883=\"Ja\",Invulblad!M1883*Invulblad!Q1883,0)","v":0},null,null,null,null,null,{"$f":"IF(Invulblad!P1883=\"Nee\",Invulblad!M1883,0)","v":0}]
[{"$f":"IF(Invulblad!P1884=\"Ja\",Invulblad!M1884*Invulblad!Q1884,0)","v":0},null,null,null,null,null,{"$f":"IF(Invulblad!P1884=\"Nee\",Invulblad!M1884,0)","v":0}]
[{"$f":"IF(Invulblad!P1885=\"Ja\",Invulblad!M1885*Invulblad!Q1885,0)","v":0},null,null,null,null,null,{"$f":"IF(Invulblad!P1885=\"Nee\",Invulblad!M1885,0)","v":0}]
[{"$f":"IF(Invulblad!P1886=\"Ja\",Invulblad!M1886*Invulblad!Q1886,0)","v":0},null,null,null,null,null,{"$f":"IF(Invulblad!P1886=\"Nee\",Invulblad!M1886,0)","v":0}]
[{"$f":"IF(Invulblad!P1887=\"Ja\",Invulblad!M1887*Invulblad!Q1887,0)","v":0},null,null,null,null,null,{"$f":"IF(Invulblad!P1887=\"Nee\",Invulblad!M1887,0)","v":0}]
[{"$f":"IF(Invulblad!P1888=\"Ja\",Invulblad!M1888*Invulblad!Q1888,0)","v":0},null,null,null,null,null,{"$f":"IF(Invulblad!P1888=\"Nee\",Invulblad!M1888,0)","v":0}]
[{"$f":"IF(Invulblad!P1889=\"Ja\",Invulblad!M1889*Invulblad!Q1889,0)","v":0},null,null,null,null,null,{"$f":"IF(Invulblad!P1889=\"Nee\",Invulblad!M1889,0)","v":0}]
[{"$f":"IF(Invulblad!P1890=\"Ja\",Invulblad!M1890*Invulblad!Q1890,0)","v":0},null,null,null,null,null,{"$f":"IF(Invulblad!P1890=\"Nee\",Invulblad!M1890,0)","v":0}]
[{"$f":"IF(Invulblad!P1891=\"Ja\",Invulblad!M1891*Invulblad!Q1891,0)","v":0},null,null,null,null,null,{"$f":"IF(Invulblad!P1891=\"Nee\",Invulblad!M1891,0)","v":0}]
[{"$f":"IF(Invulblad!P1892=\"Ja\",Invulblad!M1892*Invulblad!Q1892,0)","v":0},null,null,null,null,null,{"$f":"IF(Invulblad!P1892=\"Nee\",Invulblad!M1892,0)","v":0}]
[{"$f":"IF(Invulblad!P1893=\"Ja\",Invulblad!M1893*Invulblad!Q1893,0)","v":0},null,null,null,null,null,{"$f":"IF(Invulblad!P1893=\"Nee\",Invulblad!M1893,0)","v":0}]
[{"$f":"IF(Invulblad!P1894=\"Ja\",Invulblad!M1894*Invulblad!Q1894,0)","v":0},null,null,null,null,null,{"$f":"IF(Invulblad!P1894=\"Nee\",Invulblad!M1894,0)","v":0}]
[{"$f":"IF(Invulblad!P1895=\"Ja\",Invulblad!M1895*Invulblad!Q1895,0)","v":0},null,null,null,null,null,{"$f":"IF(Invulblad!P1895=\"Nee\",Invulblad!M1895,0)","v":0}]
[{"$f":"IF(Invulblad!P1896=\"Ja\",Invulblad!M1896*Invulblad!Q1896,0)","v":0},null,null,null,null,null,{"$f":"IF(Invulblad!P1896=\"Nee\",Invulblad!M1896,0)","v":0}]
[{"$f":"IF(Invulblad!P1897=\"Ja\",Invulblad!M1897*Invulblad!Q1897,0)","v":0},null,null,null,null,null,{"$f":"IF(Invulblad!P1897=\"Nee\",Invulblad!M1897,0)","v":0}]
[{"$f":"IF(Invulblad!P1898=\"Ja\",Invulblad!M1898*Invulblad!Q1898,0)","v":0},null,null,null,null,null,{"$f":"IF(Invulblad!P1898=\"Nee\",Invulblad!M1898,0)","v":0}]
[{"$f":"IF(Invulblad!P1899=\"Ja\",Invulblad!M1899*Invulblad!Q1899,0)","v":0},null,null,null,null,null,{"$f":"IF(Invulblad!P1899=\"Nee\",Invulblad!M1899,0)","v":0}]
[{"$f":"IF(Invulblad!P1900=\"Ja\",Invulblad!M1900*Invulblad!Q1900,0)","v":0},null,null,null,null,null,{"$f":"IF(Invulblad!P1900=\"Nee\",Invulblad!M1900,0)","v":0}]
[{"$f":"IF(Invulblad!P1901=\"Ja\",Invulblad!M1901*Invulblad!Q1901,0)","v":0},null,null,null,null,null,{"$f":"IF(Invulblad!P1901=\"Nee\",Invulblad!M1901,0)","v":0}]
[{"$f":"IF(Invulblad!P1902=\"Ja\",Invulblad!M1902*Invulblad!Q1902,0)","v":0},null,null,null,null,null,{"$f":"IF(Invulblad!P1902=\"Nee\",Invulblad!M1902,0)","v":0}]
[{"$f":"IF(Invulblad!P1903=\"Ja\",Invulblad!M1903*Invulblad!Q1903,0)","v":0},null,null,null,null,null,{"$f":"IF(Invulblad!P1903=\"Nee\",Invulblad!M1903,0)","v":0}]
[{"$f":"IF(Invulblad!P1904=\"Ja\",Invulblad!M1904*Invulblad!Q1904,0)","v":0},null,null,null,null,null,{"$f":"IF(Invulblad!P1904=\"Nee\",Invulblad!M1904,0)","v":0}]
[{"$f":"IF(Invulblad!P1905=\"Ja\",Invulblad!M1905*Invulblad!Q1905,0)","v":0},null,null,null,null,null,{"$f":"IF(Invulblad!P1905=\"Nee\",Invulblad!M1905,0)","v":0}]
[{"$f":"IF(Invulblad!P1906=\"Ja\",Invulblad!M1906*Invulblad!Q1906,0)","v":0},null,null,null,null,null,{"$f":"IF(Invulblad!P1906=\"Nee\",Invulblad!M1906,0)","v":0}]
[{"$f":"IF(Invulblad!P1907=\"Ja\",Invulblad!M1907*Invulblad!Q1907,0)","v":0},null,null,null,null,null,{"$f":"IF(Invulblad!P1907=\"Nee\",Invulblad!M1907,0)","v":0}]
[{"$f":"IF(Invulblad!P1908=\"Ja\",Invulblad!M1908*Invulblad!Q1908,0)","v":0},null,null,null,null,null,{"$f":"IF(Invulblad!P1908=\"Nee\",Invulblad!M1908,0)","v":0}]
[{"$f":"IF(Invulblad!P1909=\"Ja\",Invulblad!M1909*Invulblad!Q1909,0)","v":0},null,null,null,null,null,{"$f":"IF(Invulblad!P1909=\"Nee\",Invulblad!M1909,0)","v":0}]
[{"$f":"IF(Invulblad!P1910=\"Ja\",Invulblad!M1910*Invulblad!Q1910,0)","v":0},null,null,null,null,null,{"$f":"IF(Invulblad!P1910=\"Nee\",Invulblad!M1910,0)","v":0}]
[{"$f":"IF(Invulblad!P1911=\"Ja\",Invulblad!M1911*Invulblad!Q1911,0)","v":0},null,null,null,null,null,{"$f":"IF(Invulblad!P1911=\"Nee\",Invulblad!M1911,0)","v":0}]
[{"$f":"IF(Invulblad!P1912=\"Ja\",Invulblad!M1912*Invulblad!Q1912,0)","v":0},null,null,null,null,null,{"$f":"IF(Invulblad!P1912=\"Nee\",Invulblad!M1912,0)","v":0}]
[{"$f":"IF(Invulblad!P1913=\"Ja\",Invulblad!M1913*Invulblad!Q1913,0)","v":0},null,null,null,null,null,{"$f":"IF(Invulblad!P1913=\"Nee\",Invulblad!M1913,0)","v":0}]
[{"$f":"IF(Invulblad!P1914=\"Ja\",Invulblad!M1914*Invulblad!Q1914,0)","v":0},null,null,null,null,null,{"$f":"IF(Invulblad!P1914=\"Nee\",Invulblad!M1914,0)","v":0}]
[{"$f":"IF(Invulblad!P1915=\"Ja\",Invulblad!M1915*Invulblad!Q1915,0)","v":0},null,null,null,null,null,{"$f":"IF(Invulblad!P1915=\"Nee\",Invulblad!M1915,0)","v":0}]
[{"$f":"IF(Invulblad!P1916=\"Ja\",Invulblad!M1916*Invulblad!Q1916,0)","v":0},null,null,null,null,null,{"$f":"IF(Invulblad!P1916=\"Nee\",Invulblad!M1916,0)","v":0}]
[{"$f":"IF(Invulblad!P1917=\"Ja\",Invulblad!M1917*Invulblad!Q1917,0)","v":0},null,null,null,null,null,{"$f":"IF(Invulblad!P1917=\"Nee\",Invulblad!M1917,0)","v":0}]
[{"$f":"IF(Invulblad!P1918=\"Ja\",Invulblad!M1918*Invulblad!Q1918,0)","v":0},null,null,null,null,null,{"$f":"IF(Invulblad!P1918=\"Nee\",Invulblad!M1918,0)","v":0}]
[{"$f":"IF(Invulblad!P1919=\"Ja\",Invulblad!M1919*Invulblad!Q1919,0)","v":0},null,null,null,null,null,{"$f":"IF(Invulblad!P1919=\"Nee\",Invulblad!M1919,0)","v":0}]
[{"$f":"IF(Invulblad!P1920=\"Ja\",Invulblad!M1920*Invulblad!Q1920,0)","v":0},null,null,null,null,null,{"$f":"IF(Invulblad!P1920=\"Nee\",Invulblad!M1920,0)","v":0}]
[{"$f":"IF(Invulblad!P1921=\"Ja\",Invulblad!M1921*Invulblad!Q1921,0)","v":0},null,null,null,null,null,{"$f":"IF(Invulblad!P1921=\"Nee\",Invulblad!M1921,0)","v":0}]
[{"$f":"IF(Invulblad!P1922=\"Ja\",Invulblad!M1922*Invulblad!Q1922,0)","v":0},null,null,null,null,null,{"$f":"IF(Invulblad!P1922=\"Nee\",Invulblad!M1922,0)","v":0}]
[{"$f":"IF(Invulblad!P1923=\"Ja\",Invulblad!M1923*Invulblad!Q1923,0)","v":0},null,null,null,null,null,{"$f":"IF(Invulblad!P1923=\"Nee\",Invulblad!M1923,0)","v":0}]
[{"$f":"IF(Invulblad!P1924=\"Ja\",Invulblad!M1924*Invulblad!Q1924,0)","v":0},null,null,null,null,null,{"$f":"IF(Invulblad!P1924=\"Nee\",Invulblad!M1924,0)","v":0}]
[{"$f":"IF(Invulblad!P1925=\"Ja\",Invulblad!M1925*Invulblad!Q1925,0)","v":0},null,null,null,null,null,{"$f":"IF(Invulblad!P1925=\"Nee\",Invulblad!M1925,0)","v":0}]
[{"$f":"IF(Invulblad!P1926=\"Ja\",Invulblad!M1926*Invulblad!Q1926,0)","v":0},null,null,null,null,null,{"$f":"IF(Invulblad!P1926=\"Nee\",Invulblad!M1926,0)","v":0}]
[{"$f":"IF(Invulblad!P1927=\"Ja\",Invulblad!M1927*Invulblad!Q1927,0)","v":0},null,null,null,null,null,{"$f":"IF(Invulblad!P1927=\"Nee\",Invulblad!M1927,0)","v":0}]
[{"$f":"IF(Invulblad!P1928=\"Ja\",Invulblad!M1928*Invulblad!Q1928,0)","v":0},null,null,null,null,null,{"$f":"IF(Invulblad!P1928=\"Nee\",Invulblad!M1928,0)","v":0}]
[{"$f":"IF(Invulblad!P1929=\"Ja\",Invulblad!M1929*Invulblad!Q1929,0)","v":0},null,null,null,null,null,{"$f":"IF(Invulblad!P1929=\"Nee\",Invulblad!M1929,0)","v":0}]
[{"$f":"IF(Invulblad!P1930=\"Ja\",Invulblad!M1930*Invulblad!Q1930,0)","v":0},null,null,null,null,null,{"$f":"IF(Invulblad!P1930=\"Nee\",Invulblad!M1930,0)","v":0}]
[{"$f":"IF(Invulblad!P1931=\"Ja\",Invulblad!M1931*Invulblad!Q1931,0)","v":0},null,null,null,null,null,{"$f":"IF(Invulblad!P1931=\"Nee\",Invulblad!M1931,0)","v":0}]
[{"$f":"IF(Invulblad!P1932=\"Ja\",Invulblad!M1932*Invulblad!Q1932,0)","v":0},null,null,null,null,null,{"$f":"IF(Invulblad!P1932=\"Nee\",Invulblad!M1932,0)","v":0}]
[{"$f":"IF(Invulblad!P1933=\"Ja\",Invulblad!M1933*Invulblad!Q1933,0)","v":0},null,null,null,null,null,{"$f":"IF(Invulblad!P1933=\"Nee\",Invulblad!M1933,0)","v":0}]
[{"$f":"IF(Invulblad!P1934=\"Ja\",Invulblad!M1934*Invulblad!Q1934,0)","v":0},null,null,null,null,null,{"$f":"IF(Invulblad!P1934=\"Nee\",Invulblad!M1934,0)","v":0}]
[{"$f":"IF(Invulblad!P1935=\"Ja\",Invulblad!M1935*Invulblad!Q1935,0)","v":0},null,null,null,null,null,{"$f":"IF(Invulblad!P1935=\"Nee\",Invulblad!M1935,0)","v":0}]
[{"$f":"IF(Invulblad!P1936=\"Ja\",Invulblad!M1936*Invulblad!Q1936,0)","v":0},null,null,null,null,null,{"$f":"IF(Invulblad!P1936=\"Nee\",Invulblad!M1936,0)","v":0}]
[{"$f":"IF(Invulblad!P1937=\"Ja\",Invulblad!M1937*Invulblad!Q1937,0)","v":0},null,null,null,null,null,{"$f":"IF(Invulblad!P1937=\"Nee\",Invulblad!M1937,0)","v":0}]
[{"$f":"IF(Invulblad!P1938=\"Ja\",Invulblad!M1938*Invulblad!Q1938,0)","v":0},null,null,null,null,null,{"$f":"IF(Invulblad!P1938=\"Nee\",Invulblad!M1938,0)","v":0}]
[{"$f":"IF(Invulblad!P1939=\"Ja\",Invulblad!M1939*Invulblad!Q1939,0)","v":0},null,null,null,null,null,{"$f":"IF(Invulblad!P1939=\"Nee\",Invulblad!M1939,0)","v":0}]
[{"$f":"IF(Invulblad!P1940=\"Ja\",Invulblad!M1940*Invulblad!Q1940,0)","v":0},null,null,null,null,null,{"$f":"IF(Invulblad!P1940=\"Nee\",Invulblad!M1940,0)","v":0}]
[{"$f":"IF(Invulblad!P1941=\"Ja\",Invulblad!M1941*Invulblad!Q1941,0)","v":0},null,null,null,null,null,{"$f":"IF(Invulblad!P1941=\"Nee\",Invulblad!M1941,0)","v":0}]
[{"$f":"IF(Invulblad!P1942=\"Ja\",Invulblad!M1942*Invulblad!Q1942,0)","v":0},null,null,null,null,null,{"$f":"IF(Invulblad!P1942=\"Nee\",Invulblad!M1942,0)","v":0}]
[{"$f":"IF(Invulblad!P1943=\"Ja\",Invulblad!M1943*Invulblad!Q1943,0)","v":0},null,null,null,null,null,{"$f":"IF(Invulblad!P1943=\"Nee\",Invulblad!M1943,0)","v":0}]
[{"$f":"IF(Invulblad!P1944=\"Ja\",Invulblad!M1944*Invulblad!Q1944,0)","v":0},null,null,null,null,null,{"$f":"IF(Invulblad!P1944=\"Nee\",Invulblad!M1944,0)","v":0}]
[{"$f":"IF(Invulblad!P1945=\"Ja\",Invulblad!M1945*Invulblad!Q1945,0)","v":0},null,null,null,null,null,{"$f":"IF(Invulblad!P1945=\"Nee\",Invulblad!M1945,0)","v":0}]
[{"$f":"IF(Invulblad!P1946=\"Ja\",Invulblad!M1946*Invulblad!Q1946,0)","v":0},null,null,null,null,null,{"$f":"IF(Invulblad!P1946=\"Nee\",Invulblad!M1946,0)","v":0}]
[{"$f":"IF(Invulblad!P1947=\"Ja\",Invulblad!M1947*Invulblad!Q1947,0)","v":0},null,null,null,null,null,{"$f":"IF(Invulblad!P1947=\"Nee\",Invulblad!M1947,0)","v":0}]
[{"$f":"IF(Invulblad!P1948=\"Ja\",Invulblad!M1948*Invulblad!Q1948,0)","v":0},null,null,null,null,null,{"$f":"IF(Invulblad!P1948=\"Nee\",Invulblad!M1948,0)","v":0}]
[{"$f":"IF(Invulblad!P1949=\"Ja\",Invulblad!M1949*Invulblad!Q1949,0)","v":0},null,null,null,null,null,{"$f":"IF(Invulblad!P1949=\"Nee\",Invulblad!M1949,0)","v":0}]
[{"$f":"IF(Invulblad!P1950=\"Ja\",Invulblad!M1950*Invulblad!Q1950,0)","v":0},null,null,null,null,null,{"$f":"IF(Invulblad!P1950=\"Nee\",Invulblad!M1950,0)","v":0}]
[{"$f":"IF(Invulblad!P1951=\"Ja\",Invulblad!M1951*Invulblad!Q1951,0)","v":0},null,null,null,null,null,{"$f":"IF(Invulblad!P1951=\"Nee\",Invulblad!M1951,0)","v":0}]
[{"$f":"IF(Invulblad!P1952=\"Ja\",Invulblad!M1952*Invulblad!Q1952,0)","v":0},null,null,null,null,null,{"$f":"IF(Invulblad!P1952=\"Nee\",Invulblad!M1952,0)","v":0}]
[{"$f":"IF(Invulblad!P1953=\"Ja\",Invulblad!M1953*Invulblad!Q1953,0)","v":0},null,null,null,null,null,{"$f":"IF(Invulblad!P1953=\"Nee\",Invulblad!M1953,0)","v":0}]
[{"$f":"IF(Invulblad!P1954=\"Ja\",Invulblad!M1954*Invulblad!Q1954,0)","v":0},null,null,null,null,null,{"$f":"IF(Invulblad!P1954=\"Nee\",Invulblad!M1954,0)","v":0}]
[{"$f":"IF(Invulblad!P1955=\"Ja\",Invulblad!M1955*Invulblad!Q1955,0)","v":0},null,null,null,null,null,{"$f":"IF(Invulblad!P1955=\"Nee\",Invulblad!M1955,0)","v":0}]
[{"$f":"IF(Invulblad!P1956=\"Ja\",Invulblad!M1956*Invulblad!Q1956,0)","v":0},null,null,null,null,null,{"$f":"IF(Invulblad!P1956=\"Nee\",Invulblad!M1956,0)","v":0}]
[{"$f":"IF(Invulblad!P1957=\"Ja\",Invulblad!M1957*Invulblad!Q1957,0)","v":0},null,null,null,null,null,{"$f":"IF(Invulblad!P1957=\"Nee\",Invulblad!M1957,0)","v":0}]
[{"$f":"IF(Invulblad!P1958=\"Ja\",Invulblad!M1958*Invulblad!Q1958,0)","v":0},null,null,null,null,null,{"$f":"IF(Invulblad!P1958=\"Nee\",Invulblad!M1958,0)","v":0}]
[{"$f":"IF(Invulblad!P1959=\"Ja\",Invulblad!M1959*Invulblad!Q1959,0)","v":0},null,null,null,null,null,{"$f":"IF(Invulblad!P1959=\"Nee\",Invulblad!M1959,0)","v":0}]
[{"$f":"IF(Invulblad!P1960=\"Ja\",Invulblad!M1960*Invulblad!Q1960,0)","v":0},null,null,null,null,null,{"$f":"IF(Invulblad!P1960=\"Nee\",Invulblad!M1960,0)","v":0}]
[{"$f":"IF(Invulblad!P1961=\"Ja\",Invulblad!M1961*Invulblad!Q1961,0)","v":0},null,null,null,null,null,{"$f":"IF(Invulblad!P1961=\"Nee\",Invulblad!M1961,0)","v":0}]
[{"$f":"IF(Invulblad!P1962=\"Ja\",Invulblad!M1962*Invulblad!Q1962,0)","v":0},null,null,null,null,null,{"$f":"IF(Invulblad!P1962=\"Nee\",Invulblad!M1962,0)","v":0}]
[{"$f":"IF(Invulblad!P1963=\"Ja\",Invulblad!M1963*Invulblad!Q1963,0)","v":0},null,null,null,null,null,{"$f":"IF(Invulblad!P1963=\"Nee\",Invulblad!M1963,0)","v":0}]
[{"$f":"IF(Invulblad!P1964=\"Ja\",Invulblad!M1964*Invulblad!Q1964,0)","v":0},null,null,null,null,null,{"$f":"IF(Invulblad!P1964=\"Nee\",Invulblad!M1964,0)","v":0}]
[{"$f":"IF(Invulblad!P1965=\"Ja\",Invulblad!M1965*Invulblad!Q1965,0)","v":0},null,null,null,null,null,{"$f":"IF(Invulblad!P1965=\"Nee\",Invulblad!M1965,0)","v":0}]
[{"$f":"IF(Invulblad!P1966=\"Ja\",Invulblad!M1966*Invulblad!Q1966,0)","v":0},null,null,null,null,null,{"$f":"IF(Invulblad!P1966=\"Nee\",Invulblad!M1966,0)","v":0}]
[{"$f":"IF(Invulblad!P1967=\"Ja\",Invulblad!M1967*Invulblad!Q1967,0)","v":0},null,null,null,null,null,{"$f":"IF(Invulblad!P1967=\"Nee\",Invulblad!M1967,0)","v":0}]
[{"$f":"IF(Invulblad!P1968=\"Ja\",Invulblad!M1968*Invulblad!Q1968,0)","v":0},null,null,null,null,null,{"$f":"IF(Invulblad!P1968=\"Nee\",Invulblad!M1968,0)","v":0}]
[{"$f":"IF(Invulblad!P1969=\"Ja\",Invulblad!M1969*Invulblad!Q1969,0)","v":0},null,null,null,null,null,{"$f":"IF(Invulblad!P1969=\"Nee\",Invulblad!M1969,0)","v":0}]
[{"$f":"IF(Invulblad!P1970=\"Ja\",Invulblad!M1970*Invulblad!Q1970,0)","v":0},null,null,null,null,null,{"$f":"IF(Invulblad!P1970=\"Nee\",Invulblad!M1970,0)","v":0}]
[{"$f":"IF(Invulblad!P1971=\"Ja\",Invulblad!M1971*Invulblad!Q1971,0)","v":0},null,null,null,null,null,{"$f":"IF(Invulblad!P1971=\"Nee\",Invulblad!M1971,0)","v":0}]
[{"$f":"IF(Invulblad!P1972=\"Ja\",Invulblad!M1972*Invulblad!Q1972,0)","v":0},null,null,null,null,null,{"$f":"IF(Invulblad!P1972=\"Nee\",Invulblad!M1972,0)","v":0}]
[{"$f":"IF(Invulblad!P1973=\"Ja\",Invulblad!M1973*Invulblad!Q1973,0)","v":0},null,null,null,null,null,{"$f":"IF(Invulblad!P1973=\"Nee\",Invulblad!M1973,0)","v":0}]
[{"$f":"IF(Invulblad!P1974=\"Ja\",Invulblad!M1974*Invulblad!Q1974,0)","v":0},null,null,null,null,null,{"$f":"IF(Invulblad!P1974=\"Nee\",Invulblad!M1974,0)","v":0}]
[{"$f":"IF(Invulblad!P1975=\"Ja\",Invulblad!M1975*Invulblad!Q1975,0)","v":0},null,null,null,null,null,{"$f":"IF(Invulblad!P1975=\"Nee\",Invulblad!M1975,0)","v":0}]
[{"$f":"IF(Invulblad!P1976=\"Ja\",Invulblad!M1976*Invulblad!Q1976,0)","v":0},null,null,null,null,null,{"$f":"IF(Invulblad!P1976=\"Nee\",Invulblad!M1976,0)","v":0}]
[{"$f":"IF(Invulblad!P1977=\"Ja\",Invulblad!M1977*Invulblad!Q1977,0)","v":0},null,null,null,null,null,{"$f":"IF(Invulblad!P1977=\"Nee\",Invulblad!M1977,0)","v":0}]
[{"$f":"IF(Invulblad!P1978=\"Ja\",Invulblad!M1978*Invulblad!Q1978,0)","v":0},null,null,null,null,null,{"$f":"IF(Invulblad!P1978=\"Nee\",Invulblad!M1978,0)","v":0}]
[{"$f":"IF(Invulblad!P1979=\"Ja\",Invulblad!M1979*Invulblad!Q1979,0)","v":0},null,null,null,null,null,{"$f":"IF(Invulblad!P1979=\"Nee\",Invulblad!M1979,0)","v":0}]
[{"$f":"IF(Invulblad!P1980=\"Ja\",Invulblad!M1980*Invulblad!Q1980,0)","v":0},null,null,null,null,null,{"$f":"IF(Invulblad!P1980=\"Nee\",Invulblad!M1980,0)","v":0}]
[{"$f":"IF(Invulblad!P1981=\"Ja\",Invulblad!M1981*Invulblad!Q1981,0)","v":0},null,null,null,null,null,{"$f":"IF(Invulblad!P1981=\"Nee\",Invulblad!M1981,0)","v":0}]
[{"$f":"IF(Invulblad!P1982=\"Ja\",Invulblad!M1982*Invulblad!Q1982,0)","v":0},null,null,null,null,null,{"$f":"IF(Invulblad!P1982=\"Nee\",Invulblad!M1982,0)","v":0}]
[{"$f":"IF(Invulblad!P1983=\"Ja\",Invulblad!M1983*Invulblad!Q1983,0)","v":0},null,null,null,null,null,{"$f":"IF(Invulblad!P1983=\"Nee\",Invulblad!M1983,0)","v":0}]
[{"$f":"IF(Invulblad!P1984=\"Ja\",Invulblad!M1984*Invulblad!Q1984,0)","v":0},null,null,null,null,null,{"$f":"IF(Invulblad!P1984=\"Nee\",Invulblad!M1984,0)","v":0}]
[{"$f":"IF(Invulblad!P1985=\"Ja\",Invulblad!M1985*Invulblad!Q1985,0)","v":0},null,null,null,null,null,{"$f":"IF(Invulblad!P1985=\"Nee\",Invulblad!M1985,0)","v":0}]
[{"$f":"IF(Invulblad!P1986=\"Ja\",Invulblad!M1986*Invulblad!Q1986,0)","v":0},null,null,null,null,null,{"$f":"IF(Invulblad!P1986=\"Nee\",Invulblad!M1986,0)","v":0}]
[{"$f":"IF(Invulblad!P1987=\"Ja\",Invulblad!M1987*Invulblad!Q1987,0)","v":0},null,null,null,null,null,{"$f":"IF(Invulblad!P1987=\"Nee\",Invulblad!M1987,0)","v":0}]
[{"$f":"IF(Invulblad!P1988=\"Ja\",Invulblad!M1988*Invulblad!Q1988,0)","v":0},null,null,null,null,null,{"$f":"IF(Invulblad!P1988=\"Nee\",Invulblad!M1988,0)","v":0}]
[{"$f":"IF(Invulblad!P1989=\"Ja\",Invulblad!M1989*Invulblad!Q1989,0)","v":0},null,null,null,null,null,{"$f":"IF(Invulblad!P1989=\"Nee\",Invulblad!M1989,0)","v":0}]
[{"$f":"IF(Invulblad!P1990=\"Ja\",Invulblad!M1990*Invulblad!Q1990,0)","v":0},null,null,null,null,null,{"$f":"IF(Invulblad!P1990=\"Nee\",Invulblad!M1990,0)","v":0}]
[{"$f":"IF(Invulblad!P1991=\"Ja\",Invulblad!M1991*Invulblad!Q1991,0)","v":0},null,null,null,null,null,{"$f":"IF(Invulblad!P1991=\"Nee\",Invulblad!M1991,0)","v":0}]
[{"$f":"IF(Invulblad!P1992=\"Ja\",Invulblad!M1992*Invulblad!Q1992,0)","v":0},null,null,null,null,null,{"$f":"IF(Invulblad!P1992=\"Nee\",Invulblad!M1992,0)","v":0}]
[{"$f":"IF(Invulblad!P1993=\"Ja\",Invulblad!M1993*Invulblad!Q1993,0)","v":0},null,null,null,null,null,{"$f":"IF(Invulblad!P1993=\"Nee\",Invulblad!M1993,0)","v":0}]
[{"$f":"IF(Invulblad!P1994=\"Ja\",Invulblad!M1994*Invulblad!Q1994,0)","v":0},null,null,null,null,null,{"$f":"IF(Invulblad!P1994=\"Nee\",Invulblad!M1994,0)","v":0}]
[{"$f":"IF(Invulblad!P1995=\"Ja\",Invulblad!M1995*Invulblad!Q1995,0)","v":0},null,null,null,null,null,{"$f":"IF(Invulblad!P1995=\"Nee\",Invulblad!M1995,0)","v":0}]
[{"$f":"IF(Invulblad!P1996=\"Ja\",Invulblad!M1996*Invulblad!Q1996,0)","v":0},null,null,null,null,null,{"$f":"IF(Invulblad!P1996=\"Nee\",Invulblad!M1996,0)","v":0}]
[{"$f":"IF(Invulblad!P1997=\"Ja\",Invulblad!M1997*Invulblad!Q1997,0)","v":0},null,null,null,null,null,{"$f":"IF(Invulblad!P1997=\"Nee\",Invulblad!M1997,0)","v":0}]
[{"$f":"IF(Invulblad!P1998=\"Ja\",Invulblad!M1998*Invulblad!Q1998,0)","v":0},null,null,null,null,null,{"$f":"IF(Invulblad!P1998=\"Nee\",Invulblad!M1998,0)","v":0}]
[{"$f":"IF(Invulblad!P1999=\"Ja\",Invulblad!M1999*Invulblad!Q1999,0)","v":0},null,null,null,null,null,{"$f":"IF(Invulblad!P1999=\"Nee\",Invulblad!M1999,0)","v":0}]
[{"$f":"IF(Invulblad!P2000=\"Ja\",Invulblad!M2000*Invulblad!Q2000,0)","v":0},null,null,null,null,null,{"$f":"IF(Invulblad!P2000=\"Nee\",Invulblad!M2000,0)","v":0}]
[{"$f":"IF(Invulblad!P2001=\"Ja\",Invulblad!M2001*Invulblad!Q2001,0)","v":0},null,null,null,null,null,{"$f":"IF(Invulblad!P2001=\"Nee\",Invulblad!M2001,0)","v":0}]
[{"$f":"IF(Invulblad!P2002=\"Ja\",Invulblad!M2002*Invulblad!Q2002,0)","v":0},null,null,null,null,null,{"$f":"IF(Invulblad!P2002=\"Nee\",Invulblad!M2002,0)","v":0}]
[{"$f":"IF(Invulblad!P2003=\"Ja\",Invulblad!M2003*Invulblad!Q2003,0)","v":0},null,null,null,null,null,{"$f":"IF(Invulblad!P2003=\"Nee\",Invulblad!M2003,0)","v":0}]
[{"$f":"IF(Invulblad!P2004=\"Ja\",Invulblad!M2004*Invulblad!Q2004,0)","v":0},null,null,null,null,null,{"$f":"IF(Invulblad!P2004=\"Nee\",Invulblad!M2004,0)","v":0}]
[{"$f":"IF(Invulblad!P2005=\"Ja\",Invulblad!M2005*Invulblad!Q2005,0)","v":0},null,null,null,null,null,{"$f":"IF(Invulblad!P2005=\"Nee\",Invulblad!M2005,0)","v":0}]
[{"$f":"IF(Invulblad!P2006=\"Ja\",Invulblad!M2006*Invulblad!Q2006,0)","v":0},null,null,null,null,null,{"$f":"IF(Invulblad!P2006=\"Nee\",Invulblad!M2006,0)","v":0}]
[{"$f":"IF(Invulblad!P2007=\"Ja\",Invulblad!M2007*Invulblad!Q2007,0)","v":0},null,null,null,null,null,{"$f":"IF(Invulblad!P2007=\"Nee\",Invulblad!M2007,0)","v":0}]
[{"$f":"IF(Invulblad!P2008=\"Ja\",Invulblad!M2008*Invulblad!Q2008,0)","v":0},null,null,null,null,null,{"$f":"IF(Invulblad!P2008=\"Nee\",Invulblad!M2008,0)","v":0}]
[{"$f":"IF(Invulblad!P2009=\"Ja\",Invulblad!M2009*Invulblad!Q2009,0)","v":0},null,null,null,null,null,{"$f":"IF(Invulblad!P2009=\"Nee\",Invulblad!M2009,0)","v":0}]
[{"$f":"IF(Invulblad!P2010=\"Ja\",Invulblad!M2010*Invulblad!Q2010,0)","v":0},null,null,null,null,null,{"$f":"IF(Invulblad!P2010=\"Nee\",Invulblad!M2010,0)","v":0}]
[{"$f":"IF(Invulblad!P2011=\"Ja\",Invulblad!M2011*Invulblad!Q2011,0)","v":0},null,null,null,null,null,{"$f":"IF(Invulblad!P2011=\"Nee\",Invulblad!M2011,0)","v":0}]
[{"$f":"IF(Invulblad!P2012=\"Ja\",Invulblad!M2012*Invulblad!Q2012,0)","v":0},null,null,null,null,null,{"$f":"IF(Invulblad!P2012=\"Nee\",Invulblad!M2012,0)","v":0}]
[{"$f":"IF(Invulblad!P2013=\"Ja\",Invulblad!M2013*Invulblad!Q2013,0)","v":0},null,null,null,null,null,{"$f":"IF(Invulblad!P2013=\"Nee\",Invulblad!M2013,0)","v":0}]
[{"$f":"IF(Invulblad!P2014=\"Ja\",Invulblad!M2014*Invulblad!Q2014,0)","v":0},null,null,null,null,null,{"$f":"IF(Invulblad!P2014=\"Nee\",Invulblad!M2014,0)","v":0}]
[{"$f":"IF(Invulblad!P2015=\"Ja\",Invulblad!M2015*Invulblad!Q2015,0)","v":0},null,null,null,null,null,{"$f":"IF(Invulblad!P2015=\"Nee\",Invulblad!M2015,0)","v":0}]
[{"$f":"IF(Invulblad!P2016=\"Ja\",Invulblad!M2016*Invulblad!Q2016,0)","v":0},null,null,null,null,null,{"$f":"IF(Invulblad!P2016=\"Nee\",Invulblad!M2016,0)","v":0}]
[{"$f":"IF(Invulblad!P2017=\"Ja\",Invulblad!M2017*Invulblad!Q2017,0)","v":0},null,null,null,null,null,{"$f":"IF(Invulblad!P2017=\"Nee\",Invulblad!M2017,0)","v":0}]
[{"$f":"IF(Invulblad!P2018=\"Ja\",Invulblad!M2018*Invulblad!Q2018,0)","v":0},null,null,null,null,null,{"$f":"IF(Invulblad!P2018=\"Nee\",Invulblad!M2018,0)","v":0}]
[{"$f":"IF(Invulblad!P2019=\"Ja\",Invulblad!M2019*Invulblad!Q2019,0)","v":0},null,null,null,null,null,{"$f":"IF(Invulblad!P2019=\"Nee\",Invulblad!M2019,0)","v":0}]
[{"$f":"IF(Invulblad!P2020=\"Ja\",Invulblad!M2020*Invulblad!Q2020,0)","v":0},null,null,null,null,null,{"$f":"IF(Invulblad!P2020=\"Nee\",Invulblad!M2020,0)","v":0}]
[{"$f":"IF(Invulblad!P2021=\"Ja\",Invulblad!M2021*Invulblad!Q2021,0)","v":0},null,null,null,null,null,{"$f":"IF(Invulblad!P2021=\"Nee\",Invulblad!M2021,0)","v":0}]